Workbook

Sheet Dashboard Generale
A1: ID | B1: Nome Giocatore (Rinomina anche il Tab) | C1: Stato ACWR Ultimo Giorno Inserito
A2: 1 | B2: Marco Rossi | C2: ='Marco Rossi'!H302 -> 1.023569
A3: 2 | B3: Luca Bianchi | C3: ='Luca Bianchi'!H302 -> 1.0555556
A4: 3 | B4: Alessandro Verdi | C4: ='Alessandro Verdi'!H302 -> 0.98983051
A5: 4 | B5: Francesco Neri | C5: ='Francesco Neri'!H302 -> 0.99649123
A6: 5 | B6: Matteo Gialli | C6: ='Matteo Gialli'!H302 -> 1.0972222
A7: 6 | B7: Giocatore 6 | C7: ='Giocatore 6'!H302 -> #N/A
A8: 7 | B8: Giocatore 7 | C8: ='Giocatore 7'!H302 -> #N/A
A9: 8 | B9: Giocatore 8 | C9: ='Giocatore 8'!H302 -> #N/A
A10: 9 | B10: Giocatore 9 | C10: ='Giocatore 9'!H302 -> #N/A
A11: 10 | B11: Giocatore 10 | C11: ='Giocatore 10'!H302 -> #N/A
A12: 11 | B12: Giocatore 11 | C12: ='Giocatore 11'!H302 -> #N/A
A13: 12 | B13: Giocatore 12 | C13: ='Giocatore 12'!H302 -> #N/A
A14: 13 | B14: Giocatore 13 | C14: ='Giocatore 13'!H302 -> #N/A
A15: 14 | B15: Giocatore 14 | C15: ='Giocatore 14'!H302 -> #N/A
A16: 15 | B16: Giocatore 15 | C16: ='Giocatore 15'!H302 -> #N/A
A17: 16 | B17: Giocatore 16 | C17: ='Giocatore 16'!H302 -> #N/A
A18: 17 | B18: Giocatore 17 | C18: ='Giocatore 17'!H302 -> #N/A
A19: 18 | B19: Giocatore 18 | C19: ='Giocatore 18'!H302 -> #N/A
A20: 19 | B20: Giocatore 19 | C20: ='Giocatore 19'!H302 -> #N/A
A21: 20 | B21: Giocatore 20 | C21: ='Giocatore 20'!H302 -> #N/A
A22: 21 | B22: Giocatore 21 | C22: ='Giocatore 21'!H302 -> #N/A
A23: 22 | B23: Giocatore 22 | C23: ='Giocatore 22'!H302 -> #N/A
A24: 23 | B24: Giocatore 23 | C24: ='Giocatore 23'!H302 -> #N/A
A25: 24 | B25: Giocatore 24 | C25: ='Giocatore 24'!H302 -> #N/A

Sheet Marco Rossi
A1: Giorno Progressivo | B1: Data (Opzionale) | C1: RPE (1-10) | D1: Durata (min) | E1: Session RPE (UA) | F1: Carico Acuto (Media 7g) | G1: Carico Cronico (Media 28g) | H1: ACWR
A2: 1 | E2: =IF(C2="",0,C2*D2) -> 0 | F2: =AVERAGE(E2:E2) -> 0 | G2: =AVERAGE(E2:E2) -> 0 | H2: =IFERROR(F2/G2, 0) -> 0
A3: 2 | C3: 7 | D3: 90 | E3: =IF(C3="",0,C3*D3) -> 630 | F3: =AVERAGE(E2:E3) -> 315 | G3: =AVERAGE(E2:E3) -> 315 | H3: =IFERROR(F3/G3, 0) -> 1
A4: 3 | E4: =IF(C4="",0,C4*D4) -> 0 | F4: =AVERAGE(E2:E4) -> 210 | G4: =AVERAGE(E2:E4) -> 210 | H4: =IFERROR(F4/G4, 0) -> 1
A5: 4 | C5: 6 | D5: 90 | E5: =IF(C5="",0,C5*D5) -> 540 | F5: =AVERAGE(E2:E5) -> 292.5 | G5: =AVERAGE(E2:E5) -> 292.5 | H5: =IFERROR(F5/G5, 0) -> 1
A6: 5 | C6: 4 | D6: 60 | E6: =IF(C6="",0,C6*D6) -> 240 | F6: =AVERAGE(E2:E6) -> 282 | G6: =AVERAGE(E2:E6) -> 282 | H6: =IFERROR(F6/G6, 0) -> 1
A7: 6 | E7: =IF(C7="",0,C7*D7) -> 0 | F7: =AVERAGE(E2:E7) -> 235 | G7: =AVERAGE(E2:E7) -> 235 | H7: =IFERROR(F7/G7, 0) -> 1
A8: 7 | C8: 8 | D8: 90 | E8: =IF(C8="",0,C8*D8) -> 720 | F8: =AVERAGE(E2:E8) -> 304.28571 | G8: =AVERAGE(E2:E8) -> 304.28571 | H8: =IFERROR(F8/G8, 0) -> 1
A9: 8 | E9: =IF(C9="",0,C9*D9) -> 0 | F9: =AVERAGE(E3:E9) -> 304.28571 | G9: =AVERAGE(E2:E9) -> 266.25 | H9: =IFERROR(F9/G9, 0) -> 1.1428571
A10: 9 | C10: 6 | D10: 90 | E10: =IF(C10="",0,C10*D10) -> 540 | F10: =AVERAGE(E4:E10) -> 291.42857 | G10: =AVERAGE(E2:E10) -> 296.66667 | H10: =IFERROR(F10/G10, 0) -> 0.9823435
A11: 10 | E11: =IF(C11="",0,C11*D11) -> 0 | F11: =AVERAGE(E5:E11) -> 291.42857 | G11: =AVERAGE(E2:E11) -> 267 | H11: =IFERROR(F11/G11, 0) -> 1.0914928
A12: 11 | C12: 5 | D12: 90 | E12: =IF(C12="",0,C12*D12) -> 450 | F12: =AVERAGE(E6:E12) -> 278.57143 | G12: =AVERAGE(E2:E12) -> 283.63636 | H12: =IFERROR(F12/G12, 0) -> 0.98214286
A13: 12 | C13: 4 | D13: 60 | E13: =IF(C13="",0,C13*D13) -> 240 | F13: =AVERAGE(E7:E13) -> 278.57143 | G13: =AVERAGE(E2:E13) -> 280 | H13: =IFERROR(F13/G13, 0) -> 0.99489796
A14: 13 | E14: =IF(C14="",0,C14*D14) -> 0 | F14: =AVERAGE(E8:E14) -> 278.57143 | G14: =AVERAGE(E2:E14) -> 258.46154 | H14: =IFERROR(F14/G14, 0) -> 1.0778061
A15: 14 | C15: 8 | D15: 90 | E15: =IF(C15="",0,C15*D15) -> 720 | F15: =AVERAGE(E9:E15) -> 278.57143 | G15: =AVERAGE(E2:E15) -> 291.42857 | H15: =IFERROR(F15/G15, 0) -> 0.95588235
A16: 15 | E16: =IF(C16="",0,C16*D16) -> 0 | F16: =AVERAGE(E10:E16) -> 278.57143 | G16: =AVERAGE(E2:E16) -> 272 | H16: =IFERROR(F16/G16, 0) -> 1.0241597
A17: 16 | C17: 7 | D17: 90 | E17: =IF(C17="",0,C17*D17) -> 630 | F17: =AVERAGE(E11:E17) -> 291.42857 | G17: =AVERAGE(E2:E17) -> 294.375 | H17: =IFERROR(F17/G17, 0) -> 0.9899909
A18: 17 | E18: =IF(C18="",0,C18*D18) -> 0 | F18: =AVERAGE(E12:E18) -> 291.42857 | G18: =AVERAGE(E2:E18) -> 277.05882 | H18: =IFERROR(F18/G18, 0) -> 1.0518653
A19: 18 | C19: 7 | D19: 90 | E19: =IF(C19="",0,C19*D19) -> 630 | F19: =AVERAGE(E13:E19) -> 317.14286 | G19: =AVERAGE(E2:E19) -> 296.66667 | H19: =IFERROR(F19/G19, 0) -> 1.0690209
A20: 19 | C20: 5 | D20: 60 | E20: =IF(C20="",0,C20*D20) -> 300 | F20: =AVERAGE(E14:E20) -> 325.71429 | G20: =AVERAGE(E2:E20) -> 296.84211 | H20: =IFERROR(F20/G20, 0) -> 1.0972644
A21: 20 | E21: =IF(C21="",0,C21*D21) -> 0 | F21: =AVERAGE(E15:E21) -> 325.71429 | G21: =AVERAGE(E2:E21) -> 282 | H21: =IFERROR(F21/G21, 0) -> 1.1550152
A22: 21 | C22: 8 | D22: 90 | E22: =IF(C22="",0,C22*D22) -> 720 | F22: =AVERAGE(E16:E22) -> 325.71429 | G22: =AVERAGE(E2:E22) -> 302.85714 | H22: =IFERROR(F22/G22, 0) -> 1.0754717
A23: 22 | E23: =IF(C23="",0,C23*D23) -> 0 | F23: =AVERAGE(E17:E23) -> 325.71429 | G23: =AVERAGE(E2:E23) -> 289.09091 | H23: =IFERROR(F23/G23, 0) -> 1.1266846
A24: 23 | C24: 8 | D24: 90 | E24: =IF(C24="",0,C24*D24) -> 720 | F24: =AVERAGE(E18:E24) -> 338.57143 | G24: =AVERAGE(E2:E24) -> 307.82609 | H24: =IFERROR(F24/G24, 0) -> 1.0998789
A25: 24 | E25: =IF(C25="",0,C25*D25) -> 0 | F25: =AVERAGE(E19:E25) -> 338.57143 | G25: =AVERAGE(E2:E25) -> 295 | H25: =IFERROR(F25/G25, 0) -> 1.1476998
A26: 25 | C26: 6 | D26: 90 | E26: =IF(C26="",0,C26*D26) -> 540 | F26: =AVERAGE(E20:E26) -> 325.71429 | G26: =AVERAGE(E2:E26) -> 304.8 | H26: =IFERROR(F26/G26, 0) -> 1.0686164
A27: 26 | C27: 4 | D27: 60 | E27: =IF(C27="",0,C27*D27) -> 240 | F27: =AVERAGE(E21:E27) -> 317.14286 | G27: =AVERAGE(E2:E27) -> 302.30769 | H27: =IFERROR(F27/G27, 0) -> 1.0490731
A28: 27 | E28: =IF(C28="",0,C28*D28) -> 0 | F28: =AVERAGE(E22:E28) -> 317.14286 | G28: =AVERAGE(E2:E28) -> 291.11111 | H28: =IFERROR(F28/G28, 0) -> 1.089422
A29: 28 | C29: 9 | D29: 90 | E29: =IF(C29="",0,C29*D29) -> 810 | F29: =AVERAGE(E23:E29) -> 330 | G29: =AVERAGE(E2:E29) -> 309.64286 | H29: =IFERROR(F29/G29, 0) -> 1.0657439
A30: 29 | E30: =IF(C30="",0,C30*D30) -> 0 | F30: =AVERAGE(E24:E30) -> 330 | G30: =AVERAGE(E3:E30) -> 309.64286 | H30: =IFERROR(F30/G30, 0) -> 1.0657439
A31: 30 | C31: 8 | D31: 90 | E31: =IF(C31="",0,C31*D31) -> 720 | F31: =AVERAGE(E25:E31) -> 330 | G31: =AVERAGE(E4:E31) -> 312.85714 | H31: =IFERROR(F31/G31, 0) -> 1.0547945
A32: 31 | E32: =IF(C32="",0,C32*D32) -> 0 | F32: =AVERAGE(E26:E32) -> 330 | G32: =AVERAGE(E5:E32) -> 312.85714 | H32: =IFERROR(F32/G32, 0) -> 1.0547945
A33: 32 | C33: 7 | D33: 90 | E33: =IF(C33="",0,C33*D33) -> 630 | F33: =AVERAGE(E27:E33) -> 342.85714 | G33: =AVERAGE(E6:E33) -> 316.07143 | H33: =IFERROR(F33/G33, 0) -> 1.0847458
A34: 33 | C34: 4 | D34: 60 | E34: =IF(C34="",0,C34*D34) -> 240 | F34: =AVERAGE(E28:E34) -> 342.85714 | G34: =AVERAGE(E7:E34) -> 316.07143 | H34: =IFERROR(F34/G34, 0) -> 1.0847458
A35: 34 | E35: =IF(C35="",0,C35*D35) -> 0 | F35: =AVERAGE(E29:E35) -> 342.85714 | G35: =AVERAGE(E8:E35) -> 316.07143 | H35: =IFERROR(F35/G35, 0) -> 1.0847458
A36: 35 | C36: 9 | D36: 90 | E36: =IF(C36="",0,C36*D36) -> 810 | F36: =AVERAGE(E30:E36) -> 342.85714 | G36: =AVERAGE(E9:E36) -> 319.28571 | H36: =IFERROR(F36/G36, 0) -> 1.0738255
A37: 36 | E37: =IF(C37="",0,C37*D37) -> 0 | F37: =AVERAGE(E31:E37) -> 342.85714 | G37: =AVERAGE(E10:E37) -> 319.28571 | H37: =IFERROR(F37/G37, 0) -> 1.0738255
A38: 37 | C38: 7 | D38: 90 | E38: =IF(C38="",0,C38*D38) -> 630 | F38: =AVERAGE(E32:E38) -> 330 | G38: =AVERAGE(E11:E38) -> 322.5 | H38: =IFERROR(F38/G38, 0) -> 1.0232558
A39: 38 | E39: =IF(C39="",0,C39*D39) -> 0 | F39: =AVERAGE(E33:E39) -> 330 | G39: =AVERAGE(E12:E39) -> 322.5 | H39: =IFERROR(F39/G39, 0) -> 1.0232558
A40: 39 | C40: 7 | D40: 90 | E40: =IF(C40="",0,C40*D40) -> 630 | F40: =AVERAGE(E34:E40) -> 330 | G40: =AVERAGE(E13:E40) -> 328.92857 | H40: =IFERROR(F40/G40, 0) -> 1.0032573
...

Sheet Luca Bianchi
A1: Giorno Progressivo | B1: Data (Opzionale) | C1: RPE (1-10) | D1: Durata (min) | E1: Session RPE (UA) | F1: Carico Acuto (Media 7g) | G1: Carico Cronico (Media 28g) | H1: ACWR
A2: 1 | E2: =IF(C2="",0,C2*D2) -> 0 | F2: =AVERAGE(E2:E2) -> 0 | G2: =AVERAGE(E2:E2) -> 0 | H2: =IFERROR(F2/G2, 0) -> 0
A3: 2 | C3: 6 | D3: 90 | E3: =IF(C3="",0,C3*D3) -> 540 | F3: =AVERAGE(E2:E3) -> 270 | G3: =AVERAGE(E2:E3) -> 270 | H3: =IFERROR(F3/G3, 0) -> 1
A4: 3 | E4: =IF(C4="",0,C4*D4) -> 0 | F4: =AVERAGE(E2:E4) -> 180 | G4: =AVERAGE(E2:E4) -> 180 | H4: =IFERROR(F4/G4, 0) -> 1
A5: 4 | C5: 7 | D5: 90 | E5: =IF(C5="",0,C5*D5) -> 630 | F5: =AVERAGE(E2:E5) -> 292.5 | G5: =AVERAGE(E2:E5) -> 292.5 | H5: =IFERROR(F5/G5, 0) -> 1
A6: 5 | C6: 5 | D6: 60 | E6: =IF(C6="",0,C6*D6) -> 300 | F6: =AVERAGE(E2:E6) -> 294 | G6: =AVERAGE(E2:E6) -> 294 | H6: =IFERROR(F6/G6, 0) -> 1
A7: 6 | E7: =IF(C7="",0,C7*D7) -> 0 | F7: =AVERAGE(E2:E7) -> 245 | G7: =AVERAGE(E2:E7) -> 245 | H7: =IFERROR(F7/G7, 0) -> 1
A8: 7 | C8: 8 | D8: 90 | E8: =IF(C8="",0,C8*D8) -> 720 | F8: =AVERAGE(E2:E8) -> 312.85714 | G8: =AVERAGE(E2:E8) -> 312.85714 | H8: =IFERROR(F8/G8, 0) -> 1
A9: 8 | E9: =IF(C9="",0,C9*D9) -> 0 | F9: =AVERAGE(E3:E9) -> 312.85714 | G9: =AVERAGE(E2:E9) -> 273.75 | H9: =IFERROR(F9/G9, 0) -> 1.1428571
A10: 9 | C10: 8 | D10: 90 | E10: =IF(C10="",0,C10*D10) -> 720 | F10: =AVERAGE(E4:E10) -> 338.57143 | G10: =AVERAGE(E2:E10) -> 323.33333 | H10: =IFERROR(F10/G10, 0) -> 1.0471281
A11: 10 | E11: =IF(C11="",0,C11*D11) -> 0 | F11: =AVERAGE(E5:E11) -> 338.57143 | G11: =AVERAGE(E2:E11) -> 291 | H11: =IFERROR(F11/G11, 0) -> 1.1634757
A12: 11 | C12: 7 | D12: 90 | E12: =IF(C12="",0,C12*D12) -> 630 | F12: =AVERAGE(E6:E12) -> 338.57143 | G12: =AVERAGE(E2:E12) -> 321.81818 | H12: =IFERROR(F12/G12, 0) -> 1.0520581
A13: 12 | C13: 5 | D13: 60 | E13: =IF(C13="",0,C13*D13) -> 300 | F13: =AVERAGE(E7:E13) -> 338.57143 | G13: =AVERAGE(E2:E13) -> 320 | H13: =IFERROR(F13/G13, 0) -> 1.0580357
A14: 13 | E14: =IF(C14="",0,C14*D14) -> 0 | F14: =AVERAGE(E8:E14) -> 338.57143 | G14: =AVERAGE(E2:E14) -> 295.38462 | H14: =IFERROR(F14/G14, 0) -> 1.1462054
A15: 14 | C15: 9 | D15: 90 | E15: =IF(C15="",0,C15*D15) -> 810 | F15: =AVERAGE(E9:E15) -> 351.42857 | G15: =AVERAGE(E2:E15) -> 332.14286 | H15: =IFERROR(F15/G15, 0) -> 1.0580645
A16: 15 | E16: =IF(C16="",0,C16*D16) -> 0 | F16: =AVERAGE(E10:E16) -> 351.42857 | G16: =AVERAGE(E2:E16) -> 310 | H16: =IFERROR(F16/G16, 0) -> 1.1336406
A17: 16 | C17: 6 | D17: 90 | E17: =IF(C17="",0,C17*D17) -> 540 | F17: =AVERAGE(E11:E17) -> 325.71429 | G17: =AVERAGE(E2:E17) -> 324.375 | H17: =IFERROR(F17/G17, 0) -> 1.0041288
A18: 17 | E18: =IF(C18="",0,C18*D18) -> 0 | F18: =AVERAGE(E12:E18) -> 325.71429 | G18: =AVERAGE(E2:E18) -> 305.29412 | H18: =IFERROR(F18/G18, 0) -> 1.0668869
A19: 18 | C19: 7 | D19: 90 | E19: =IF(C19="",0,C19*D19) -> 630 | F19: =AVERAGE(E13:E19) -> 325.71429 | G19: =AVERAGE(E2:E19) -> 323.33333 | H19: =IFERROR(F19/G19, 0) -> 1.0073638
A20: 19 | C20: 5 | D20: 60 | E20: =IF(C20="",0,C20*D20) -> 300 | F20: =AVERAGE(E14:E20) -> 325.71429 | G20: =AVERAGE(E2:E20) -> 322.10526 | H20: =IFERROR(F20/G20, 0) -> 1.0112045
A21: 20 | E21: =IF(C21="",0,C21*D21) -> 0 | F21: =AVERAGE(E15:E21) -> 325.71429 | G21: =AVERAGE(E2:E21) -> 306 | H21: =IFERROR(F21/G21, 0) -> 1.0644258
A22: 21 | C22: 8 | D22: 90 | E22: =IF(C22="",0,C22*D22) -> 720 | F22: =AVERAGE(E16:E22) -> 312.85714 | G22: =AVERAGE(E2:E22) -> 325.71429 | H22: =IFERROR(F22/G22, 0) -> 0.96052632
A23: 22 | E23: =IF(C23="",0,C23*D23) -> 0 | F23: =AVERAGE(E17:E23) -> 312.85714 | G23: =AVERAGE(E2:E23) -> 310.90909 | H23: =IFERROR(F23/G23, 0) -> 1.0062657
A24: 23 | C24: 7 | D24: 90 | E24: =IF(C24="",0,C24*D24) -> 630 | F24: =AVERAGE(E18:E24) -> 325.71429 | G24: =AVERAGE(E2:E24) -> 324.78261 | H24: =IFERROR(F24/G24, 0) -> 1.0028686
A25: 24 | E25: =IF(C25="",0,C25*D25) -> 0 | F25: =AVERAGE(E19:E25) -> 325.71429 | G25: =AVERAGE(E2:E25) -> 311.25 | H25: =IFERROR(F25/G25, 0) -> 1.0464716
A26: 25 | C26: 5 | D26: 90 | E26: =IF(C26="",0,C26*D26) -> 450 | F26: =AVERAGE(E20:E26) -> 300 | G26: =AVERAGE(E2:E26) -> 316.8 | H26: =IFERROR(F26/G26, 0) -> 0.9469697
A27: 26 | C27: 5 | D27: 60 | E27: =IF(C27="",0,C27*D27) -> 300 | F27: =AVERAGE(E21:E27) -> 300 | G27: =AVERAGE(E2:E27) -> 316.15385 | H27: =IFERROR(F27/G27, 0) -> 0.94890511
A28: 27 | E28: =IF(C28="",0,C28*D28) -> 0 | F28: =AVERAGE(E22:E28) -> 300 | G28: =AVERAGE(E2:E28) -> 304.44444 | H28: =IFERROR(F28/G28, 0) -> 0.98540146
A29: 28 | C29: 8 | D29: 90 | E29: =IF(C29="",0,C29*D29) -> 720 | F29: =AVERAGE(E23:E29) -> 300 | G29: =AVERAGE(E2:E29) -> 319.28571 | H29: =IFERROR(F29/G29, 0) -> 0.93959732
A30: 29 | E30: =IF(C30="",0,C30*D30) -> 0 | F30: =AVERAGE(E24:E30) -> 300 | G30: =AVERAGE(E3:E30) -> 319.28571 | H30: =IFERROR(F30/G30, 0) -> 0.93959732
A31: 30 | C31: 8 | D31: 90 | E31: =IF(C31="",0,C31*D31) -> 720 | F31: =AVERAGE(E25:E31) -> 312.85714 | G31: =AVERAGE(E4:E31) -> 325.71429 | H31: =IFERROR(F31/G31, 0) -> 0.96052632
A32: 31 | E32: =IF(C32="",0,C32*D32) -> 0 | F32: =AVERAGE(E26:E32) -> 312.85714 | G32: =AVERAGE(E5:E32) -> 325.71429 | H32: =IFERROR(F32/G32, 0) -> 0.96052632
A33: 32 | C33: 6 | D33: 90 | E33: =IF(C33="",0,C33*D33) -> 540 | F33: =AVERAGE(E27:E33) -> 325.71429 | G33: =AVERAGE(E6:E33) -> 322.5 | H33: =IFERROR(F33/G33, 0) -> 1.0099668
A34: 33 | C34: 5 | D34: 60 | E34: =IF(C34="",0,C34*D34) -> 300 | F34: =AVERAGE(E28:E34) -> 325.71429 | G34: =AVERAGE(E7:E34) -> 322.5 | H34: =IFERROR(F34/G34, 0) -> 1.0099668
A35: 34 | E35: =IF(C35="",0,C35*D35) -> 0 | F35: =AVERAGE(E29:E35) -> 325.71429 | G35: =AVERAGE(E8:E35) -> 322.5 | H35: =IFERROR(F35/G35, 0) -> 1.0099668
A36: 35 | C36: 9 | D36: 90 | E36: =IF(C36="",0,C36*D36) -> 810 | F36: =AVERAGE(E30:E36) -> 338.57143 | G36: =AVERAGE(E9:E36) -> 325.71429 | H36: =IFERROR(F36/G36, 0) -> 1.0394737
A37: 36 | E37: =IF(C37="",0,C37*D37) -> 0 | F37: =AVERAGE(E31:E37) -> 338.57143 | G37: =AVERAGE(E10:E37) -> 325.71429 | H37: =IFERROR(F37/G37, 0) -> 1.0394737
A38: 37 | C38: 7 | D38: 90 | E38: =IF(C38="",0,C38*D38) -> 630 | F38: =AVERAGE(E32:E38) -> 325.71429 | G38: =AVERAGE(E11:E38) -> 322.5 | H38: =IFERROR(F38/G38, 0) -> 1.0099668
A39: 38 | E39: =IF(C39="",0,C39*D39) -> 0 | F39: =AVERAGE(E33:E39) -> 325.71429 | G39: =AVERAGE(E12:E39) -> 322.5 | H39: =IFERROR(F39/G39, 0) -> 1.0099668
A40: 39 | C40: 5 | D40: 90 | E40: =IF(C40="",0,C40*D40) -> 450 | F40: =AVERAGE(E34:E40) -> 312.85714 | G40: =AVERAGE(E13:E40) -> 316.07143 | H40: =IFERROR(F40/G40, 0) -> 0.98983051
...

Sheet Alessandro Verdi
A1: Giorno Progressivo | B1: Data (Opzionale) | C1: RPE (1-10) | D1: Durata (min) | E1: Session RPE (UA) | F1: Carico Acuto (Media 7g) | G1: Carico Cronico (Media 28g) | H1: ACWR
A2: 1 | E2: =IF(C2="",0,C2*D2) -> 0 | F2: =AVERAGE(E2:E2) -> 0 | G2: =AVERAGE(E2:E2) -> 0 | H2: =IFERROR(F2/G2, 0) -> 0
A3: 2 | C3: 8 | D3: 90 | E3: =IF(C3="",0,C3*D3) -> 720 | F3: =AVERAGE(E2:E3) -> 360 | G3: =AVERAGE(E2:E3) -> 360 | H3: =IFERROR(F3/G3, 0) -> 1
A4: 3 | E4: =IF(C4="",0,C4*D4) -> 0 | F4: =AVERAGE(E2:E4) -> 240 | G4: =AVERAGE(E2:E4) -> 240 | H4: =IFERROR(F4/G4, 0) -> 1
A5: 4 | C5: 6 | D5: 90 | E5: =IF(C5="",0,C5*D5) -> 540 | F5: =AVERAGE(E2:E5) -> 315 | G5: =AVERAGE(E2:E5) -> 315 | H5: =IFERROR(F5/G5, 0) -> 1
A6: 5 | C6: 5 | D6: 60 | E6: =IF(C6="",0,C6*D6) -> 300 | F6: =AVERAGE(E2:E6) -> 312 | G6: =AVERAGE(E2:E6) -> 312 | H6: =IFERROR(F6/G6, 0) -> 1
A7: 6 | E7: =IF(C7="",0,C7*D7) -> 0 | F7: =AVERAGE(E2:E7) -> 260 | G7: =AVERAGE(E2:E7) -> 260 | H7: =IFERROR(F7/G7, 0) -> 1
A8: 7 | C8: 8 | D8: 90 | E8: =IF(C8="",0,C8*D8) -> 720 | F8: =AVERAGE(E2:E8) -> 325.71429 | G8: =AVERAGE(E2:E8) -> 325.71429 | H8: =IFERROR(F8/G8, 0) -> 1
A9: 8 | E9: =IF(C9="",0,C9*D9) -> 0 | F9: =AVERAGE(E3:E9) -> 325.71429 | G9: =AVERAGE(E2:E9) -> 285 | H9: =IFERROR(F9/G9, 0) -> 1.1428571
A10: 9 | C10: 8 | D10: 90 | E10: =IF(C10="",0,C10*D10) -> 720 | F10: =AVERAGE(E4:E10) -> 325.71429 | G10: =AVERAGE(E2:E10) -> 333.33333 | H10: =IFERROR(F10/G10, 0) -> 0.97714286
A11: 10 | E11: =IF(C11="",0,C11*D11) -> 0 | F11: =AVERAGE(E5:E11) -> 325.71429 | G11: =AVERAGE(E2:E11) -> 300 | H11: =IFERROR(F11/G11, 0) -> 1.0857143
A12: 11 | C12: 6 | D12: 90 | E12: =IF(C12="",0,C12*D12) -> 540 | F12: =AVERAGE(E6:E12) -> 325.71429 | G12: =AVERAGE(E2:E12) -> 321.81818 | H12: =IFERROR(F12/G12, 0) -> 1.0121065
A13: 12 | C13: 4 | D13: 60 | E13: =IF(C13="",0,C13*D13) -> 240 | F13: =AVERAGE(E7:E13) -> 317.14286 | G13: =AVERAGE(E2:E13) -> 315 | H13: =IFERROR(F13/G13, 0) -> 1.0068027
A14: 13 | E14: =IF(C14="",0,C14*D14) -> 0 | F14: =AVERAGE(E8:E14) -> 317.14286 | G14: =AVERAGE(E2:E14) -> 290.76923 | H14: =IFERROR(F14/G14, 0) -> 1.0907029
A15: 14 | C15: 8 | D15: 90 | E15: =IF(C15="",0,C15*D15) -> 720 | F15: =AVERAGE(E9:E15) -> 317.14286 | G15: =AVERAGE(E2:E15) -> 321.42857 | H15: =IFERROR(F15/G15, 0) -> 0.98666667
A16: 15 | E16: =IF(C16="",0,C16*D16) -> 0 | F16: =AVERAGE(E10:E16) -> 317.14286 | G16: =AVERAGE(E2:E16) -> 300 | H16: =IFERROR(F16/G16, 0) -> 1.0571429
A17: 16 | C17: 6 | D17: 90 | E17: =IF(C17="",0,C17*D17) -> 540 | F17: =AVERAGE(E11:E17) -> 291.42857 | G17: =AVERAGE(E2:E17) -> 315 | H17: =IFERROR(F17/G17, 0) -> 0.92517007
A18: 17 | E18: =IF(C18="",0,C18*D18) -> 0 | F18: =AVERAGE(E12:E18) -> 291.42857 | G18: =AVERAGE(E2:E18) -> 296.47059 | H18: =IFERROR(F18/G18, 0) -> 0.9829932
A19: 18 | C19: 5 | D19: 90 | E19: =IF(C19="",0,C19*D19) -> 450 | F19: =AVERAGE(E13:E19) -> 278.57143 | G19: =AVERAGE(E2:E19) -> 305 | H19: =IFERROR(F19/G19, 0) -> 0.91334895
A20: 19 | C20: 4 | D20: 60 | E20: =IF(C20="",0,C20*D20) -> 240 | F20: =AVERAGE(E14:E20) -> 278.57143 | G20: =AVERAGE(E2:E20) -> 301.57895 | H20: =IFERROR(F20/G20, 0) -> 0.9237098
A21: 20 | E21: =IF(C21="",0,C21*D21) -> 0 | F21: =AVERAGE(E15:E21) -> 278.57143 | G21: =AVERAGE(E2:E21) -> 286.5 | H21: =IFERROR(F21/G21, 0) -> 0.9723261
A22: 21 | C22: 9 | D22: 90 | E22: =IF(C22="",0,C22*D22) -> 810 | F22: =AVERAGE(E16:E22) -> 291.42857 | G22: =AVERAGE(E2:E22) -> 311.42857 | H22: =IFERROR(F22/G22, 0) -> 0.93577982
A23: 22 | E23: =IF(C23="",0,C23*D23) -> 0 | F23: =AVERAGE(E17:E23) -> 291.42857 | G23: =AVERAGE(E2:E23) -> 297.27273 | H23: =IFERROR(F23/G23, 0) -> 0.98034076
A24: 23 | C24: 7 | D24: 90 | E24: =IF(C24="",0,C24*D24) -> 630 | F24: =AVERAGE(E18:E24) -> 304.28571 | G24: =AVERAGE(E2:E24) -> 311.73913 | H24: =IFERROR(F24/G24, 0) -> 0.97609085
A25: 24 | E25: =IF(C25="",0,C25*D25) -> 0 | F25: =AVERAGE(E19:E25) -> 304.28571 | G25: =AVERAGE(E2:E25) -> 298.75 | H25: =IFERROR(F25/G25, 0) -> 1.0185296
A26: 25 | C26: 6 | D26: 90 | E26: =IF(C26="",0,C26*D26) -> 540 | F26: =AVERAGE(E20:E26) -> 317.14286 | G26: =AVERAGE(E2:E26) -> 308.4 | H26: =IFERROR(F26/G26, 0) -> 1.0283491
A27: 26 | C27: 5 | D27: 60 | E27: =IF(C27="",0,C27*D27) -> 300 | F27: =AVERAGE(E21:E27) -> 325.71429 | G27: =AVERAGE(E2:E27) -> 308.07692 | H27: =IFERROR(F27/G27, 0) -> 1.0572499
A28: 27 | E28: =IF(C28="",0,C28*D28) -> 0 | F28: =AVERAGE(E22:E28) -> 325.71429 | G28: =AVERAGE(E2:E28) -> 296.66667 | H28: =IFERROR(F28/G28, 0) -> 1.0979133
A29: 28 | C29: 9 | D29: 90 | E29: =IF(C29="",0,C29*D29) -> 810 | F29: =AVERAGE(E23:E29) -> 325.71429 | G29: =AVERAGE(E2:E29) -> 315 | H29: =IFERROR(F29/G29, 0) -> 1.0340136
A30: 29 | E30: =IF(C30="",0,C30*D30) -> 0 | F30: =AVERAGE(E24:E30) -> 325.71429 | G30: =AVERAGE(E3:E30) -> 315 | H30: =IFERROR(F30/G30, 0) -> 1.0340136
A31: 30 | C31: 7 | D31: 90 | E31: =IF(C31="",0,C31*D31) -> 630 | F31: =AVERAGE(E25:E31) -> 325.71429 | G31: =AVERAGE(E4:E31) -> 311.78571 | H31: =IFERROR(F31/G31, 0) -> 1.0446735
A32: 31 | E32: =IF(C32="",0,C32*D32) -> 0 | F32: =AVERAGE(E26:E32) -> 325.71429 | G32: =AVERAGE(E5:E32) -> 311.78571 | H32: =IFERROR(F32/G32, 0) -> 1.0446735
A33: 32 | C33: 6 | D33: 90 | E33: =IF(C33="",0,C33*D33) -> 540 | F33: =AVERAGE(E27:E33) -> 325.71429 | G33: =AVERAGE(E6:E33) -> 311.78571 | H33: =IFERROR(F33/G33, 0) -> 1.0446735
A34: 33 | C34: 5 | D34: 60 | E34: =IF(C34="",0,C34*D34) -> 300 | F34: =AVERAGE(E28:E34) -> 325.71429 | G34: =AVERAGE(E7:E34) -> 311.78571 | H34: =IFERROR(F34/G34, 0) -> 1.0446735
A35: 34 | E35: =IF(C35="",0,C35*D35) -> 0 | F35: =AVERAGE(E29:E35) -> 325.71429 | G35: =AVERAGE(E8:E35) -> 311.78571 | H35: =IFERROR(F35/G35, 0) -> 1.0446735
A36: 35 | C36: 9 | D36: 90 | E36: =IF(C36="",0,C36*D36) -> 810 | F36: =AVERAGE(E30:E36) -> 325.71429 | G36: =AVERAGE(E9:E36) -> 315 | H36: =IFERROR(F36/G36, 0) -> 1.0340136
A37: 36 | E37: =IF(C37="",0,C37*D37) -> 0 | F37: =AVERAGE(E31:E37) -> 325.71429 | G37: =AVERAGE(E10:E37) -> 315 | H37: =IFERROR(F37/G37, 0) -> 1.0340136
A38: 37 | C38: 8 | D38: 90 | E38: =IF(C38="",0,C38*D38) -> 720 | F38: =AVERAGE(E32:E38) -> 338.57143 | G38: =AVERAGE(E11:E38) -> 315 | H38: =IFERROR(F38/G38, 0) -> 1.0748299
A39: 38 | E39: =IF(C39="",0,C39*D39) -> 0 | F39: =AVERAGE(E33:E39) -> 338.57143 | G39: =AVERAGE(E12:E39) -> 315 | H39: =IFERROR(F39/G39, 0) -> 1.0748299
A40: 39 | C40: 7 | D40: 90 | E40: =IF(C40="",0,C40*D40) -> 630 | F40: =AVERAGE(E34:E40) -> 351.42857 | G40: =AVERAGE(E13:E40) -> 318.21429 | H40: =IFERROR(F40/G40, 0) -> 1.1043771
...

Sheet Francesco Neri
A1: Giorno Progressivo | B1: Data (Opzionale) | C1: RPE (1-10) | D1: Durata (min) | E1: Session RPE (UA) | F1: Carico Acuto (Media 7g) | G1: Carico Cronico (Media 28g) | H1: ACWR
A2: 1 | E2: =IF(C2="",0,C2*D2) -> 0 | F2: =AVERAGE(E2:E2) -> 0 | G2: =AVERAGE(E2:E2) -> 0 | H2: =IFERROR(F2/G2, 0) -> 0
A3: 2 | C3: 6 | D3: 90 | E3: =IF(C3="",0,C3*D3) -> 540 | F3: =AVERAGE(E2:E3) -> 270 | G3: =AVERAGE(E2:E3) -> 270 | H3: =IFERROR(F3/G3, 0) -> 1
A4: 3 | E4: =IF(C4="",0,C4*D4) -> 0 | F4: =AVERAGE(E2:E4) -> 180 | G4: =AVERAGE(E2:E4) -> 180 | H4: =IFERROR(F4/G4, 0) -> 1
A5: 4 | C5: 6 | D5: 90 | E5: =IF(C5="",0,C5*D5) -> 540 | F5: =AVERAGE(E2:E5) -> 270 | G5: =AVERAGE(E2:E5) -> 270 | H5: =IFERROR(F5/G5, 0) -> 1
A6: 5 | C6: 5 | D6: 60 | E6: =IF(C6="",0,C6*D6) -> 300 | F6: =AVERAGE(E2:E6) -> 276 | G6: =AVERAGE(E2:E6) -> 276 | H6: =IFERROR(F6/G6, 0) -> 1
A7: 6 | E7: =IF(C7="",0,C7*D7) -> 0 | F7: =AVERAGE(E2:E7) -> 230 | G7: =AVERAGE(E2:E7) -> 230 | H7: =IFERROR(F7/G7, 0) -> 1
A8: 7 | C8: 8 | D8: 90 | E8: =IF(C8="",0,C8*D8) -> 720 | F8: =AVERAGE(E2:E8) -> 300 | G8: =AVERAGE(E2:E8) -> 300 | H8: =IFERROR(F8/G8, 0) -> 1
A9: 8 | E9: =IF(C9="",0,C9*D9) -> 0 | F9: =AVERAGE(E3:E9) -> 300 | G9: =AVERAGE(E2:E9) -> 262.5 | H9: =IFERROR(F9/G9, 0) -> 1.1428571
A10: 9 | C10: 7 | D10: 90 | E10: =IF(C10="",0,C10*D10) -> 630 | F10: =AVERAGE(E4:E10) -> 312.85714 | G10: =AVERAGE(E2:E10) -> 303.33333 | H10: =IFERROR(F10/G10, 0) -> 1.0313972
A11: 10 | E11: =IF(C11="",0,C11*D11) -> 0 | F11: =AVERAGE(E5:E11) -> 312.85714 | G11: =AVERAGE(E2:E11) -> 273 | H11: =IFERROR(F11/G11, 0) -> 1.1459969
A12: 11 | C12: 6 | D12: 90 | E12: =IF(C12="",0,C12*D12) -> 540 | F12: =AVERAGE(E6:E12) -> 312.85714 | G12: =AVERAGE(E2:E12) -> 297.27273 | H12: =IFERROR(F12/G12, 0) -> 1.0524246
A13: 12 | C13: 4 | D13: 60 | E13: =IF(C13="",0,C13*D13) -> 240 | F13: =AVERAGE(E7:E13) -> 304.28571 | G13: =AVERAGE(E2:E13) -> 292.5 | H13: =IFERROR(F13/G13, 0) -> 1.040293
A14: 13 | E14: =IF(C14="",0,C14*D14) -> 0 | F14: =AVERAGE(E8:E14) -> 304.28571 | G14: =AVERAGE(E2:E14) -> 270 | H14: =IFERROR(F14/G14, 0) -> 1.1269841
A15: 14 | C15: 9 | D15: 90 | E15: =IF(C15="",0,C15*D15) -> 810 | F15: =AVERAGE(E9:E15) -> 317.14286 | G15: =AVERAGE(E2:E15) -> 308.57143 | H15: =IFERROR(F15/G15, 0) -> 1.0277778
A16: 15 | E16: =IF(C16="",0,C16*D16) -> 0 | F16: =AVERAGE(E10:E16) -> 317.14286 | G16: =AVERAGE(E2:E16) -> 288 | H16: =IFERROR(F16/G16, 0) -> 1.1011905
A17: 16 | C17: 8 | D17: 90 | E17: =IF(C17="",0,C17*D17) -> 720 | F17: =AVERAGE(E11:E17) -> 330 | G17: =AVERAGE(E2:E17) -> 315 | H17: =IFERROR(F17/G17, 0) -> 1.047619
A18: 17 | E18: =IF(C18="",0,C18*D18) -> 0 | F18: =AVERAGE(E12:E18) -> 330 | G18: =AVERAGE(E2:E18) -> 296.47059 | H18: =IFERROR(F18/G18, 0) -> 1.1130952
A19: 18 | C19: 6 | D19: 90 | E19: =IF(C19="",0,C19*D19) -> 540 | F19: =AVERAGE(E13:E19) -> 330 | G19: =AVERAGE(E2:E19) -> 310 | H19: =IFERROR(F19/G19, 0) -> 1.0645161
A20: 19 | C20: 5 | D20: 60 | E20: =IF(C20="",0,C20*D20) -> 300 | F20: =AVERAGE(E14:E20) -> 338.57143 | G20: =AVERAGE(E2:E20) -> 309.47368 | H20: =IFERROR(F20/G20, 0) -> 1.0940233
A21: 20 | E21: =IF(C21="",0,C21*D21) -> 0 | F21: =AVERAGE(E15:E21) -> 338.57143 | G21: =AVERAGE(E2:E21) -> 294 | H21: =IFERROR(F21/G21, 0) -> 1.1516035
A22: 21 | C22: 8 | D22: 90 | E22: =IF(C22="",0,C22*D22) -> 720 | F22: =AVERAGE(E16:E22) -> 325.71429 | G22: =AVERAGE(E2:E22) -> 314.28571 | H22: =IFERROR(F22/G22, 0) -> 1.0363636
A23: 22 | E23: =IF(C23="",0,C23*D23) -> 0 | F23: =AVERAGE(E17:E23) -> 325.71429 | G23: =AVERAGE(E2:E23) -> 300 | H23: =IFERROR(F23/G23, 0) -> 1.0857143
A24: 23 | C24: 7 | D24: 90 | E24: =IF(C24="",0,C24*D24) -> 630 | F24: =AVERAGE(E18:E24) -> 312.85714 | G24: =AVERAGE(E2:E24) -> 314.34783 | H24: =IFERROR(F24/G24, 0) -> 0.99525785
A25: 24 | E25: =IF(C25="",0,C25*D25) -> 0 | F25: =AVERAGE(E19:E25) -> 312.85714 | G25: =AVERAGE(E2:E25) -> 301.25 | H25: =IFERROR(F25/G25, 0) -> 1.0385299
A26: 25 | C26: 6 | D26: 90 | E26: =IF(C26="",0,C26*D26) -> 540 | F26: =AVERAGE(E20:E26) -> 312.85714 | G26: =AVERAGE(E2:E26) -> 310.8 | H26: =IFERROR(F26/G26, 0) -> 1.0066189
A27: 26 | C27: 5 | D27: 60 | E27: =IF(C27="",0,C27*D27) -> 300 | F27: =AVERAGE(E21:E27) -> 312.85714 | G27: =AVERAGE(E2:E27) -> 310.38462 | H27: =IFERROR(F27/G27, 0) -> 1.007966
A28: 27 | E28: =IF(C28="",0,C28*D28) -> 0 | F28: =AVERAGE(E22:E28) -> 312.85714 | G28: =AVERAGE(E2:E28) -> 298.88889 | H28: =IFERROR(F28/G28, 0) -> 1.0467339
A29: 28 | C29: 8 | D29: 90 | E29: =IF(C29="",0,C29*D29) -> 720 | F29: =AVERAGE(E23:E29) -> 312.85714 | G29: =AVERAGE(E2:E29) -> 313.92857 | H29: =IFERROR(F29/G29, 0) -> 0.99658703
A30: 29 | E30: =IF(C30="",0,C30*D30) -> 0 | F30: =AVERAGE(E24:E30) -> 312.85714 | G30: =AVERAGE(E3:E30) -> 313.92857 | H30: =IFERROR(F30/G30, 0) -> 0.99658703
A31: 30 | C31: 7 | D31: 90 | E31: =IF(C31="",0,C31*D31) -> 630 | F31: =AVERAGE(E25:E31) -> 312.85714 | G31: =AVERAGE(E4:E31) -> 317.14286 | H31: =IFERROR(F31/G31, 0) -> 0.98648649
A32: 31 | E32: =IF(C32="",0,C32*D32) -> 0 | F32: =AVERAGE(E26:E32) -> 312.85714 | G32: =AVERAGE(E5:E32) -> 317.14286 | H32: =IFERROR(F32/G32, 0) -> 0.98648649
A33: 32 | C33: 6 | D33: 90 | E33: =IF(C33="",0,C33*D33) -> 540 | F33: =AVERAGE(E27:E33) -> 312.85714 | G33: =AVERAGE(E6:E33) -> 317.14286 | H33: =IFERROR(F33/G33, 0) -> 0.98648649
A34: 33 | C34: 5 | D34: 60 | E34: =IF(C34="",0,C34*D34) -> 300 | F34: =AVERAGE(E28:E34) -> 312.85714 | G34: =AVERAGE(E7:E34) -> 317.14286 | H34: =IFERROR(F34/G34, 0) -> 0.98648649
A35: 34 | E35: =IF(C35="",0,C35*D35) -> 0 | F35: =AVERAGE(E29:E35) -> 312.85714 | G35: =AVERAGE(E8:E35) -> 317.14286 | H35: =IFERROR(F35/G35, 0) -> 0.98648649
A36: 35 | C36: 9 | D36: 90 | E36: =IF(C36="",0,C36*D36) -> 810 | F36: =AVERAGE(E30:E36) -> 325.71429 | G36: =AVERAGE(E9:E36) -> 320.35714 | H36: =IFERROR(F36/G36, 0) -> 1.0167224
A37: 36 | E37: =IF(C37="",0,C37*D37) -> 0 | F37: =AVERAGE(E31:E37) -> 325.71429 | G37: =AVERAGE(E10:E37) -> 320.35714 | H37: =IFERROR(F37/G37, 0) -> 1.0167224
A38: 37 | C38: 6 | D38: 90 | E38: =IF(C38="",0,C38*D38) -> 540 | F38: =AVERAGE(E32:E38) -> 312.85714 | G38: =AVERAGE(E11:E38) -> 317.14286 | H38: =IFERROR(F38/G38, 0) -> 0.98648649
A39: 38 | E39: =IF(C39="",0,C39*D39) -> 0 | F39: =AVERAGE(E33:E39) -> 312.85714 | G39: =AVERAGE(E12:E39) -> 317.14286 | H39: =IFERROR(F39/G39, 0) -> 0.98648649
A40: 39 | C40: 7 | D40: 90 | E40: =IF(C40="",0,C40*D40) -> 630 | F40: =AVERAGE(E34:E40) -> 325.71429 | G40: =AVERAGE(E13:E40) -> 320.35714 | H40: =IFERROR(F40/G40, 0) -> 1.0167224
...

Sheet Matteo Gialli
A1: Giorno Progressivo | B1: Data (Opzionale) | C1: RPE (1-10) | D1: Durata (min) | E1: Session RPE (UA) | F1: Carico Acuto (Media 7g) | G1: Carico Cronico (Media 28g) | H1: ACWR
A2: 1 | E2: =IF(C2="",0,C2*D2) -> 0 | F2: =AVERAGE(E2:E2) -> 0 | G2: =AVERAGE(E2:E2) -> 0 | H2: =IFERROR(F2/G2, 0) -> 0
A3: 2 | C3: 8 | D3: 90 | E3: =IF(C3="",0,C3*D3) -> 720 | F3: =AVERAGE(E2:E3) -> 360 | G3: =AVERAGE(E2:E3) -> 360 | H3: =IFERROR(F3/G3, 0) -> 1
A4: 3 | E4: =IF(C4="",0,C4*D4) -> 0 | F4: =AVERAGE(E2:E4) -> 240 | G4: =AVERAGE(E2:E4) -> 240 | H4: =IFERROR(F4/G4, 0) -> 1
A5: 4 | C5: 5 | D5: 90 | E5: =IF(C5="",0,C5*D5) -> 450 | F5: =AVERAGE(E2:E5) -> 292.5 | G5: =AVERAGE(E2:E5) -> 292.5 | H5: =IFERROR(F5/G5, 0) -> 1
A6: 5 | C6: 4 | D6: 60 | E6: =IF(C6="",0,C6*D6) -> 240 | F6: =AVERAGE(E2:E6) -> 282 | G6: =AVERAGE(E2:E6) -> 282 | H6: =IFERROR(F6/G6, 0) -> 1
A7: 6 | E7: =IF(C7="",0,C7*D7) -> 0 | F7: =AVERAGE(E2:E7) -> 235 | G7: =AVERAGE(E2:E7) -> 235 | H7: =IFERROR(F7/G7, 0) -> 1
A8: 7 | C8: 8 | D8: 90 | E8: =IF(C8="",0,C8*D8) -> 720 | F8: =AVERAGE(E2:E8) -> 304.28571 | G8: =AVERAGE(E2:E8) -> 304.28571 | H8: =IFERROR(F8/G8, 0) -> 1
A9: 8 | E9: =IF(C9="",0,C9*D9) -> 0 | F9: =AVERAGE(E3:E9) -> 304.28571 | G9: =AVERAGE(E2:E9) -> 266.25 | H9: =IFERROR(F9/G9, 0) -> 1.1428571
A10: 9 | C10: 8 | D10: 90 | E10: =IF(C10="",0,C10*D10) -> 720 | F10: =AVERAGE(E4:E10) -> 304.28571 | G10: =AVERAGE(E2:E10) -> 316.66667 | H10: =IFERROR(F10/G10, 0) -> 0.96090226
A11: 10 | E11: =IF(C11="",0,C11*D11) -> 0 | F11: =AVERAGE(E5:E11) -> 304.28571 | G11: =AVERAGE(E2:E11) -> 285 | H11: =IFERROR(F11/G11, 0) -> 1.0676692
A12: 11 | C12: 5 | D12: 90 | E12: =IF(C12="",0,C12*D12) -> 450 | F12: =AVERAGE(E6:E12) -> 304.28571 | G12: =AVERAGE(E2:E12) -> 300 | H12: =IFERROR(F12/G12, 0) -> 1.0142857
A13: 12 | C13: 5 | D13: 60 | E13: =IF(C13="",0,C13*D13) -> 300 | F13: =AVERAGE(E7:E13) -> 312.85714 | G13: =AVERAGE(E2:E13) -> 300 | H13: =IFERROR(F13/G13, 0) -> 1.0428571
A14: 13 | E14: =IF(C14="",0,C14*D14) -> 0 | F14: =AVERAGE(E8:E14) -> 312.85714 | G14: =AVERAGE(E2:E14) -> 276.92308 | H14: =IFERROR(F14/G14, 0) -> 1.1297619
A15: 14 | C15: 9 | D15: 90 | E15: =IF(C15="",0,C15*D15) -> 810 | F15: =AVERAGE(E9:E15) -> 325.71429 | G15: =AVERAGE(E2:E15) -> 315 | H15: =IFERROR(F15/G15, 0) -> 1.0340136
A16: 15 | E16: =IF(C16="",0,C16*D16) -> 0 | F16: =AVERAGE(E10:E16) -> 325.71429 | G16: =AVERAGE(E2:E16) -> 294 | H16: =IFERROR(F16/G16, 0) -> 1.1078717
A17: 16 | C17: 7 | D17: 90 | E17: =IF(C17="",0,C17*D17) -> 630 | F17: =AVERAGE(E11:E17) -> 312.85714 | G17: =AVERAGE(E2:E17) -> 315 | H17: =IFERROR(F17/G17, 0) -> 0.99319728
A18: 17 | E18: =IF(C18="",0,C18*D18) -> 0 | F18: =AVERAGE(E12:E18) -> 312.85714 | G18: =AVERAGE(E2:E18) -> 296.47059 | H18: =IFERROR(F18/G18, 0) -> 1.0552721
A19: 18 | C19: 5 | D19: 90 | E19: =IF(C19="",0,C19*D19) -> 450 | F19: =AVERAGE(E13:E19) -> 312.85714 | G19: =AVERAGE(E2:E19) -> 305 | H19: =IFERROR(F19/G19, 0) -> 1.0257611
A20: 19 | C20: 4 | D20: 60 | E20: =IF(C20="",0,C20*D20) -> 240 | F20: =AVERAGE(E14:E20) -> 304.28571 | G20: =AVERAGE(E2:E20) -> 301.57895 | H20: =IFERROR(F20/G20, 0) -> 1.0089753
A21: 20 | E21: =IF(C21="",0,C21*D21) -> 0 | F21: =AVERAGE(E15:E21) -> 304.28571 | G21: =AVERAGE(E2:E21) -> 286.5 | H21: =IFERROR(F21/G21, 0) -> 1.0620793
A22: 21 | C22: 8 | D22: 90 | E22: =IF(C22="",0,C22*D22) -> 720 | F22: =AVERAGE(E16:E22) -> 291.42857 | G22: =AVERAGE(E2:E22) -> 307.14286 | H22: =IFERROR(F22/G22, 0) -> 0.94883721
A23: 22 | E23: =IF(C23="",0,C23*D23) -> 0 | F23: =AVERAGE(E17:E23) -> 291.42857 | G23: =AVERAGE(E2:E23) -> 293.18182 | H23: =IFERROR(F23/G23, 0) -> 0.99401993
A24: 23 | C24: 8 | D24: 90 | E24: =IF(C24="",0,C24*D24) -> 720 | F24: =AVERAGE(E18:E24) -> 304.28571 | G24: =AVERAGE(E2:E24) -> 311.73913 | H24: =IFERROR(F24/G24, 0) -> 0.97609085
A25: 24 | E25: =IF(C25="",0,C25*D25) -> 0 | F25: =AVERAGE(E19:E25) -> 304.28571 | G25: =AVERAGE(E2:E25) -> 298.75 | H25: =IFERROR(F25/G25, 0) -> 1.0185296
A26: 25 | C26: 5 | D26: 90 | E26: =IF(C26="",0,C26*D26) -> 450 | F26: =AVERAGE(E20:E26) -> 304.28571 | G26: =AVERAGE(E2:E26) -> 304.8 | H26: =IFERROR(F26/G26, 0) -> 0.99831271
A27: 26 | C27: 4 | D27: 60 | E27: =IF(C27="",0,C27*D27) -> 240 | F27: =AVERAGE(E21:E27) -> 304.28571 | G27: =AVERAGE(E2:E27) -> 302.30769 | H27: =IFERROR(F27/G27, 0) -> 1.0065431
A28: 27 | E28: =IF(C28="",0,C28*D28) -> 0 | F28: =AVERAGE(E22:E28) -> 304.28571 | G28: =AVERAGE(E2:E28) -> 291.11111 | H28: =IFERROR(F28/G28, 0) -> 1.0452563
A29: 28 | C29: 8 | D29: 90 | E29: =IF(C29="",0,C29*D29) -> 720 | F29: =AVERAGE(E23:E29) -> 304.28571 | G29: =AVERAGE(E2:E29) -> 306.42857 | H29: =IFERROR(F29/G29, 0) -> 0.99300699
A30: 29 | E30: =IF(C30="",0,C30*D30) -> 0 | F30: =AVERAGE(E24:E30) -> 304.28571 | G30: =AVERAGE(E3:E30) -> 306.42857 | H30: =IFERROR(F30/G30, 0) -> 0.99300699
A31: 30 | C31: 6 | D31: 90 | E31: =IF(C31="",0,C31*D31) -> 540 | F31: =AVERAGE(E25:E31) -> 278.57143 | G31: =AVERAGE(E4:E31) -> 300 | H31: =IFERROR(F31/G31, 0) -> 0.92857143
A32: 31 | E32: =IF(C32="",0,C32*D32) -> 0 | F32: =AVERAGE(E26:E32) -> 278.57143 | G32: =AVERAGE(E5:E32) -> 300 | H32: =IFERROR(F32/G32, 0) -> 0.92857143
A33: 32 | C33: 6 | D33: 90 | E33: =IF(C33="",0,C33*D33) -> 540 | F33: =AVERAGE(E27:E33) -> 291.42857 | G33: =AVERAGE(E6:E33) -> 303.21429 | H33: =IFERROR(F33/G33, 0) -> 0.96113074
A34: 33 | C34: 4 | D34: 60 | E34: =IF(C34="",0,C34*D34) -> 240 | F34: =AVERAGE(E28:E34) -> 291.42857 | G34: =AVERAGE(E7:E34) -> 303.21429 | H34: =IFERROR(F34/G34, 0) -> 0.96113074
A35: 34 | E35: =IF(C35="",0,C35*D35) -> 0 | F35: =AVERAGE(E29:E35) -> 291.42857 | G35: =AVERAGE(E8:E35) -> 303.21429 | H35: =IFERROR(F35/G35, 0) -> 0.96113074
A36: 35 | C36: 8 | D36: 90 | E36: =IF(C36="",0,C36*D36) -> 720 | F36: =AVERAGE(E30:E36) -> 291.42857 | G36: =AVERAGE(E9:E36) -> 303.21429 | H36: =IFERROR(F36/G36, 0) -> 0.96113074
A37: 36 | E37: =IF(C37="",0,C37*D37) -> 0 | F37: =AVERAGE(E31:E37) -> 291.42857 | G37: =AVERAGE(E10:E37) -> 303.21429 | H37: =IFERROR(F37/G37, 0) -> 0.96113074
A38: 37 | C38: 8 | D38: 90 | E38: =IF(C38="",0,C38*D38) -> 720 | F38: =AVERAGE(E32:E38) -> 317.14286 | G38: =AVERAGE(E11:E38) -> 303.21429 | H38: =IFERROR(F38/G38, 0) -> 1.0459364
A39: 38 | E39: =IF(C39="",0,C39*D39) -> 0 | F39: =AVERAGE(E33:E39) -> 317.14286 | G39: =AVERAGE(E12:E39) -> 303.21429 | H39: =IFERROR(F39/G39, 0) -> 1.0459364
A40: 39 | C40: 7 | D40: 90 | E40: =IF(C40="",0,C40*D40) -> 630 | F40: =AVERAGE(E34:E40) -> 330 | G40: =AVERAGE(E13:E40) -> 309.64286 | H40: =IFERROR(F40/G40, 0) -> 1.0657439
...

Sheet Giocatore 6
A1: Giorno Progressivo | B1: Data (Opzionale) | C1: RPE (1-10) | D1: Durata (min) | E1: Session RPE (UA) | F1: Carico Acuto (Media 7g) | G1: Carico Cronico (Media 28g) | H1: ACWR
A2: 1 | E2: =IF(C2="",0,C2*D2) -> 0 | F2: =AVERAGE(E2:E2) -> 0 | G2: =AVERAGE(E2:E2) -> 0 | H2: =IFERROR(F2/G2, 0) -> 0
A3: 2 | E3: =IF(C3="",0,C3*D3) -> 0 | F3: =AVERAGE(E2:E3) -> 0 | G3: =AVERAGE(E2:E3) -> 0 | H3: =IFERROR(F3/G3, 0) -> 0
A4: 3 | E4: =IF(C4="",0,C4*D4) -> 0 | F4: =AVERAGE(E2:E4) -> 0 | G4: =AVERAGE(E2:E4) -> 0 | H4: =IFERROR(F4/G4, 0) -> 0
A5: 4 | E5: =IF(C5="",0,C5*D5) -> 0 | F5: =AVERAGE(E2:E5) -> 0 | G5: =AVERAGE(E2:E5) -> 0 | H5: =IFERROR(F5/G5, 0) -> 0
A6: 5 | E6: =IF(C6="",0,C6*D6) -> 0 | F6: =AVERAGE(E2:E6) -> 0 | G6: =AVERAGE(E2:E6) -> 0 | H6: =IFERROR(F6/G6, 0) -> 0
A7: 6 | E7: =IF(C7="",0,C7*D7) -> 0 | F7: =AVERAGE(E2:E7) -> 0 | G7: =AVERAGE(E2:E7) -> 0 | H7: =IFERROR(F7/G7, 0) -> 0
A8: 7 | E8: =IF(C8="",0,C8*D8) -> 0 | F8: =AVERAGE(E2:E8) -> 0 | G8: =AVERAGE(E2:E8) -> 0 | H8: =IFERROR(F8/G8, 0) -> 0
A9: 8 | E9: =IF(C9="",0,C9*D9) -> 0 | F9: =AVERAGE(E3:E9) -> 0 | G9: =AVERAGE(E2:E9) -> 0 | H9: =IFERROR(F9/G9, 0) -> 0
A10: 9 | E10: =IF(C10="",0,C10*D10) -> 0 | F10: =AVERAGE(E4:E10) -> 0 | G10: =AVERAGE(E2:E10) -> 0 | H10: =IFERROR(F10/G10, 0) -> 0
A11: 10 | E11: =IF(C11="",0,C11*D11) -> 0 | F11: =AVERAGE(E5:E11) -> 0 | G11: =AVERAGE(E2:E11) -> 0 | H11: =IFERROR(F11/G11, 0) -> 0
A12: 11 | E12: =IF(C12="",0,C12*D12) -> 0 | F12: =AVERAGE(E6:E12) -> 0 | G12: =AVERAGE(E2:E12) -> 0 | H12: =IFERROR(F12/G12, 0) -> 0
A13: 12 | E13: =IF(C13="",0,C13*D13) -> 0 | F13: =AVERAGE(E7:E13) -> 0 | G13: =AVERAGE(E2:E13) -> 0 | H13: =IFERROR(F13/G13, 0) -> 0
A14: 13 | E14: =IF(C14="",0,C14*D14) -> 0 | F14: =AVERAGE(E8:E14) -> 0 | G14: =AVERAGE(E2:E14) -> 0 | H14: =IFERROR(F14/G14, 0) -> 0
A15: 14 | E15: =IF(C15="",0,C15*D15) -> 0 | F15: =AVERAGE(E9:E15) -> 0 | G15: =AVERAGE(E2:E15) -> 0 | H15: =IFERROR(F15/G15, 0) -> 0
A16: 15 | E16: =IF(C16="",0,C16*D16) -> 0 | F16: =AVERAGE(E10:E16) -> 0 | G16: =AVERAGE(E2:E16) -> 0 | H16: =IFERROR(F16/G16, 0) -> 0
A17: 16 | E17: =IF(C17="",0,C17*D17) -> 0 | F17: =AVERAGE(E11:E17) -> 0 | G17: =AVERAGE(E2:E17) -> 0 | H17: =IFERROR(F17/G17, 0) -> 0
A18: 17 | E18: =IF(C18="",0,C18*D18) -> 0 | F18: =AVERAGE(E12:E18) -> 0 | G18: =AVERAGE(E2:E18) -> 0 | H18: =IFERROR(F18/G18, 0) -> 0
A19: 18 | E19: =IF(C19="",0,C19*D19) -> 0 | F19: =AVERAGE(E13:E19) -> 0 | G19: =AVERAGE(E2:E19) -> 0 | H19: =IFERROR(F19/G19, 0) -> 0
A20: 19 | E20: =IF(C20="",0,C20*D20) -> 0 | F20: =AVERAGE(E14:E20) -> 0 | G20: =AVERAGE(E2:E20) -> 0 | H20: =IFERROR(F20/G20, 0) -> 0
A21: 20 | E21: =IF(C21="",0,C21*D21) -> 0 | F21: =AVERAGE(E15:E21) -> 0 | G21: =AVERAGE(E2:E21) -> 0 | H21: =IFERROR(F21/G21, 0) -> 0
A22: 21 | E22: =IF(C22="",0,C22*D22) -> 0 | F22: =AVERAGE(E16:E22) -> 0 | G22: =AVERAGE(E2:E22) -> 0 | H22: =IFERROR(F22/G22, 0) -> 0
A23: 22 | E23: =IF(C23="",0,C23*D23) -> 0 | F23: =AVERAGE(E17:E23) -> 0 | G23: =AVERAGE(E2:E23) -> 0 | H23: =IFERROR(F23/G23, 0) -> 0
A24: 23 | E24: =IF(C24="",0,C24*D24) -> 0 | F24: =AVERAGE(E18:E24) -> 0 | G24: =AVERAGE(E2:E24) -> 0 | H24: =IFERROR(F24/G24, 0) -> 0
A25: 24 | E25: =IF(C25="",0,C25*D25) -> 0 | F25: =AVERAGE(E19:E25) -> 0 | G25: =AVERAGE(E2:E25) -> 0 | H25: =IFERROR(F25/G25, 0) -> 0
A26: 25 | E26: =IF(C26="",0,C26*D26) -> 0 | F26: =AVERAGE(E20:E26) -> 0 | G26: =AVERAGE(E2:E26) -> 0 | H26: =IFERROR(F26/G26, 0) -> 0
A27: 26 | E27: =IF(C27="",0,C27*D27) -> 0 | F27: =AVERAGE(E21:E27) -> 0 | G27: =AVERAGE(E2:E27) -> 0 | H27: =IFERROR(F27/G27, 0) -> 0
A28: 27 | E28: =IF(C28="",0,C28*D28) -> 0 | F28: =AVERAGE(E22:E28) -> 0 | G28: =AVERAGE(E2:E28) -> 0 | H28: =IFERROR(F28/G28, 0) -> 0
A29: 28 | E29: =IF(C29="",0,C29*D29) -> 0 | F29: =AVERAGE(E23:E29) -> 0 | G29: =AVERAGE(E2:E29) -> 0 | H29: =IFERROR(F29/G29, 0) -> 0
A30: 29 | E30: =IF(C30="",0,C30*D30) -> 0 | F30: =AVERAGE(E24:E30) -> 0 | G30: =AVERAGE(E3:E30) -> 0 | H30: =IFERROR(F30/G30, 0) -> 0
A31: 30 | E31: =IF(C31="",0,C31*D31) -> 0 | F31: =AVERAGE(E25:E31) -> 0 | G31: =AVERAGE(E4:E31) -> 0 | H31: =IFERROR(F31/G31, 0) -> 0
A32: 31 | E32: =IF(C32="",0,C32*D32) -> 0 | F32: =AVERAGE(E26:E32) -> 0 | G32: =AVERAGE(E5:E32) -> 0 | H32: =IFERROR(F32/G32, 0) -> 0
A33: 32 | E33: =IF(C33="",0,C33*D33) -> 0 | F33: =AVERAGE(E27:E33) -> 0 | G33: =AVERAGE(E6:E33) -> 0 | H33: =IFERROR(F33/G33, 0) -> 0
A34: 33 | E34: =IF(C34="",0,C34*D34) -> 0 | F34: =AVERAGE(E28:E34) -> 0 | G34: =AVERAGE(E7:E34) -> 0 | H34: =IFERROR(F34/G34, 0) -> 0
A35: 34 | E35: =IF(C35="",0,C35*D35) -> 0 | F35: =AVERAGE(E29:E35) -> 0 | G35: =AVERAGE(E8:E35) -> 0 | H35: =IFERROR(F35/G35, 0) -> 0
A36: 35 | E36: =IF(C36="",0,C36*D36) -> 0 | F36: =AVERAGE(E30:E36) -> 0 | G36: =AVERAGE(E9:E36) -> 0 | H36: =IFERROR(F36/G36, 0) -> 0
A37: 36 | E37: =IF(C37="",0,C37*D37) -> 0 | F37: =AVERAGE(E31:E37) -> 0 | G37: =AVERAGE(E10:E37) -> 0 | H37: =IFERROR(F37/G37, 0) -> 0
A38: 37 | E38: =IF(C38="",0,C38*D38) -> 0 | F38: =AVERAGE(E32:E38) -> 0 | G38: =AVERAGE(E11:E38) -> 0 | H38: =IFERROR(F38/G38, 0) -> 0
A39: 38 | E39: =IF(C39="",0,C39*D39) -> 0 | F39: =AVERAGE(E33:E39) -> 0 | G39: =AVERAGE(E12:E39) -> 0 | H39: =IFERROR(F39/G39, 0) -> 0
A40: 39 | E40: =IF(C40="",0,C40*D40) -> 0 | F40: =AVERAGE(E34:E40) -> 0 | G40: =AVERAGE(E13:E40) -> 0 | H40: =IFERROR(F40/G40, 0) -> 0
...

Sheet Giocatore 7
A1: Giorno Progressivo | B1: Data (Opzionale) | C1: RPE (1-10) | D1: Durata (min) | E1: Session RPE (UA) | F1: Carico Acuto (Media 7g) | G1: Carico Cronico (Media 28g) | H1: ACWR
A2: 1 | E2: =IF(C2="",0,C2*D2) -> 0 | F2: =AVERAGE(E2:E2) -> 0 | G2: =AVERAGE(E2:E2) -> 0 | H2: =IFERROR(F2/G2, 0) -> 0
A3: 2 | E3: =IF(C3="",0,C3*D3) -> 0 | F3: =AVERAGE(E2:E3) -> 0 | G3: =AVERAGE(E2:E3) -> 0 | H3: =IFERROR(F3/G3, 0) -> 0
A4: 3 | E4: =IF(C4="",0,C4*D4) -> 0 | F4: =AVERAGE(E2:E4) -> 0 | G4: =AVERAGE(E2:E4) -> 0 | H4: =IFERROR(F4/G4, 0) -> 0
A5: 4 | E5: =IF(C5="",0,C5*D5) -> 0 | F5: =AVERAGE(E2:E5) -> 0 | G5: =AVERAGE(E2:E5) -> 0 | H5: =IFERROR(F5/G5, 0) -> 0
A6: 5 | E6: =IF(C6="",0,C6*D6) -> 0 | F6: =AVERAGE(E2:E6) -> 0 | G6: =AVERAGE(E2:E6) -> 0 | H6: =IFERROR(F6/G6, 0) -> 0
A7: 6 | E7: =IF(C7="",0,C7*D7) -> 0 | F7: =AVERAGE(E2:E7) -> 0 | G7: =AVERAGE(E2:E7) -> 0 | H7: =IFERROR(F7/G7, 0) -> 0
A8: 7 | E8: =IF(C8="",0,C8*D8) -> 0 | F8: =AVERAGE(E2:E8) -> 0 | G8: =AVERAGE(E2:E8) -> 0 | H8: =IFERROR(F8/G8, 0) -> 0
A9: 8 | E9: =IF(C9="",0,C9*D9) -> 0 | F9: =AVERAGE(E3:E9) -> 0 | G9: =AVERAGE(E2:E9) -> 0 | H9: =IFERROR(F9/G9, 0) -> 0
A10: 9 | E10: =IF(C10="",0,C10*D10) -> 0 | F10: =AVERAGE(E4:E10) -> 0 | G10: =AVERAGE(E2:E10) -> 0 | H10: =IFERROR(F10/G10, 0) -> 0
A11: 10 | E11: =IF(C11="",0,C11*D11) -> 0 | F11: =AVERAGE(E5:E11) -> 0 | G11: =AVERAGE(E2:E11) -> 0 | H11: =IFERROR(F11/G11, 0) -> 0
A12: 11 | E12: =IF(C12="",0,C12*D12) -> 0 | F12: =AVERAGE(E6:E12) -> 0 | G12: =AVERAGE(E2:E12) -> 0 | H12: =IFERROR(F12/G12, 0) -> 0
A13: 12 | E13: =IF(C13="",0,C13*D13) -> 0 | F13: =AVERAGE(E7:E13) -> 0 | G13: =AVERAGE(E2:E13) -> 0 | H13: =IFERROR(F13/G13, 0) -> 0
A14: 13 | E14: =IF(C14="",0,C14*D14) -> 0 | F14: =AVERAGE(E8:E14) -> 0 | G14: =AVERAGE(E2:E14) -> 0 | H14: =IFERROR(F14/G14, 0) -> 0
A15: 14 | E15: =IF(C15="",0,C15*D15) -> 0 | F15: =AVERAGE(E9:E15) -> 0 | G15: =AVERAGE(E2:E15) -> 0 | H15: =IFERROR(F15/G15, 0) -> 0
A16: 15 | E16: =IF(C16="",0,C16*D16) -> 0 | F16: =AVERAGE(E10:E16) -> 0 | G16: =AVERAGE(E2:E16) -> 0 | H16: =IFERROR(F16/G16, 0) -> 0
A17: 16 | E17: =IF(C17="",0,C17*D17) -> 0 | F17: =AVERAGE(E11:E17) -> 0 | G17: =AVERAGE(E2:E17) -> 0 | H17: =IFERROR(F17/G17, 0) -> 0
A18: 17 | E18: =IF(C18="",0,C18*D18) -> 0 | F18: =AVERAGE(E12:E18) -> 0 | G18: =AVERAGE(E2:E18) -> 0 | H18: =IFERROR(F18/G18, 0) -> 0
A19: 18 | E19: =IF(C19="",0,C19*D19) -> 0 | F19: =AVERAGE(E13:E19) -> 0 | G19: =AVERAGE(E2:E19) -> 0 | H19: =IFERROR(F19/G19, 0) -> 0
A20: 19 | E20: =IF(C20="",0,C20*D20) -> 0 | F20: =AVERAGE(E14:E20) -> 0 | G20: =AVERAGE(E2:E20) -> 0 | H20: =IFERROR(F20/G20, 0) -> 0
A21: 20 | E21: =IF(C21="",0,C21*D21) -> 0 | F21: =AVERAGE(E15:E21) -> 0 | G21: =AVERAGE(E2:E21) -> 0 | H21: =IFERROR(F21/G21, 0) -> 0
A22: 21 | E22: =IF(C22="",0,C22*D22) -> 0 | F22: =AVERAGE(E16:E22) -> 0 | G22: =AVERAGE(E2:E22) -> 0 | H22: =IFERROR(F22/G22, 0) -> 0
A23: 22 | E23: =IF(C23="",0,C23*D23) -> 0 | F23: =AVERAGE(E17:E23) -> 0 | G23: =AVERAGE(E2:E23) -> 0 | H23: =IFERROR(F23/G23, 0) -> 0
A24: 23 | E24: =IF(C24="",0,C24*D24) -> 0 | F24: =AVERAGE(E18:E24) -> 0 | G24: =AVERAGE(E2:E24) -> 0 | H24: =IFERROR(F24/G24, 0) -> 0
A25: 24 | E25: =IF(C25="",0,C25*D25) -> 0 | F25: =AVERAGE(E19:E25) -> 0 | G25: =AVERAGE(E2:E25) -> 0 | H25: =IFERROR(F25/G25, 0) -> 0
A26: 25 | E26: =IF(C26="",0,C26*D26) -> 0 | F26: =AVERAGE(E20:E26) -> 0 | G26: =AVERAGE(E2:E26) -> 0 | H26: =IFERROR(F26/G26, 0) -> 0
A27: 26 | E27: =IF(C27="",0,C27*D27) -> 0 | F27: =AVERAGE(E21:E27) -> 0 | G27: =AVERAGE(E2:E27) -> 0 | H27: =IFERROR(F27/G27, 0) -> 0
A28: 27 | E28: =IF(C28="",0,C28*D28) -> 0 | F28: =AVERAGE(E22:E28) -> 0 | G28: =AVERAGE(E2:E28) -> 0 | H28: =IFERROR(F28/G28, 0) -> 0
A29: 28 | E29: =IF(C29="",0,C29*D29) -> 0 | F29: =AVERAGE(E23:E29) -> 0 | G29: =AVERAGE(E2:E29) -> 0 | H29: =IFERROR(F29/G29, 0) -> 0
A30: 29 | E30: =IF(C30="",0,C30*D30) -> 0 | F30: =AVERAGE(E24:E30) -> 0 | G30: =AVERAGE(E3:E30) -> 0 | H30: =IFERROR(F30/G30, 0) -> 0
A31: 30 | E31: =IF(C31="",0,C31*D31) -> 0 | F31: =AVERAGE(E25:E31) -> 0 | G31: =AVERAGE(E4:E31) -> 0 | H31: =IFERROR(F31/G31, 0) -> 0
A32: 31 | E32: =IF(C32="",0,C32*D32) -> 0 | F32: =AVERAGE(E26:E32) -> 0 | G32: =AVERAGE(E5:E32) -> 0 | H32: =IFERROR(F32/G32, 0) -> 0
A33: 32 | E33: =IF(C33="",0,C33*D33) -> 0 | F33: =AVERAGE(E27:E33) -> 0 | G33: =AVERAGE(E6:E33) -> 0 | H33: =IFERROR(F33/G33, 0) -> 0
A34: 33 | E34: =IF(C34="",0,C34*D34) -> 0 | F34: =AVERAGE(E28:E34) -> 0 | G34: =AVERAGE(E7:E34) -> 0 | H34: =IFERROR(F34/G34, 0) -> 0
A35: 34 | E35: =IF(C35="",0,C35*D35) -> 0 | F35: =AVERAGE(E29:E35) -> 0 | G35: =AVERAGE(E8:E35) -> 0 | H35: =IFERROR(F35/G35, 0) -> 0
A36: 35 | E36: =IF(C36="",0,C36*D36) -> 0 | F36: =AVERAGE(E30:E36) -> 0 | G36: =AVERAGE(E9:E36) -> 0 | H36: =IFERROR(F36/G36, 0) -> 0
A37: 36 | E37: =IF(C37="",0,C37*D37) -> 0 | F37: =AVERAGE(E31:E37) -> 0 | G37: =AVERAGE(E10:E37) -> 0 | H37: =IFERROR(F37/G37, 0) -> 0
A38: 37 | E38: =IF(C38="",0,C38*D38) -> 0 | F38: =AVERAGE(E32:E38) -> 0 | G38: =AVERAGE(E11:E38) -> 0 | H38: =IFERROR(F38/G38, 0) -> 0
A39: 38 | E39: =IF(C39="",0,C39*D39) -> 0 | F39: =AVERAGE(E33:E39) -> 0 | G39: =AVERAGE(E12:E39) -> 0 | H39: =IFERROR(F39/G39, 0) -> 0
A40: 39 | E40: =IF(C40="",0,C40*D40) -> 0 | F40: =AVERAGE(E34:E40) -> 0 | G40: =AVERAGE(E13:E40) -> 0 | H40: =IFERROR(F40/G40, 0) -> 0
...

Sheet Giocatore 8
A1: Giorno Progressivo | B1: Data (Opzionale) | C1: RPE (1-10) | D1: Durata (min) | E1: Session RPE (UA) | F1: Carico Acuto (Media 7g) | G1: Carico Cronico (Media 28g) | H1: ACWR
A2: 1 | E2: =IF(C2="",0,C2*D2) -> 0 | F2: =AVERAGE(E2:E2) -> 0 | G2: =AVERAGE(E2:E2) -> 0 | H2: =IFERROR(F2/G2, 0) -> 0
A3: 2 | E3: =IF(C3="",0,C3*D3) -> 0 | F3: =AVERAGE(E2:E3) -> 0 | G3: =AVERAGE(E2:E3) -> 0 | H3: =IFERROR(F3/G3, 0) -> 0
A4: 3 | E4: =IF(C4="",0,C4*D4) -> 0 | F4: =AVERAGE(E2:E4) -> 0 | G4: =AVERAGE(E2:E4) -> 0 | H4: =IFERROR(F4/G4, 0) -> 0
A5: 4 | E5: =IF(C5="",0,C5*D5) -> 0 | F5: =AVERAGE(E2:E5) -> 0 | G5: =AVERAGE(E2:E5) -> 0 | H5: =IFERROR(F5/G5, 0) -> 0
A6: 5 | E6: =IF(C6="",0,C6*D6) -> 0 | F6: =AVERAGE(E2:E6) -> 0 | G6: =AVERAGE(E2:E6) -> 0 | H6: =IFERROR(F6/G6, 0) -> 0
A7: 6 | E7: =IF(C7="",0,C7*D7) -> 0 | F7: =AVERAGE(E2:E7) -> 0 | G7: =AVERAGE(E2:E7) -> 0 | H7: =IFERROR(F7/G7, 0) -> 0
A8: 7 | E8: =IF(C8="",0,C8*D8) -> 0 | F8: =AVERAGE(E2:E8) -> 0 | G8: =AVERAGE(E2:E8) -> 0 | H8: =IFERROR(F8/G8, 0) -> 0
A9: 8 | E9: =IF(C9="",0,C9*D9) -> 0 | F9: =AVERAGE(E3:E9) -> 0 | G9: =AVERAGE(E2:E9) -> 0 | H9: =IFERROR(F9/G9, 0) -> 0
A10: 9 | E10: =IF(C10="",0,C10*D10) -> 0 | F10: =AVERAGE(E4:E10) -> 0 | G10: =AVERAGE(E2:E10) -> 0 | H10: =IFERROR(F10/G10, 0) -> 0
A11: 10 | E11: =IF(C11="",0,C11*D11) -> 0 | F11: =AVERAGE(E5:E11) -> 0 | G11: =AVERAGE(E2:E11) -> 0 | H11: =IFERROR(F11/G11, 0) -> 0
A12: 11 | E12: =IF(C12="",0,C12*D12) -> 0 | F12: =AVERAGE(E6:E12) -> 0 | G12: =AVERAGE(E2:E12) -> 0 | H12: =IFERROR(F12/G12, 0) -> 0
A13: 12 | E13: =IF(C13="",0,C13*D13) -> 0 | F13: =AVERAGE(E7:E13) -> 0 | G13: =AVERAGE(E2:E13) -> 0 | H13: =IFERROR(F13/G13, 0) -> 0
A14: 13 | E14: =IF(C14="",0,C14*D14) -> 0 | F14: =AVERAGE(E8:E14) -> 0 | G14: =AVERAGE(E2:E14) -> 0 | H14: =IFERROR(F14/G14, 0) -> 0
A15: 14 | E15: =IF(C15="",0,C15*D15) -> 0 | F15: =AVERAGE(E9:E15) -> 0 | G15: =AVERAGE(E2:E15) -> 0 | H15: =IFERROR(F15/G15, 0) -> 0
A16: 15 | E16: =IF(C16="",0,C16*D16) -> 0 | F16: =AVERAGE(E10:E16) -> 0 | G16: =AVERAGE(E2:E16) -> 0 | H16: =IFERROR(F16/G16, 0) -> 0
A17: 16 | E17: =IF(C17="",0,C17*D17) -> 0 | F17: =AVERAGE(E11:E17) -> 0 | G17: =AVERAGE(E2:E17) -> 0 | H17: =IFERROR(F17/G17, 0) -> 0
A18: 17 | E18: =IF(C18="",0,C18*D18) -> 0 | F18: =AVERAGE(E12:E18) -> 0 | G18: =AVERAGE(E2:E18) -> 0 | H18: =IFERROR(F18/G18, 0) -> 0
A19: 18 | E19: =IF(C19="",0,C19*D19) -> 0 | F19: =AVERAGE(E13:E19) -> 0 | G19: =AVERAGE(E2:E19) -> 0 | H19: =IFERROR(F19/G19, 0) -> 0
A20: 19 | E20: =IF(C20="",0,C20*D20) -> 0 | F20: =AVERAGE(E14:E20) -> 0 | G20: =AVERAGE(E2:E20) -> 0 | H20: =IFERROR(F20/G20, 0) -> 0
A21: 20 | E21: =IF(C21="",0,C21*D21) -> 0 | F21: =AVERAGE(E15:E21) -> 0 | G21: =AVERAGE(E2:E21) -> 0 | H21: =IFERROR(F21/G21, 0) -> 0
A22: 21 | E22: =IF(C22="",0,C22*D22) -> 0 | F22: =AVERAGE(E16:E22) -> 0 | G22: =AVERAGE(E2:E22) -> 0 | H22: =IFERROR(F22/G22, 0) -> 0
A23: 22 | E23: =IF(C23="",0,C23*D23) -> 0 | F23: =AVERAGE(E17:E23) -> 0 | G23: =AVERAGE(E2:E23) -> 0 | H23: =IFERROR(F23/G23, 0) -> 0
A24: 23 | E24: =IF(C24="",0,C24*D24) -> 0 | F24: =AVERAGE(E18:E24) -> 0 | G24: =AVERAGE(E2:E24) -> 0 | H24: =IFERROR(F24/G24, 0) -> 0
A25: 24 | E25: =IF(C25="",0,C25*D25) -> 0 | F25: =AVERAGE(E19:E25) -> 0 | G25: =AVERAGE(E2:E25) -> 0 | H25: =IFERROR(F25/G25, 0) -> 0
A26: 25 | E26: =IF(C26="",0,C26*D26) -> 0 | F26: =AVERAGE(E20:E26) -> 0 | G26: =AVERAGE(E2:E26) -> 0 | H26: =IFERROR(F26/G26, 0) -> 0
A27: 26 | E27: =IF(C27="",0,C27*D27) -> 0 | F27: =AVERAGE(E21:E27) -> 0 | G27: =AVERAGE(E2:E27) -> 0 | H27: =IFERROR(F27/G27, 0) -> 0
A28: 27 | E28: =IF(C28="",0,C28*D28) -> 0 | F28: =AVERAGE(E22:E28) -> 0 | G28: =AVERAGE(E2:E28) -> 0 | H28: =IFERROR(F28/G28, 0) -> 0
A29: 28 | E29: =IF(C29="",0,C29*D29) -> 0 | F29: =AVERAGE(E23:E29) -> 0 | G29: =AVERAGE(E2:E29) -> 0 | H29: =IFERROR(F29/G29, 0) -> 0
A30: 29 | E30: =IF(C30="",0,C30*D30) -> 0 | F30: =AVERAGE(E24:E30) -> 0 | G30: =AVERAGE(E3:E30) -> 0 | H30: =IFERROR(F30/G30, 0) -> 0
A31: 30 | E31: =IF(C31="",0,C31*D31) -> 0 | F31: =AVERAGE(E25:E31) -> 0 | G31: =AVERAGE(E4:E31) -> 0 | H31: =IFERROR(F31/G31, 0) -> 0
A32: 31 | E32: =IF(C32="",0,C32*D32) -> 0 | F32: =AVERAGE(E26:E32) -> 0 | G32: =AVERAGE(E5:E32) -> 0 | H32: =IFERROR(F32/G32, 0) -> 0
A33: 32 | E33: =IF(C33="",0,C33*D33) -> 0 | F33: =AVERAGE(E27:E33) -> 0 | G33: =AVERAGE(E6:E33) -> 0 | H33: =IFERROR(F33/G33, 0) -> 0
A34: 33 | E34: =IF(C34="",0,C34*D34) -> 0 | F34: =AVERAGE(E28:E34) -> 0 | G34: =AVERAGE(E7:E34) -> 0 | H34: =IFERROR(F34/G34, 0) -> 0
A35: 34 | E35: =IF(C35="",0,C35*D35) -> 0 | F35: =AVERAGE(E29:E35) -> 0 | G35: =AVERAGE(E8:E35) -> 0 | H35: =IFERROR(F35/G35, 0) -> 0
A36: 35 | E36: =IF(C36="",0,C36*D36) -> 0 | F36: =AVERAGE(E30:E36) -> 0 | G36: =AVERAGE(E9:E36) -> 0 | H36: =IFERROR(F36/G36, 0) -> 0
A37: 36 | E37: =IF(C37="",0,C37*D37) -> 0 | F37: =AVERAGE(E31:E37) -> 0 | G37: =AVERAGE(E10:E37) -> 0 | H37: =IFERROR(F37/G37, 0) -> 0
A38: 37 | E38: =IF(C38="",0,C38*D38) -> 0 | F38: =AVERAGE(E32:E38) -> 0 | G38: =AVERAGE(E11:E38) -> 0 | H38: =IFERROR(F38/G38, 0) -> 0
A39: 38 | E39: =IF(C39="",0,C39*D39) -> 0 | F39: =AVERAGE(E33:E39) -> 0 | G39: =AVERAGE(E12:E39) -> 0 | H39: =IFERROR(F39/G39, 0) -> 0
A40: 39 | E40: =IF(C40="",0,C40*D40) -> 0 | F40: =AVERAGE(E34:E40) -> 0 | G40: =AVERAGE(E13:E40) -> 0 | H40: =IFERROR(F40/G40, 0) -> 0
...

Sheet Giocatore 9
A1: Giorno Progressivo | B1: Data (Opzionale) | C1: RPE (1-10) | D1: Durata (min) | E1: Session RPE (UA) | F1: Carico Acuto (Media 7g) | G1: Carico Cronico (Media 28g) | H1: ACWR
A2: 1 | E2: =IF(C2="",0,C2*D2) -> 0 | F2: =AVERAGE(E2:E2) -> 0 | G2: =AVERAGE(E2:E2) -> 0 | H2: =IFERROR(F2/G2, 0) -> 0
A3: 2 | E3: =IF(C3="",0,C3*D3) -> 0 | F3: =AVERAGE(E2:E3) -> 0 | G3: =AVERAGE(E2:E3) -> 0 | H3: =IFERROR(F3/G3, 0) -> 0
A4: 3 | E4: =IF(C4="",0,C4*D4) -> 0 | F4: =AVERAGE(E2:E4) -> 0 | G4: =AVERAGE(E2:E4) -> 0 | H4: =IFERROR(F4/G4, 0) -> 0
A5: 4 | E5: =IF(C5="",0,C5*D5) -> 0 | F5: =AVERAGE(E2:E5) -> 0 | G5: =AVERAGE(E2:E5) -> 0 | H5: =IFERROR(F5/G5, 0) -> 0
A6: 5 | E6: =IF(C6="",0,C6*D6) -> 0 | F6: =AVERAGE(E2:E6) -> 0 | G6: =AVERAGE(E2:E6) -> 0 | H6: =IFERROR(F6/G6, 0) -> 0
A7: 6 | E7: =IF(C7="",0,C7*D7) -> 0 | F7: =AVERAGE(E2:E7) -> 0 | G7: =AVERAGE(E2:E7) -> 0 | H7: =IFERROR(F7/G7, 0) -> 0
A8: 7 | E8: =IF(C8="",0,C8*D8) -> 0 | F8: =AVERAGE(E2:E8) -> 0 | G8: =AVERAGE(E2:E8) -> 0 | H8: =IFERROR(F8/G8, 0) -> 0
A9: 8 | E9: =IF(C9="",0,C9*D9) -> 0 | F9: =AVERAGE(E3:E9) -> 0 | G9: =AVERAGE(E2:E9) -> 0 | H9: =IFERROR(F9/G9, 0) -> 0
A10: 9 | E10: =IF(C10="",0,C10*D10) -> 0 | F10: =AVERAGE(E4:E10) -> 0 | G10: =AVERAGE(E2:E10) -> 0 | H10: =IFERROR(F10/G10, 0) -> 0
A11: 10 | E11: =IF(C11="",0,C11*D11) -> 0 | F11: =AVERAGE(E5:E11) -> 0 | G11: =AVERAGE(E2:E11) -> 0 | H11: =IFERROR(F11/G11, 0) -> 0
A12: 11 | E12: =IF(C12="",0,C12*D12) -> 0 | F12: =AVERAGE(E6:E12) -> 0 | G12: =AVERAGE(E2:E12) -> 0 | H12: =IFERROR(F12/G12, 0) -> 0
A13: 12 | E13: =IF(C13="",0,C13*D13) -> 0 | F13: =AVERAGE(E7:E13) -> 0 | G13: =AVERAGE(E2:E13) -> 0 | H13: =IFERROR(F13/G13, 0) -> 0
A14: 13 | E14: =IF(C14="",0,C14*D14) -> 0 | F14: =AVERAGE(E8:E14) -> 0 | G14: =AVERAGE(E2:E14) -> 0 | H14: =IFERROR(F14/G14, 0) -> 0
A15: 14 | E15: =IF(C15="",0,C15*D15) -> 0 | F15: =AVERAGE(E9:E15) -> 0 | G15: =AVERAGE(E2:E15) -> 0 | H15: =IFERROR(F15/G15, 0) -> 0
A16: 15 | E16: =IF(C16="",0,C16*D16) -> 0 | F16: =AVERAGE(E10:E16) -> 0 | G16: =AVERAGE(E2:E16) -> 0 | H16: =IFERROR(F16/G16, 0) -> 0
A17: 16 | E17: =IF(C17="",0,C17*D17) -> 0 | F17: =AVERAGE(E11:E17) -> 0 | G17: =AVERAGE(E2:E17) -> 0 | H17: =IFERROR(F17/G17, 0) -> 0
A18: 17 | E18: =IF(C18="",0,C18*D18) -> 0 | F18: =AVERAGE(E12:E18) -> 0 | G18: =AVERAGE(E2:E18) -> 0 | H18: =IFERROR(F18/G18, 0) -> 0
A19: 18 | E19: =IF(C19="",0,C19*D19) -> 0 | F19: =AVERAGE(E13:E19) -> 0 | G19: =AVERAGE(E2:E19) -> 0 | H19: =IFERROR(F19/G19, 0) -> 0
A20: 19 | E20: =IF(C20="",0,C20*D20) -> 0 | F20: =AVERAGE(E14:E20) -> 0 | G20: =AVERAGE(E2:E20) -> 0 | H20: =IFERROR(F20/G20, 0) -> 0
A21: 20 | E21: =IF(C21="",0,C21*D21) -> 0 | F21: =AVERAGE(E15:E21) -> 0 | G21: =AVERAGE(E2:E21) -> 0 | H21: =IFERROR(F21/G21, 0) -> 0
A22: 21 | E22: =IF(C22="",0,C22*D22) -> 0 | F22: =AVERAGE(E16:E22) -> 0 | G22: =AVERAGE(E2:E22) -> 0 | H22: =IFERROR(F22/G22, 0) -> 0
A23: 22 | E23: =IF(C23="",0,C23*D23) -> 0 | F23: =AVERAGE(E17:E23) -> 0 | G23: =AVERAGE(E2:E23) -> 0 | H23: =IFERROR(F23/G23, 0) -> 0
A24: 23 | E24: =IF(C24="",0,C24*D24) -> 0 | F24: =AVERAGE(E18:E24) -> 0 | G24: =AVERAGE(E2:E24) -> 0 | H24: =IFERROR(F24/G24, 0) -> 0
A25: 24 | E25: =IF(C25="",0,C25*D25) -> 0 | F25: =AVERAGE(E19:E25) -> 0 | G25: =AVERAGE(E2:E25) -> 0 | H25: =IFERROR(F25/G25, 0) -> 0
A26: 25 | E26: =IF(C26="",0,C26*D26) -> 0 | F26: =AVERAGE(E20:E26) -> 0 | G26: =AVERAGE(E2:E26) -> 0 | H26: =IFERROR(F26/G26, 0) -> 0
A27: 26 | E27: =IF(C27="",0,C27*D27) -> 0 | F27: =AVERAGE(E21:E27) -> 0 | G27: =AVERAGE(E2:E27) -> 0 | H27: =IFERROR(F27/G27, 0) -> 0
A28: 27 | E28: =IF(C28="",0,C28*D28) -> 0 | F28: =AVERAGE(E22:E28) -> 0 | G28: =AVERAGE(E2:E28) -> 0 | H28: =IFERROR(F28/G28, 0) -> 0
A29: 28 | E29: =IF(C29="",0,C29*D29) -> 0 | F29: =AVERAGE(E23:E29) -> 0 | G29: =AVERAGE(E2:E29) -> 0 | H29: =IFERROR(F29/G29, 0) -> 0
A30: 29 | E30: =IF(C30="",0,C30*D30) -> 0 | F30: =AVERAGE(E24:E30) -> 0 | G30: =AVERAGE(E3:E30) -> 0 | H30: =IFERROR(F30/G30, 0) -> 0
A31: 30 | E31: =IF(C31="",0,C31*D31) -> 0 | F31: =AVERAGE(E25:E31) -> 0 | G31: =AVERAGE(E4:E31) -> 0 | H31: =IFERROR(F31/G31, 0) -> 0
A32: 31 | E32: =IF(C32="",0,C32*D32) -> 0 | F32: =AVERAGE(E26:E32) -> 0 | G32: =AVERAGE(E5:E32) -> 0 | H32: =IFERROR(F32/G32, 0) -> 0
A33: 32 | E33: =IF(C33="",0,C33*D33) -> 0 | F33: =AVERAGE(E27:E33) -> 0 | G33: =AVERAGE(E6:E33) -> 0 | H33: =IFERROR(F33/G33, 0) -> 0
A34: 33 | E34: =IF(C34="",0,C34*D34) -> 0 | F34: =AVERAGE(E28:E34) -> 0 | G34: =AVERAGE(E7:E34) -> 0 | H34: =IFERROR(F34/G34, 0) -> 0
A35: 34 | E35: =IF(C35="",0,C35*D35) -> 0 | F35: =AVERAGE(E29:E35) -> 0 | G35: =AVERAGE(E8:E35) -> 0 | H35: =IFERROR(F35/G35, 0) -> 0
A36: 35 | E36: =IF(C36="",0,C36*D36) -> 0 | F36: =AVERAGE(E30:E36) -> 0 | G36: =AVERAGE(E9:E36) -> 0 | H36: =IFERROR(F36/G36, 0) -> 0
A37: 36 | E37: =IF(C37="",0,C37*D37) -> 0 | F37: =AVERAGE(E31:E37) -> 0 | G37: =AVERAGE(E10:E37) -> 0 | H37: =IFERROR(F37/G37, 0) -> 0
A38: 37 | E38: =IF(C38="",0,C38*D38) -> 0 | F38: =AVERAGE(E32:E38) -> 0 | G38: =AVERAGE(E11:E38) -> 0 | H38: =IFERROR(F38/G38, 0) -> 0
A39: 38 | E39: =IF(C39="",0,C39*D39) -> 0 | F39: =AVERAGE(E33:E39) -> 0 | G39: =AVERAGE(E12:E39) -> 0 | H39: =IFERROR(F39/G39, 0) -> 0
A40: 39 | E40: =IF(C40="",0,C40*D40) -> 0 | F40: =AVERAGE(E34:E40) -> 0 | G40: =AVERAGE(E13:E40) -> 0 | H40: =IFERROR(F40/G40, 0) -> 0
...

Sheet Giocatore 10
A1: Giorno Progressivo | B1: Data (Opzionale) | C1: RPE (1-10) | D1: Durata (min) | E1: Session RPE (UA) | F1: Carico Acuto (Media 7g) | G1: Carico Cronico (Media 28g) | H1: ACWR
A2: 1 | E2: =IF(C2="",0,C2*D2) -> 0 | F2: =AVERAGE(E2:E2) -> 0 | G2: =AVERAGE(E2:E2) -> 0 | H2: =IFERROR(F2/G2, 0) -> 0
A3: 2 | E3: =IF(C3="",0,C3*D3) -> 0 | F3: =AVERAGE(E2:E3) -> 0 | G3: =AVERAGE(E2:E3) -> 0 | H3: =IFERROR(F3/G3, 0) -> 0
A4: 3 | E4: =IF(C4="",0,C4*D4) -> 0 | F4: =AVERAGE(E2:E4) -> 0 | G4: =AVERAGE(E2:E4) -> 0 | H4: =IFERROR(F4/G4, 0) -> 0
A5: 4 | E5: =IF(C5="",0,C5*D5) -> 0 | F5: =AVERAGE(E2:E5) -> 0 | G5: =AVERAGE(E2:E5) -> 0 | H5: =IFERROR(F5/G5, 0) -> 0
A6: 5 | E6: =IF(C6="",0,C6*D6) -> 0 | F6: =AVERAGE(E2:E6) -> 0 | G6: =AVERAGE(E2:E6) -> 0 | H6: =IFERROR(F6/G6, 0) -> 0
A7: 6 | E7: =IF(C7="",0,C7*D7) -> 0 | F7: =AVERAGE(E2:E7) -> 0 | G7: =AVERAGE(E2:E7) -> 0 | H7: =IFERROR(F7/G7, 0) -> 0
A8: 7 | E8: =IF(C8="",0,C8*D8) -> 0 | F8: =AVERAGE(E2:E8) -> 0 | G8: =AVERAGE(E2:E8) -> 0 | H8: =IFERROR(F8/G8, 0) -> 0
A9: 8 | E9: =IF(C9="",0,C9*D9) -> 0 | F9: =AVERAGE(E3:E9) -> 0 | G9: =AVERAGE(E2:E9) -> 0 | H9: =IFERROR(F9/G9, 0) -> 0
A10: 9 | E10: =IF(C10="",0,C10*D10) -> 0 | F10: =AVERAGE(E4:E10) -> 0 | G10: =AVERAGE(E2:E10) -> 0 | H10: =IFERROR(F10/G10, 0) -> 0
A11: 10 | E11: =IF(C11="",0,C11*D11) -> 0 | F11: =AVERAGE(E5:E11) -> 0 | G11: =AVERAGE(E2:E11) -> 0 | H11: =IFERROR(F11/G11, 0) -> 0
A12: 11 | E12: =IF(C12="",0,C12*D12) -> 0 | F12: =AVERAGE(E6:E12) -> 0 | G12: =AVERAGE(E2:E12) -> 0 | H12: =IFERROR(F12/G12, 0) -> 0
A13: 12 | E13: =IF(C13="",0,C13*D13) -> 0 | F13: =AVERAGE(E7:E13) -> 0 | G13: =AVERAGE(E2:E13) -> 0 | H13: =IFERROR(F13/G13, 0) -> 0
A14: 13 | E14: =IF(C14="",0,C14*D14) -> 0 | F14: =AVERAGE(E8:E14) -> 0 | G14: =AVERAGE(E2:E14) -> 0 | H14: =IFERROR(F14/G14, 0) -> 0
A15: 14 | E15: =IF(C15="",0,C15*D15) -> 0 | F15: =AVERAGE(E9:E15) -> 0 | G15: =AVERAGE(E2:E15) -> 0 | H15: =IFERROR(F15/G15, 0) -> 0
A16: 15 | E16: =IF(C16="",0,C16*D16) -> 0 | F16: =AVERAGE(E10:E16) -> 0 | G16: =AVERAGE(E2:E16) -> 0 | H16: =IFERROR(F16/G16, 0) -> 0
A17: 16 | E17: =IF(C17="",0,C17*D17) -> 0 | F17: =AVERAGE(E11:E17) -> 0 | G17: =AVERAGE(E2:E17) -> 0 | H17: =IFERROR(F17/G17, 0) -> 0
A18: 17 | E18: =IF(C18="",0,C18*D18) -> 0 | F18: =AVERAGE(E12:E18) -> 0 | G18: =AVERAGE(E2:E18) -> 0 | H18: =IFERROR(F18/G18, 0) -> 0
A19: 18 | E19: =IF(C19="",0,C19*D19) -> 0 | F19: =AVERAGE(E13:E19) -> 0 | G19: =AVERAGE(E2:E19) -> 0 | H19: =IFERROR(F19/G19, 0) -> 0
A20: 19 | E20: =IF(C20="",0,C20*D20) -> 0 | F20: =AVERAGE(E14:E20) -> 0 | G20: =AVERAGE(E2:E20) -> 0 | H20: =IFERROR(F20/G20, 0) -> 0
A21: 20 | E21: =IF(C21="",0,C21*D21) -> 0 | F21: =AVERAGE(E15:E21) -> 0 | G21: =AVERAGE(E2:E21) -> 0 | H21: =IFERROR(F21/G21, 0) -> 0
A22: 21 | E22: =IF(C22="",0,C22*D22) -> 0 | F22: =AVERAGE(E16:E22) -> 0 | G22: =AVERAGE(E2:E22) -> 0 | H22: =IFERROR(F22/G22, 0) -> 0
A23: 22 | E23: =IF(C23="",0,C23*D23) -> 0 | F23: =AVERAGE(E17:E23) -> 0 | G23: =AVERAGE(E2:E23) -> 0 | H23: =IFERROR(F23/G23, 0) -> 0
A24: 23 | E24: =IF(C24="",0,C24*D24) -> 0 | F24: =AVERAGE(E18:E24) -> 0 | G24: =AVERAGE(E2:E24) -> 0 | H24: =IFERROR(F24/G24, 0) -> 0
A25: 24 | E25: =IF(C25="",0,C25*D25) -> 0 | F25: =AVERAGE(E19:E25) -> 0 | G25: =AVERAGE(E2:E25) -> 0 | H25: =IFERROR(F25/G25, 0) -> 0
A26: 25 | E26: =IF(C26="",0,C26*D26) -> 0 | F26: =AVERAGE(E20:E26) -> 0 | G26: =AVERAGE(E2:E26) -> 0 | H26: =IFERROR(F26/G26, 0) -> 0
A27: 26 | E27: =IF(C27="",0,C27*D27) -> 0 | F27: =AVERAGE(E21:E27) -> 0 | G27: =AVERAGE(E2:E27) -> 0 | H27: =IFERROR(F27/G27, 0) -> 0
A28: 27 | E28: =IF(C28="",0,C28*D28) -> 0 | F28: =AVERAGE(E22:E28) -> 0 | G28: =AVERAGE(E2:E28) -> 0 | H28: =IFERROR(F28/G28, 0) -> 0
A29: 28 | E29: =IF(C29="",0,C29*D29) -> 0 | F29: =AVERAGE(E23:E29) -> 0 | G29: =AVERAGE(E2:E29) -> 0 | H29: =IFERROR(F29/G29, 0) -> 0
A30: 29 | E30: =IF(C30="",0,C30*D30) -> 0 | F30: =AVERAGE(E24:E30) -> 0 | G30: =AVERAGE(E3:E30) -> 0 | H30: =IFERROR(F30/G30, 0) -> 0
A31: 30 | E31: =IF(C31="",0,C31*D31) -> 0 | F31: =AVERAGE(E25:E31) -> 0 | G31: =AVERAGE(E4:E31) -> 0 | H31: =IFERROR(F31/G31, 0) -> 0
A32: 31 | E32: =IF(C32="",0,C32*D32) -> 0 | F32: =AVERAGE(E26:E32) -> 0 | G32: =AVERAGE(E5:E32) -> 0 | H32: =IFERROR(F32/G32, 0) -> 0
A33: 32 | E33: =IF(C33="",0,C33*D33) -> 0 | F33: =AVERAGE(E27:E33) -> 0 | G33: =AVERAGE(E6:E33) -> 0 | H33: =IFERROR(F33/G33, 0) -> 0
A34: 33 | E34: =IF(C34="",0,C34*D34) -> 0 | F34: =AVERAGE(E28:E34) -> 0 | G34: =AVERAGE(E7:E34) -> 0 | H34: =IFERROR(F34/G34, 0) -> 0
