Workbook

Sheet Dashboard Generale
A1: ID | B1: Nome Giocatore (Rinomina anche il Tab) | C1: Stato ACWR Ultimo Giorno Inserito
A2: 1 | B2: Marco Rossi | C2: ='Marco Rossi'!H302 -> 1.023569
A3: 2 | B3: Luca Bianchi | C3: ='Luca Bianchi'!H302 -> 1.0555556
A4: 3 | B4: Alessandro Verdi | C4: ='Alessandro Verdi'!H302 -> 0.98983051
A5: 4 | B5: Francesco Neri | C5: ='Francesco Neri'!H302 -> 0.99649123
A6: 5 | B6: Matteo Gialli | C6: ='Matteo Gialli'!H302 -> 1.0972222
A7: 6 | B7: Giocatore 6 | C7: ='Giocatore 6'!H302 -> #N/A
A8: 7 | B8: Giocatore 7 | C8: ='Giocatore 7'!H302 -> #N/A
A9: 8 | B9: Giocatore 8 | C9: ='Giocatore 8'!H302 -> #N/A
A10: 9 | B10: Giocatore 9 | C10: ='Giocatore 9'!H302 -> #N/A
A11: 10 | B11: Giocatore 10 | C11: ='Giocatore 10'!H302 -> #N/A
A12: 11 | B12: Giocatore 11 | C12: ='Giocatore 11'!H302 -> #N/A
A13: 12 | B13: Giocatore 12 | C13: ='Giocatore 12'!H302 -> #N/A
A14: 13 | B14: Giocatore 13 | C14: ='Giocatore 13'!H302 -> #N/A
A15: 14 | B15: Giocatore 14 | C15: ='Giocatore 14'!H302 -> #N/A
A16: 15 | B16: Giocatore 15 | C16: ='Giocatore 15'!H302 -> #N/A
A17: 16 | B17: Giocatore 16 | C17: ='Giocatore 16'!H302 -> #N/A
A18: 17 | B18: Giocatore 17 | C18: ='Giocatore 17'!H302 -> #N/A
A19: 18 | B19: Giocatore 18 | C19: ='Giocatore 18'!H302 -> #N/A
A20: 19 | B20: Giocatore 19 | C20: ='Giocatore 19'!H302 -> #N/A
A21: 20 | B21: Giocatore 20 | C21: ='Giocatore 20'!H302 -> #N/A
A22: 21 | B22: Giocatore 21 | C22: ='Giocatore 21'!H302 -> #N/A
A23: 22 | B23: Giocatore 22 | C23: ='Giocatore 22'!H302 -> #N/A
A24: 23 | B24: Giocatore 23 | C24: ='Giocatore 23'!H302 -> #N/A
A25: 24 | B25: Giocatore 24 | C25: ='Giocatore 24'!H302 -> #N/A

Sheet Marco Rossi
A1: Giorno Progressivo | B1: Data (Opzionale) | C1: RPE (1-10) | D1: Durata (min) | E1: Session RPE (UA) | F1: Carico Acuto (Media 7g) | G1: Carico Cronico (Media 28g) | H1: ACWR
A2: 1 | E2: =IF(C2="",0,C2*D2) -> 0 | F2: =AVERAGE(E2:E2) -> 0 | G2: =AVERAGE(E2:E2) -> 0 | H2: =IFERROR(F2/G2, 0) -> 0
A3: 2 | C3: 7 | D3: 90 | E3: =IF(C3="",0,C3*D3) -> 630 | F3: =AVERAGE(E2:E3) -> 315 | G3: =AVERAGE(E2:E3) -> 315 | H3: =IFERROR(F3/G3, 0) -> 1
A4: 3 | E4: =IF(C4="",0,C4*D4) -> 0 | F4: =AVERAGE(E2:E4) -> 210 | G4: =AVERAGE(E2:E4) -> 210 | H4: =IFERROR(F4/G4, 0) -> 1
A5: 4 | C5: 6 | D5: 90 | E5: =IF(C5="",0,C5*D5) -> 540 | F5: =AVERAGE(E2:E5) -> 292.5 | G5: =AVERAGE(E2:E5) -> 292.5 | H5: =IFERROR(F5/G5, 0) -> 1
A6: 5 | C6: 4 | D6: 60 | E6: =IF(C6="",0,C6*D6) -> 240 | F6: =AVERAGE(E2:E6) -> 282 | G6: =AVERAGE(E2:E6) -> 282 | H6: =IFERROR(F6/G6, 0) -> 1
A7: 6 | E7: =IF(C7="",0,C7*D7) -> 0 | F7: =AVERAGE(E2:E7) -> 235 | G7: =AVERAGE(E2:E7) -> 235 | H7: =IFERROR(F7/G7, 0) -> 1
A8: 7 | C8: 8 | D8: 90 | E8: =IF(C8="",0,C8*D8) -> 720 | F8: =AVERAGE(E2:E8) -> 304.28571 | G8: =AVERAGE(E2:E8) -> 304.28571 | H8: =IFERROR(F8/G8, 0) -> 1
A9: 8 | E9: =IF(C9="",0,C9*D9) -> 0 | F9: =AVERAGE(E3:E9) -> 304.28571 | G9: =AVERAGE(E2:E9) -> 266.25 | H9: =IFERROR(F9/G9, 0) -> 1.1428571
A10: 9 | C10: 6 | D10: 90 | E10: =IF(C10="",0,C10*D10) -> 540 | F10: =AVERAGE(E4:E10) -> 291.42857 | G10: =AVERAGE(E2:E10) -> 296.66667 | H10: =IFERROR(F10/G10, 0) -> 0.9823435
A11: 10 | E11: =IF(C11="",0,C11*D11) -> 0 | F11: =AVERAGE(E5:E11) -> 291.42857 | G11: =AVERAGE(E2:E11) -> 267 | H11: =IFERROR(F11/G11, 0) -> 1.0914928
A12: 11 | C12: 5 | D12: 90 | E12: =IF(C12="",0,C12*D12) -> 450 | F12: =AVERAGE(E6:E12) -> 278.57143 | G12: =AVERAGE(E2:E12) -> 283.63636 | H12: =IFERROR(F12/G12, 0) -> 0.98214286
A13: 12 | C13: 4 | D13: 60 | E13: =IF(C13="",0,C13*D13) -> 240 | F13: =AVERAGE(E7:E13) -> 278.57143 | G13: =AVERAGE(E2:E13) -> 280 | H13: =IFERROR(F13/G13, 0) -> 0.99489796
A14: 13 | E14: =IF(C14="",0,C14*D14) -> 0 | F14: =AVERAGE(E8:E14) -> 278.57143 | G14: =AVERAGE(E2:E14) -> 258.46154 | H14: =IFERROR(F14/G14, 0) -> 1.0778061
A15: 14 | C15: 8 | D15: 90 | E15: =IF(C15="",0,C15*D15) -> 720 | F15: =AVERAGE(E9:E15) -> 278.57143 | G15: =AVERAGE(E2:E15) -> 291.42857 | H15: =IFERROR(F15/G15, 0) -> 0.95588235
A16: 15 | E16: =IF(C16="",0,C16*D16) -> 0 | F16: =AVERAGE(E10:E16) -> 278.57143 | G16: =AVERAGE(E2:E16) -> 272 | H16: =IFERROR(F16/G16, 0) -> 1.0241597
A17: 16 | C17: 7 | D17: 90 | E17: =IF(C17="",0,C17*D17) -> 630 | F17: =AVERAGE(E11:E17) -> 291.42857 | G17: =AVERAGE(E2:E17) -> 294.375 | H17: =IFERROR(F17/G17, 0) -> 0.9899909
A18: 17 | E18: =IF(C18="",0,C18*D18) -> 0 | F18: =AVERAGE(E12:E18) -> 291.42857 | G18: =AVERAGE(E2:E18) -> 277.05882 | H18: =IFERROR(F18/G18, 0) -> 1.0518653
A19: 18 | C19: 7 | D19: 90 | E19: =IF(C19="",0,C19*D19) -> 630 | F19: =AVERAGE(E13:E19) -> 317.14286 | G19: =AVERAGE(E2:E19) -> 296.66667 | H19: =IFERROR(F19/G19, 0) -> 1.0690209
A20: 19 | C20: 5 | D20: 60 | E20: =IF(C20="",0,C20*D20) -> 300 | F20: =AVERAGE(E14:E20) -> 325.71429 | G20: =AVERAGE(E2:E20) -> 296.84211 | H20: =IFERROR(F20/G20, 0) -> 1.0972644
A21: 20 | E21: =IF(C21="",0,C21*D21) -> 0 | F21: =AVERAGE(E15:E21) -> 325.71429 | G21: =AVERAGE(E2:E21) -> 282 | H21: =IFERROR(F21/G21, 0) -> 1.1550152
A22: 21 | C22: 8 | D22: 90 | E22: =IF(C22="",0,C22*D22) -> 720 | F22: =AVERAGE(E16:E22) -> 325.71429 | G22: =AVERAGE(E2:E22) -> 302.85714 | H22: =IFERROR(F22/G22, 0) -> 1.0754717
A23: 22 | E23: =IF(C23="",0,C23*D23) -> 0 | F23: =AVERAGE(E17:E23) -> 325.71429 | G23: =AVERAGE(E2:E23) -> 289.09091 | H23: =IFERROR(F23/G23, 0) -> 1.1266846
A24: 23 | C24: 8 | D24: 90 | E24: =IF(C24="",0,C24*D24) -> 720 | F24: =AVERAGE(E18:E24) -> 338.57143 | G24: =AVERAGE(E2:E24) -> 307.82609 | H24: =IFERROR(F24/G24, 0) -> 1.0998789
A25: 24 | E25: =IF(C25="",0,C25*D25) -> 0 | F25: =AVERAGE(E19:E25) -> 338.57143 | G25: =AVERAGE(E2:E25) -> 295 | H25: =IFERROR(F25/G25, 0) -> 1.1476998
A26: 25 | C26: 6 | D26: 90 | E26: =IF(C26="",0,C26*D26) -> 540 | F26: =AVERAGE(E20:E26) -> 325.71429 | G26: =AVERAGE(E2:E26) -> 304.8 | H26: =IFERROR(F26/G26, 0) -> 1.0686164
A27: 26 | C27: 4 | D27: 60 | E27: =IF(C27="",0,C27*D27) -> 240 | F27: =AVERAGE(E21:E27) -> 317.14286 | G27: =AVERAGE(E2:E27) -> 302.30769 | H27: =IFERROR(F27/G27, 0) -> 1.0490731
A28: 27 | E28: =IF(C28="",0,C28*D28) -> 0 | F28: =AVERAGE(E22:E28) -> 317.14286 | G28: =AVERAGE(E2:E28) -> 291.11111 | H28: =IFERROR(F28/G28, 0) -> 1.089422
A29: 28 | C29: 9 | D29: 90 | E29: =IF(C29="",0,C29*D29) -> 810 | F29: =AVERAGE(E23:E29) -> 330 | G29: =AVERAGE(E2:E29) -> 309.64286 | H29: =IFERROR(F29/G29, 0) -> 1.0657439
A30: 29 | E30: =IF(C30="",0,C30*D30) -> 0 | F30: =AVERAGE(E24:E30) -> 330 | G30: =AVERAGE(E3:E30) -> 309.64286 | H30: =IFERROR(F30/G30, 0) -> 1.0657439
A31: 30 | C31: 8 | D31: 90 | E31: =IF(C31="",0,C31*D31) -> 720 | F31: =AVERAGE(E25:E31) -> 330 | G31: =AVERAGE(E4:E31) -> 312.85714 | H31: =IFERROR(F31/G31, 0) -> 1.0547945
A32: 31 | E32: =IF(C32="",0,C32*D32) -> 0 | F32: =AVERAGE(E26:E32) -> 330 | G32: =AVERAGE(E5:E32) -> 312.85714 | H32: =IFERROR(F32/G32, 0) -> 1.0547945
A33: 32 | C33: 7 | D33: 90 | E33: =IF(C33="",0,C33*D33) -> 630 | F33: =AVERAGE(E27:E33) -> 342.85714 | G33: =AVERAGE(E6:E33) -> 316.07143 | H33: =IFERROR(F33/G33, 0) -> 1.0847458
A34: 33 | C34: 4 | D34: 60 | E34: =IF(C34="",0,C34*D34) -> 240 | F34: =AVERAGE(E28:E34) -> 342.85714 | G34: =AVERAGE(E7:E34) -> 316.07143 | H34: =IFERROR(F34/G34, 0) -> 1.0847458
A35: 34 | E35: =IF(C35="",0,C35*D35) -> 0 | F35: =AVERAGE(E29:E35) -> 342.85714 | G35: =AVERAGE(E8:E35) -> 316.07143 | H35: =IFERROR(F35/G35, 0) -> 1.0847458
A36: 35 | C36: 9 | D36: 90 | E36: =IF(C36="",0,C36*D36) -> 810 | F36: =AVERAGE(E30:E36) -> 342.85714 | G36: =AVERAGE(E9:E36) -> 319.28571 | H36: =IFERROR(F36/G36, 0) -> 1.0738255
A37: 36 | E37: =IF(C37="",0,C37*D37) -> 0 | F37: =AVERAGE(E31:E37) -> 342.85714 | G37: =AVERAGE(E10:E37) -> 319.28571 | H37: =IFERROR(F37/G37, 0) -> 1.0738255
A38: 37 | C38: 7 | D38: 90 | E38: =IF(C38="",0,C38*D38) -> 630 | F38: =AVERAGE(E32:E38) -> 330 | G38: =AVERAGE(E11:E38) -> 322.5 | H38: =IFERROR(F38/G38, 0) -> 1.0232558
A39: 38 | E39: =IF(C39="",0,C39*D39) -> 0 | F39: =AVERAGE(E33:E39) -> 330 | G39: =AVERAGE(E12:E39) -> 322.5 | H39: =IFERROR(F39/G39, 0) -> 1.0232558
A40: 39 | C40: 7 | D40: 90 | E40: =IF(C40="",0,C40*D40) -> 630 | F40: =AVERAGE(E34:E40) -> 330 | G40: =AVERAGE(E13:E40) -> 328.92857 | H40: =IFERROR(F40/G40, 0) -> 1.0032573
A41: 40 | C41: 4 | D41: 60 | E41: =IF(C41="",0,C41*D41) -> 240 | F41: =AVERAGE(E35:E41) -> 330 | G41: =AVERAGE(E14:E41) -> 328.92857 | H41: =IFERROR(F41/G41, 0) -> 1.0032573
A42: 41 | E42: =IF(C42="",0,C42*D42) -> 0 | F42: =AVERAGE(E36:E42) -> 330 | G42: =AVERAGE(E15:E42) -> 328.92857 | H42: =IFERROR(F42/G42, 0) -> 1.0032573
A43: 42 | C43: 8 | D43: 90 | E43: =IF(C43="",0,C43*D43) -> 720 | F43: =AVERAGE(E37:E43) -> 317.14286 | G43: =AVERAGE(E16:E43) -> 328.92857 | H43: =IFERROR(F43/G43, 0) -> 0.96416938
A44: 43 | E44: =IF(C44="",0,C44*D44) -> 0 | F44: =AVERAGE(E38:E44) -> 317.14286 | G44: =AVERAGE(E17:E44) -> 328.92857 | H44: =IFERROR(F44/G44, 0) -> 0.96416938
A45: 44 | C45: 7 | D45: 90 | E45: =IF(C45="",0,C45*D45) -> 630 | F45: =AVERAGE(E39:E45) -> 317.14286 | G45: =AVERAGE(E18:E45) -> 328.92857 | H45: =IFERROR(F45/G45, 0) -> 0.96416938
A46: 45 | E46: =IF(C46="",0,C46*D46) -> 0 | F46: =AVERAGE(E40:E46) -> 317.14286 | G46: =AVERAGE(E19:E46) -> 328.92857 | H46: =IFERROR(F46/G46, 0) -> 0.96416938
A47: 46 | C47: 7 | D47: 90 | E47: =IF(C47="",0,C47*D47) -> 630 | F47: =AVERAGE(E41:E47) -> 317.14286 | G47: =AVERAGE(E20:E47) -> 328.92857 | H47: =IFERROR(F47/G47, 0) -> 0.96416938
A48: 47 | C48: 4 | D48: 60 | E48: =IF(C48="",0,C48*D48) -> 240 | F48: =AVERAGE(E42:E48) -> 317.14286 | G48: =AVERAGE(E21:E48) -> 326.78571 | H48: =IFERROR(F48/G48, 0) -> 0.9704918
A49: 48 | E49: =IF(C49="",0,C49*D49) -> 0 | F49: =AVERAGE(E43:E49) -> 317.14286 | G49: =AVERAGE(E22:E49) -> 326.78571 | H49: =IFERROR(F49/G49, 0) -> 0.9704918
A50: 49 | C50: 9 | D50: 90 | E50: =IF(C50="",0,C50*D50) -> 810 | F50: =AVERAGE(E44:E50) -> 330 | G50: =AVERAGE(E23:E50) -> 330 | H50: =IFERROR(F50/G50, 0) -> 1
A51: 50 | E51: =IF(C51="",0,C51*D51) -> 0 | F51: =AVERAGE(E45:E51) -> 330 | G51: =AVERAGE(E24:E51) -> 330 | H51: =IFERROR(F51/G51, 0) -> 1
A52: 51 | C52: 6 | D52: 90 | E52: =IF(C52="",0,C52*D52) -> 540 | F52: =AVERAGE(E46:E52) -> 317.14286 | G52: =AVERAGE(E25:E52) -> 323.57143 | H52: =IFERROR(F52/G52, 0) -> 0.98013245
A53: 52 | E53: =IF(C53="",0,C53*D53) -> 0 | F53: =AVERAGE(E47:E53) -> 317.14286 | G53: =AVERAGE(E26:E53) -> 323.57143 | H53: =IFERROR(F53/G53, 0) -> 0.98013245
A54: 53 | C54: 7 | D54: 90 | E54: =IF(C54="",0,C54*D54) -> 630 | F54: =AVERAGE(E48:E54) -> 317.14286 | G54: =AVERAGE(E27:E54) -> 326.78571 | H54: =IFERROR(F54/G54, 0) -> 0.9704918
A55: 54 | C55: 4 | D55: 60 | E55: =IF(C55="",0,C55*D55) -> 240 | F55: =AVERAGE(E49:E55) -> 317.14286 | G55: =AVERAGE(E28:E55) -> 326.78571 | H55: =IFERROR(F55/G55, 0) -> 0.9704918
A56: 55 | E56: =IF(C56="",0,C56*D56) -> 0 | F56: =AVERAGE(E50:E56) -> 317.14286 | G56: =AVERAGE(E29:E56) -> 326.78571 | H56: =IFERROR(F56/G56, 0) -> 0.9704918
A57: 56 | C57: 9 | D57: 90 | E57: =IF(C57="",0,C57*D57) -> 810 | F57: =AVERAGE(E51:E57) -> 317.14286 | G57: =AVERAGE(E30:E57) -> 326.78571 | H57: =IFERROR(F57/G57, 0) -> 0.9704918
A58: 57 | E58: =IF(C58="",0,C58*D58) -> 0 | F58: =AVERAGE(E52:E58) -> 317.14286 | G58: =AVERAGE(E31:E58) -> 326.78571 | H58: =IFERROR(F58/G58, 0) -> 0.9704918
A59: 58 | C59: 7 | D59: 90 | E59: =IF(C59="",0,C59*D59) -> 630 | F59: =AVERAGE(E53:E59) -> 330 | G59: =AVERAGE(E32:E59) -> 323.57143 | H59: =IFERROR(F59/G59, 0) -> 1.0198675
A60: 59 | E60: =IF(C60="",0,C60*D60) -> 0 | F60: =AVERAGE(E54:E60) -> 330 | G60: =AVERAGE(E33:E60) -> 323.57143 | H60: =IFERROR(F60/G60, 0) -> 1.0198675
A61: 60 | C61: 6 | D61: 90 | E61: =IF(C61="",0,C61*D61) -> 540 | F61: =AVERAGE(E55:E61) -> 317.14286 | G61: =AVERAGE(E34:E61) -> 320.35714 | H61: =IFERROR(F61/G61, 0) -> 0.98996656
A62: 61 | C62: 4 | D62: 60 | E62: =IF(C62="",0,C62*D62) -> 240 | F62: =AVERAGE(E56:E62) -> 317.14286 | G62: =AVERAGE(E35:E62) -> 320.35714 | H62: =IFERROR(F62/G62, 0) -> 0.98996656
A63: 62 | E63: =IF(C63="",0,C63*D63) -> 0 | F63: =AVERAGE(E57:E63) -> 317.14286 | G63: =AVERAGE(E36:E63) -> 320.35714 | H63: =IFERROR(F63/G63, 0) -> 0.98996656
A64: 63 | C64: 9 | D64: 90 | E64: =IF(C64="",0,C64*D64) -> 810 | F64: =AVERAGE(E58:E64) -> 317.14286 | G64: =AVERAGE(E37:E64) -> 320.35714 | H64: =IFERROR(F64/G64, 0) -> 0.98996656
A65: 64 | E65: =IF(C65="",0,C65*D65) -> 0 | F65: =AVERAGE(E59:E65) -> 317.14286 | G65: =AVERAGE(E38:E65) -> 320.35714 | H65: =IFERROR(F65/G65, 0) -> 0.98996656
A66: 65 | C66: 8 | D66: 90 | E66: =IF(C66="",0,C66*D66) -> 720 | F66: =AVERAGE(E60:E66) -> 330 | G66: =AVERAGE(E39:E66) -> 323.57143 | H66: =IFERROR(F66/G66, 0) -> 1.0198675
A67: 66 | E67: =IF(C67="",0,C67*D67) -> 0 | F67: =AVERAGE(E61:E67) -> 330 | G67: =AVERAGE(E40:E67) -> 323.57143 | H67: =IFERROR(F67/G67, 0) -> 1.0198675
A68: 67 | C68: 5 | D68: 90 | E68: =IF(C68="",0,C68*D68) -> 450 | F68: =AVERAGE(E62:E68) -> 317.14286 | G68: =AVERAGE(E41:E68) -> 317.14286 | H68: =IFERROR(F68/G68, 0) -> 1
A69: 68 | C69: 5 | D69: 60 | E69: =IF(C69="",0,C69*D69) -> 300 | F69: =AVERAGE(E63:E69) -> 325.71429 | G69: =AVERAGE(E42:E69) -> 319.28571 | H69: =IFERROR(F69/G69, 0) -> 1.0201342
A70: 69 | E70: =IF(C70="",0,C70*D70) -> 0 | F70: =AVERAGE(E64:E70) -> 325.71429 | G70: =AVERAGE(E43:E70) -> 319.28571 | H70: =IFERROR(F70/G70, 0) -> 1.0201342
A71: 70 | C71: 8 | D71: 90 | E71: =IF(C71="",0,C71*D71) -> 720 | F71: =AVERAGE(E65:E71) -> 312.85714 | G71: =AVERAGE(E44:E71) -> 319.28571 | H71: =IFERROR(F71/G71, 0) -> 0.97986577
A72: 71 | E72: =IF(C72="",0,C72*D72) -> 0 | F72: =AVERAGE(E66:E72) -> 312.85714 | G72: =AVERAGE(E45:E72) -> 319.28571 | H72: =IFERROR(F72/G72, 0) -> 0.97986577
A73: 72 | C73: 7 | D73: 90 | E73: =IF(C73="",0,C73*D73) -> 630 | F73: =AVERAGE(E67:E73) -> 300 | G73: =AVERAGE(E46:E73) -> 319.28571 | H73: =IFERROR(F73/G73, 0) -> 0.93959732
A74: 73 | E74: =IF(C74="",0,C74*D74) -> 0 | F74: =AVERAGE(E68:E74) -> 300 | G74: =AVERAGE(E47:E74) -> 319.28571 | H74: =IFERROR(F74/G74, 0) -> 0.93959732
A75: 74 | C75: 7 | D75: 90 | E75: =IF(C75="",0,C75*D75) -> 630 | F75: =AVERAGE(E69:E75) -> 325.71429 | G75: =AVERAGE(E48:E75) -> 319.28571 | H75: =IFERROR(F75/G75, 0) -> 1.0201342
A76: 75 | C76: 4 | D76: 60 | E76: =IF(C76="",0,C76*D76) -> 240 | F76: =AVERAGE(E70:E76) -> 317.14286 | G76: =AVERAGE(E49:E76) -> 319.28571 | H76: =IFERROR(F76/G76, 0) -> 0.99328859
A77: 76 | E77: =IF(C77="",0,C77*D77) -> 0 | F77: =AVERAGE(E71:E77) -> 317.14286 | G77: =AVERAGE(E50:E77) -> 319.28571 | H77: =IFERROR(F77/G77, 0) -> 0.99328859
A78: 77 | C78: 9 | D78: 90 | E78: =IF(C78="",0,C78*D78) -> 810 | F78: =AVERAGE(E72:E78) -> 330 | G78: =AVERAGE(E51:E78) -> 319.28571 | H78: =IFERROR(F78/G78, 0) -> 1.033557
A79: 78 | E79: =IF(C79="",0,C79*D79) -> 0 | F79: =AVERAGE(E73:E79) -> 330 | G79: =AVERAGE(E52:E79) -> 319.28571 | H79: =IFERROR(F79/G79, 0) -> 1.033557
A80: 79 | C80: 8 | D80: 90 | E80: =IF(C80="",0,C80*D80) -> 720 | F80: =AVERAGE(E74:E80) -> 342.85714 | G80: =AVERAGE(E53:E80) -> 325.71429 | H80: =IFERROR(F80/G80, 0) -> 1.0526316
A81: 80 | E81: =IF(C81="",0,C81*D81) -> 0 | F81: =AVERAGE(E75:E81) -> 342.85714 | G81: =AVERAGE(E54:E81) -> 325.71429 | H81: =IFERROR(F81/G81, 0) -> 1.0526316
A82: 81 | C82: 5 | D82: 90 | E82: =IF(C82="",0,C82*D82) -> 450 | F82: =AVERAGE(E76:E82) -> 317.14286 | G82: =AVERAGE(E55:E82) -> 319.28571 | H82: =IFERROR(F82/G82, 0) -> 0.99328859
A83: 82 | C83: 5 | D83: 60 | E83: =IF(C83="",0,C83*D83) -> 300 | F83: =AVERAGE(E77:E83) -> 325.71429 | G83: =AVERAGE(E56:E83) -> 321.42857 | H83: =IFERROR(F83/G83, 0) -> 1.0133333
A84: 83 | E84: =IF(C84="",0,C84*D84) -> 0 | F84: =AVERAGE(E78:E84) -> 325.71429 | G84: =AVERAGE(E57:E84) -> 321.42857 | H84: =IFERROR(F84/G84, 0) -> 1.0133333
A85: 84 | C85: 8 | D85: 90 | E85: =IF(C85="",0,C85*D85) -> 720 | F85: =AVERAGE(E79:E85) -> 312.85714 | G85: =AVERAGE(E58:E85) -> 318.21429 | H85: =IFERROR(F85/G85, 0) -> 0.98316498
A86: 85 | E86: =IF(C86="",0,C86*D86) -> 0 | F86: =AVERAGE(E80:E86) -> 312.85714 | G86: =AVERAGE(E59:E86) -> 318.21429 | H86: =IFERROR(F86/G86, 0) -> 0.98316498
A87: 86 | C87: 7 | D87: 90 | E87: =IF(C87="",0,C87*D87) -> 630 | F87: =AVERAGE(E81:E87) -> 300 | G87: =AVERAGE(E60:E87) -> 318.21429 | H87: =IFERROR(F87/G87, 0) -> 0.94276094
A88: 87 | E88: =IF(C88="",0,C88*D88) -> 0 | F88: =AVERAGE(E82:E88) -> 300 | G88: =AVERAGE(E61:E88) -> 318.21429 | H88: =IFERROR(F88/G88, 0) -> 0.94276094
A89: 88 | C89: 5 | D89: 90 | E89: =IF(C89="",0,C89*D89) -> 450 | F89: =AVERAGE(E83:E89) -> 300 | G89: =AVERAGE(E62:E89) -> 315 | H89: =IFERROR(F89/G89, 0) -> 0.95238095
A90: 89 | C90: 4 | D90: 60 | E90: =IF(C90="",0,C90*D90) -> 240 | F90: =AVERAGE(E84:E90) -> 291.42857 | G90: =AVERAGE(E63:E90) -> 315 | H90: =IFERROR(F90/G90, 0) -> 0.92517007
A91: 90 | E91: =IF(C91="",0,C91*D91) -> 0 | F91: =AVERAGE(E85:E91) -> 291.42857 | G91: =AVERAGE(E64:E91) -> 315 | H91: =IFERROR(F91/G91, 0) -> 0.92517007
A92: 91 | C92: 8 | D92: 90 | E92: =IF(C92="",0,C92*D92) -> 720 | F92: =AVERAGE(E86:E92) -> 291.42857 | G92: =AVERAGE(E65:E92) -> 311.78571 | H92: =IFERROR(F92/G92, 0) -> 0.9347079
A93: 92 | E93: =IF(C93="",0,C93*D93) -> 0 | F93: =AVERAGE(E87:E93) -> 291.42857 | G93: =AVERAGE(E66:E93) -> 311.78571 | H93: =IFERROR(F93/G93, 0) -> 0.9347079
A94: 93 | C94: 8 | D94: 90 | E94: =IF(C94="",0,C94*D94) -> 720 | F94: =AVERAGE(E88:E94) -> 304.28571 | G94: =AVERAGE(E67:E94) -> 311.78571 | H94: =IFERROR(F94/G94, 0) -> 0.97594502
A95: 94 | E95: =IF(C95="",0,C95*D95) -> 0 | F95: =AVERAGE(E89:E95) -> 304.28571 | G95: =AVERAGE(E68:E95) -> 311.78571 | H95: =IFERROR(F95/G95, 0) -> 0.97594502
A96: 95 | C96: 6 | D96: 90 | E96: =IF(C96="",0,C96*D96) -> 540 | F96: =AVERAGE(E90:E96) -> 317.14286 | G96: =AVERAGE(E69:E96) -> 315 | H96: =IFERROR(F96/G96, 0) -> 1.0068027
A97: 96 | C97: 4 | D97: 60 | E97: =IF(C97="",0,C97*D97) -> 240 | F97: =AVERAGE(E91:E97) -> 317.14286 | G97: =AVERAGE(E70:E97) -> 312.85714 | H97: =IFERROR(F97/G97, 0) -> 1.0136986
A98: 97 | E98: =IF(C98="",0,C98*D98) -> 0 | F98: =AVERAGE(E92:E98) -> 317.14286 | G98: =AVERAGE(E71:E98) -> 312.85714 | H98: =IFERROR(F98/G98, 0) -> 1.0136986
A99: 98 | C99: 8 | D99: 90 | E99: =IF(C99="",0,C99*D99) -> 720 | F99: =AVERAGE(E93:E99) -> 317.14286 | G99: =AVERAGE(E72:E99) -> 312.85714 | H99: =IFERROR(F99/G99, 0) -> 1.0136986
A100: 99 | E100: =IF(C100="",0,C100*D100) -> 0 | F100: =AVERAGE(E94:E100) -> 317.14286 | G100: =AVERAGE(E73:E100) -> 312.85714 | H100: =IFERROR(F100/G100, 0) -> 1.0136986
...

Sheet Luca Bianchi
A1: Giorno Progressivo | B1: Data (Opzionale) | C1: RPE (1-10) | D1: Durata (min) | E1: Session RPE (UA) | F1: Carico Acuto (Media 7g) | G1: Carico Cronico (Media 28g) | H1: ACWR
A2: 1 | E2: =IF(C2="",0,C2*D2) -> 0 | F2: =AVERAGE(E2:E2) -> 0 | G2: =AVERAGE(E2:E2) -> 0 | H2: =IFERROR(F2/G2, 0) -> 0
A3: 2 | C3: 6 | D3: 90 | E3: =IF(C3="",0,C3*D3) -> 540 | F3: =AVERAGE(E2:E3) -> 270 | G3: =AVERAGE(E2:E3) -> 270 | H3: =IFERROR(F3/G3, 0) -> 1
A4: 3 | E4: =IF(C4="",0,C4*D4) -> 0 | F4: =AVERAGE(E2:E4) -> 180 | G4: =AVERAGE(E2:E4) -> 180 | H4: =IFERROR(F4/G4, 0) -> 1
A5: 4 | C5: 7 | D5: 90 | E5: =IF(C5="",0,C5*D5) -> 630 | F5: =AVERAGE(E2:E5) -> 292.5 | G5: =AVERAGE(E2:E5) -> 292.5 | H5: =IFERROR(F5/G5, 0) -> 1
A6: 5 | C6: 5 | D6: 60 | E6: =IF(C6="",0,C6*D6) -> 300 | F6: =AVERAGE(E2:E6) -> 294 | G6: =AVERAGE(E2:E6) -> 294 | H6: =IFERROR(F6/G6, 0) -> 1
A7: 6 | E7: =IF(C7="",0,C7*D7) -> 0 | F7: =AVERAGE(E2:E7) -> 245 | G7: =AVERAGE(E2:E7) -> 245 | H7: =IFERROR(F7/G7, 0) -> 1
A8: 7 | C8: 8 | D8: 90 | E8: =IF(C8="",0,C8*D8) -> 720 | F8: =AVERAGE(E2:E8) -> 312.85714 | G8: =AVERAGE(E2:E8) -> 312.85714 | H8: =IFERROR(F8/G8, 0) -> 1
A9: 8 | E9: =IF(C9="",0,C9*D9) -> 0 | F9: =AVERAGE(E3:E9) -> 312.85714 | G9: =AVERAGE(E2:E9) -> 273.75 | H9: =IFERROR(F9/G9, 0) -> 1.1428571
A10: 9 | C10: 8 | D10: 90 | E10: =IF(C10="",0,C10*D10) -> 720 | F10: =AVERAGE(E4:E10) -> 338.57143 | G10: =AVERAGE(E2:E10) -> 323.33333 | H10: =IFERROR(F10/G10, 0) -> 1.0471281
A11: 10 | E11: =IF(C11="",0,C11*D11) -> 0 | F11: =AVERAGE(E5:E11) -> 338.57143 | G11: =AVERAGE(E2:E11) -> 291 | H11: =IFERROR(F11/G11, 0) -> 1.1634757
A12: 11 | C12: 7 | D12: 90 | E12: =IF(C12="",0,C12*D12) -> 630 | F12: =AVERAGE(E6:E12) -> 338.57143 | G12: =AVERAGE(E2:E12) -> 321.81818 | H12: =IFERROR(F12/G12, 0) -> 1.0520581
A13: 12 | C13: 5 | D13: 60 | E13: =IF(C13="",0,C13*D13) -> 300 | F13: =AVERAGE(E7:E13) -> 338.57143 | G13: =AVERAGE(E2:E13) -> 320 | H13: =IFERROR(F13/G13, 0) -> 1.0580357
A14: 13 | E14: =IF(C14="",0,C14*D14) -> 0 | F14: =AVERAGE(E8:E14) -> 338.57143 | G14: =AVERAGE(E2:E14) -> 295.38462 | H14: =IFERROR(F14/G14, 0) -> 1.1462054
A15: 14 | C15: 9 | D15: 90 | E15: =IF(C15="",0,C15*D15) -> 810 | F15: =AVERAGE(E9:E15) -> 351.42857 | G15: =AVERAGE(E2:E15) -> 332.14286 | H15: =IFERROR(F15/G15, 0) -> 1.0580645
A16: 15 | E16: =IF(C16="",0,C16*D16) -> 0 | F16: =AVERAGE(E10:E16) -> 351.42857 | G16: =AVERAGE(E2:E16) -> 310 | H16: =IFERROR(F16/G16, 0) -> 1.1336406
A17: 16 | C17: 6 | D17: 90 | E17: =IF(C17="",0,C17*D17) -> 540 | F17: =AVERAGE(E11:E17) -> 325.71429 | G17: =AVERAGE(E2:E17) -> 324.375 | H17: =IFERROR(F17/G17, 0) -> 1.0041288
A18: 17 | E18: =IF(C18="",0,C18*D18) -> 0 | F18: =AVERAGE(E12:E18) -> 325.71429 | G18: =AVERAGE(E2:E18) -> 305.29412 | H18: =IFERROR(F18/G18, 0) -> 1.0668869
A19: 18 | C19: 7 | D19: 90 | E19: =IF(C19="",0,C19*D19) -> 630 | F19: =AVERAGE(E13:E19) -> 325.71429 | G19: =AVERAGE(E2:E19) -> 323.33333 | H19: =IFERROR(F19/G19, 0) -> 1.0073638
A20: 19 | C20: 5 | D20: 60 | E20: =IF(C20="",0,C20*D20) -> 300 | F20: =AVERAGE(E14:E20) -> 325.71429 | G20: =AVERAGE(E2:E20) -> 322.10526 | H20: =IFERROR(F20/G20, 0) -> 1.0112045
A21: 20 | E21: =IF(C21="",0,C21*D21) -> 0 | F21: =AVERAGE(E15:E21) -> 325.71429 | G21: =AVERAGE(E2:E21) -> 306 | H21: =IFERROR(F21/G21, 0) -> 1.0644258
A22: 21 | C22: 8 | D22: 90 | E22: =IF(C22="",0,C22*D22) -> 720 | F22: =AVERAGE(E16:E22) -> 312.85714 | G22: =AVERAGE(E2:E22) -> 325.71429 | H22: =IFERROR(F22/G22, 0) -> 0.96052632
A23: 22 | E23: =IF(C23="",0,C23*D23) -> 0 | F23: =AVERAGE(E17:E23) -> 312.85714 | G23: =AVERAGE(E2:E23) -> 310.90909 | H23: =IFERROR(F23/G23, 0) -> 1.0062657
A24: 23 | C24: 7 | D24: 90 | E24: =IF(C24="",0,C24*D24) -> 630 | F24: =AVERAGE(E18:E24) -> 325.71429 | G24: =AVERAGE(E2:E24) -> 324.78261 | H24: =IFERROR(F24/G24, 0) -> 1.0028686
A25: 24 | E25: =IF(C25="",0,C25*D25) -> 0 | F25: =AVERAGE(E19:E25) -> 325.71429 | G25: =AVERAGE(E2:E25) -> 311.25 | H25: =IFERROR(F25/G25, 0) -> 1.0464716
A26: 25 | C26: 5 | D26: 90 | E26: =IF(C26="",0,C26*D26) -> 450 | F26: =AVERAGE(E20:E26) -> 300 | G26: =AVERAGE(E2:E26) -> 316.8 | H26: =IFERROR(F26/G26, 0) -> 0.9469697
A27: 26 | C27: 5 | D27: 60 | E27: =IF(C27="",0,C27*D27) -> 300 | F27: =AVERAGE(E21:E27) -> 300 | G27: =AVERAGE(E2:E27) -> 316.15385 | H27: =IFERROR(F27/G27, 0) -> 0.94890511
A28: 27 | E28: =IF(C28="",0,C28*D28) -> 0 | F28: =AVERAGE(E22:E28) -> 300 | G28: =AVERAGE(E2:E28) -> 304.44444 | H28: =IFERROR(F28/G28, 0) -> 0.98540146
A29: 28 | C29: 8 | D29: 90 | E29: =IF(C29="",0,C29*D29) -> 720 | F29: =AVERAGE(E23:E29) -> 300 | G29: =AVERAGE(E2:E29) -> 319.28571 | H29: =IFERROR(F29/G29, 0) -> 0.93959732
A30: 29 | E30: =IF(C30="",0,C30*D30) -> 0 | F30: =AVERAGE(E24:E30) -> 300 | G30: =AVERAGE(E3:E30) -> 319.28571 | H30: =IFERROR(F30/G30, 0) -> 0.93959732
A31: 30 | C31: 8 | D31: 90 | E31: =IF(C31="",0,C31*D31) -> 720 | F31: =AVERAGE(E25:E31) -> 312.85714 | G31: =AVERAGE(E4:E31) -> 325.71429 | H31: =IFERROR(F31/G31, 0) -> 0.96052632
A32: 31 | E32: =IF(C32="",0,C32*D32) -> 0 | F32: =AVERAGE(E26:E32) -> 312.85714 | G32: =AVERAGE(E5:E32) -> 325.71429 | H32: =IFERROR(F32/G32, 0) -> 0.96052632
A33: 32 | C33: 6 | D33: 90 | E33: =IF(C33="",0,C33*D33) -> 540 | F33: =AVERAGE(E27:E33) -> 325.71429 | G33: =AVERAGE(E6:E33) -> 322.5 | H33: =IFERROR(F33/G33, 0) -> 1.0099668
A34: 33 | C34: 5 | D34: 60 | E34: =IF(C34="",0,C34*D34) -> 300 | F34: =AVERAGE(E28:E34) -> 325.71429 | G34: =AVERAGE(E7:E34) -> 322.5 | H34: =IFERROR(F34/G34, 0) -> 1.0099668
A35: 34 | E35: =IF(C35="",0,C35*D35) -> 0 | F35: =AVERAGE(E29:E35) -> 325.71429 | G35: =AVERAGE(E8:E35) -> 322.5 | H35: =IFERROR(F35/G35, 0) -> 1.0099668
A36: 35 | C36: 9 | D36: 90 | E36: =IF(C36="",0,C36*D36) -> 810 | F36: =AVERAGE(E30:E36) -> 338.57143 | G36: =AVERAGE(E9:E36) -> 325.71429 | H36: =IFERROR(F36/G36, 0) -> 1.0394737
A37: 36 | E37: =IF(C37="",0,C37*D37) -> 0 | F37: =AVERAGE(E31:E37) -> 338.57143 | G37: =AVERAGE(E10:E37) -> 325.71429 | H37: =IFERROR(F37/G37, 0) -> 1.0394737
A38: 37 | C38: 7 | D38: 90 | E38: =IF(C38="",0,C38*D38) -> 630 | F38: =AVERAGE(E32:E38) -> 325.71429 | G38: =AVERAGE(E11:E38) -> 322.5 | H38: =IFERROR(F38/G38, 0) -> 1.0099668
A39: 38 | E39: =IF(C39="",0,C39*D39) -> 0 | F39: =AVERAGE(E33:E39) -> 325.71429 | G39: =AVERAGE(E12:E39) -> 322.5 | H39: =IFERROR(F39/G39, 0) -> 1.0099668
A40: 39 | C40: 5 | D40: 90 | E40: =IF(C40="",0,C40*D40) -> 450 | F40: =AVERAGE(E34:E40) -> 312.85714 | G40: =AVERAGE(E13:E40) -> 316.07143 | H40: =IFERROR(F40/G40, 0) -> 0.98983051
A41: 40 | C41: 4 | D41: 60 | E41: =IF(C41="",0,C41*D41) -> 240 | F41: =AVERAGE(E35:E41) -> 304.28571 | G41: =AVERAGE(E14:E41) -> 313.92857 | H41: =IFERROR(F41/G41, 0) -> 0.96928328
A42: 41 | E42: =IF(C42="",0,C42*D42) -> 0 | F42: =AVERAGE(E36:E42) -> 304.28571 | G42: =AVERAGE(E15:E42) -> 313.92857 | H42: =IFERROR(F42/G42, 0) -> 0.96928328
A43: 42 | C43: 8 | D43: 90 | E43: =IF(C43="",0,C43*D43) -> 720 | F43: =AVERAGE(E37:E43) -> 291.42857 | G43: =AVERAGE(E16:E43) -> 310.71429 | H43: =IFERROR(F43/G43, 0) -> 0.93793103
A44: 43 | E44: =IF(C44="",0,C44*D44) -> 0 | F44: =AVERAGE(E38:E44) -> 291.42857 | G44: =AVERAGE(E17:E44) -> 310.71429 | H44: =IFERROR(F44/G44, 0) -> 0.93793103
A45: 44 | C45: 8 | D45: 90 | E45: =IF(C45="",0,C45*D45) -> 720 | F45: =AVERAGE(E39:E45) -> 304.28571 | G45: =AVERAGE(E18:E45) -> 317.14286 | H45: =IFERROR(F45/G45, 0) -> 0.95945946
A46: 45 | E46: =IF(C46="",0,C46*D46) -> 0 | F46: =AVERAGE(E40:E46) -> 304.28571 | G46: =AVERAGE(E19:E46) -> 317.14286 | H46: =IFERROR(F46/G46, 0) -> 0.95945946
A47: 46 | C47: 7 | D47: 90 | E47: =IF(C47="",0,C47*D47) -> 630 | F47: =AVERAGE(E41:E47) -> 330 | G47: =AVERAGE(E20:E47) -> 317.14286 | H47: =IFERROR(F47/G47, 0) -> 1.0405405
A48: 47 | C48: 4 | D48: 60 | E48: =IF(C48="",0,C48*D48) -> 240 | F48: =AVERAGE(E42:E48) -> 330 | G48: =AVERAGE(E21:E48) -> 315 | H48: =IFERROR(F48/G48, 0) -> 1.047619
A49: 48 | E49: =IF(C49="",0,C49*D49) -> 0 | F49: =AVERAGE(E43:E49) -> 330 | G49: =AVERAGE(E22:E49) -> 315 | H49: =IFERROR(F49/G49, 0) -> 1.047619
A50: 49 | C50: 9 | D50: 90 | E50: =IF(C50="",0,C50*D50) -> 810 | F50: =AVERAGE(E44:E50) -> 342.85714 | G50: =AVERAGE(E23:E50) -> 318.21429 | H50: =IFERROR(F50/G50, 0) -> 1.0774411
A51: 50 | E51: =IF(C51="",0,C51*D51) -> 0 | F51: =AVERAGE(E45:E51) -> 342.85714 | G51: =AVERAGE(E24:E51) -> 318.21429 | H51: =IFERROR(F51/G51, 0) -> 1.0774411
A52: 51 | C52: 8 | D52: 90 | E52: =IF(C52="",0,C52*D52) -> 720 | F52: =AVERAGE(E46:E52) -> 342.85714 | G52: =AVERAGE(E25:E52) -> 321.42857 | H52: =IFERROR(F52/G52, 0) -> 1.0666667
A53: 52 | E53: =IF(C53="",0,C53*D53) -> 0 | F53: =AVERAGE(E47:E53) -> 342.85714 | G53: =AVERAGE(E26:E53) -> 321.42857 | H53: =IFERROR(F53/G53, 0) -> 1.0666667
A54: 53 | C54: 5 | D54: 90 | E54: =IF(C54="",0,C54*D54) -> 450 | F54: =AVERAGE(E48:E54) -> 317.14286 | G54: =AVERAGE(E27:E54) -> 321.42857 | H54: =IFERROR(F54/G54, 0) -> 0.98666667
A55: 54 | C55: 5 | D55: 60 | E55: =IF(C55="",0,C55*D55) -> 300 | F55: =AVERAGE(E49:E55) -> 325.71429 | G55: =AVERAGE(E28:E55) -> 321.42857 | H55: =IFERROR(F55/G55, 0) -> 1.0133333
A56: 55 | E56: =IF(C56="",0,C56*D56) -> 0 | F56: =AVERAGE(E50:E56) -> 325.71429 | G56: =AVERAGE(E29:E56) -> 321.42857 | H56: =IFERROR(F56/G56, 0) -> 1.0133333
A57: 56 | C57: 9 | D57: 90 | E57: =IF(C57="",0,C57*D57) -> 810 | F57: =AVERAGE(E51:E57) -> 325.71429 | G57: =AVERAGE(E30:E57) -> 324.64286 | H57: =IFERROR(F57/G57, 0) -> 1.0033003
A58: 57 | E58: =IF(C58="",0,C58*D58) -> 0 | F58: =AVERAGE(E52:E58) -> 325.71429 | G58: =AVERAGE(E31:E58) -> 324.64286 | H58: =IFERROR(F58/G58, 0) -> 1.0033003
A59: 58 | C59: 6 | D59: 90 | E59: =IF(C59="",0,C59*D59) -> 540 | F59: =AVERAGE(E53:E59) -> 300 | G59: =AVERAGE(E32:E59) -> 318.21429 | H59: =IFERROR(F59/G59, 0) -> 0.94276094
A60: 59 | E60: =IF(C60="",0,C60*D60) -> 0 | F60: =AVERAGE(E54:E60) -> 300 | G60: =AVERAGE(E33:E60) -> 318.21429 | H60: =IFERROR(F60/G60, 0) -> 0.94276094
A61: 60 | C61: 5 | D61: 90 | E61: =IF(C61="",0,C61*D61) -> 450 | F61: =AVERAGE(E55:E61) -> 300 | G61: =AVERAGE(E34:E61) -> 315 | H61: =IFERROR(F61/G61, 0) -> 0.95238095
A62: 61 | C62: 5 | D62: 60 | E62: =IF(C62="",0,C62*D62) -> 300 | F62: =AVERAGE(E56:E62) -> 300 | G62: =AVERAGE(E35:E62) -> 315 | H62: =IFERROR(F62/G62, 0) -> 0.95238095
A63: 62 | E63: =IF(C63="",0,C63*D63) -> 0 | F63: =AVERAGE(E57:E63) -> 300 | G63: =AVERAGE(E36:E63) -> 315 | H63: =IFERROR(F63/G63, 0) -> 0.95238095
A64: 63 | C64: 9 | D64: 90 | E64: =IF(C64="",0,C64*D64) -> 810 | F64: =AVERAGE(E58:E64) -> 300 | G64: =AVERAGE(E37:E64) -> 315 | H64: =IFERROR(F64/G64, 0) -> 0.95238095
A65: 64 | E65: =IF(C65="",0,C65*D65) -> 0 | F65: =AVERAGE(E59:E65) -> 300 | G65: =AVERAGE(E38:E65) -> 315 | H65: =IFERROR(F65/G65, 0) -> 0.95238095
A66: 65 | C66: 7 | D66: 90 | E66: =IF(C66="",0,C66*D66) -> 630 | F66: =AVERAGE(E60:E66) -> 312.85714 | G66: =AVERAGE(E39:E66) -> 315 | H66: =IFERROR(F66/G66, 0) -> 0.99319728
A67: 66 | E67: =IF(C67="",0,C67*D67) -> 0 | F67: =AVERAGE(E61:E67) -> 312.85714 | G67: =AVERAGE(E40:E67) -> 315 | H67: =IFERROR(F67/G67, 0) -> 0.99319728
A68: 67 | C68: 6 | D68: 90 | E68: =IF(C68="",0,C68*D68) -> 540 | F68: =AVERAGE(E62:E68) -> 325.71429 | G68: =AVERAGE(E41:E68) -> 318.21429 | H68: =IFERROR(F68/G68, 0) -> 1.023569
A69: 68 | C69: 5 | D69: 60 | E69: =IF(C69="",0,C69*D69) -> 300 | F69: =AVERAGE(E63:E69) -> 325.71429 | G69: =AVERAGE(E42:E69) -> 320.35714 | H69: =IFERROR(F69/G69, 0) -> 1.0167224
A70: 69 | E70: =IF(C70="",0,C70*D70) -> 0 | F70: =AVERAGE(E64:E70) -> 325.71429 | G70: =AVERAGE(E43:E70) -> 320.35714 | H70: =IFERROR(F70/G70, 0) -> 1.0167224
A71: 70 | C71: 8 | D71: 90 | E71: =IF(C71="",0,C71*D71) -> 720 | F71: =AVERAGE(E65:E71) -> 312.85714 | G71: =AVERAGE(E44:E71) -> 320.35714 | H71: =IFERROR(F71/G71, 0) -> 0.97658863
A72: 71 | E72: =IF(C72="",0,C72*D72) -> 0 | F72: =AVERAGE(E66:E72) -> 312.85714 | G72: =AVERAGE(E45:E72) -> 320.35714 | H72: =IFERROR(F72/G72, 0) -> 0.97658863
A73: 72 | C73: 6 | D73: 90 | E73: =IF(C73="",0,C73*D73) -> 540 | F73: =AVERAGE(E67:E73) -> 300 | G73: =AVERAGE(E46:E73) -> 313.92857 | H73: =IFERROR(F73/G73, 0) -> 0.9556314
A74: 73 | E74: =IF(C74="",0,C74*D74) -> 0 | F74: =AVERAGE(E68:E74) -> 300 | G74: =AVERAGE(E47:E74) -> 313.92857 | H74: =IFERROR(F74/G74, 0) -> 0.9556314
A75: 74 | C75: 6 | D75: 90 | E75: =IF(C75="",0,C75*D75) -> 540 | F75: =AVERAGE(E69:E75) -> 300 | G75: =AVERAGE(E48:E75) -> 310.71429 | H75: =IFERROR(F75/G75, 0) -> 0.96551724
A76: 75 | C76: 4 | D76: 60 | E76: =IF(C76="",0,C76*D76) -> 240 | F76: =AVERAGE(E70:E76) -> 291.42857 | G76: =AVERAGE(E49:E76) -> 310.71429 | H76: =IFERROR(F76/G76, 0) -> 0.93793103
A77: 76 | E77: =IF(C77="",0,C77*D77) -> 0 | F77: =AVERAGE(E71:E77) -> 291.42857 | G77: =AVERAGE(E50:E77) -> 310.71429 | H77: =IFERROR(F77/G77, 0) -> 0.93793103
A78: 77 | C78: 8 | D78: 90 | E78: =IF(C78="",0,C78*D78) -> 720 | F78: =AVERAGE(E72:E78) -> 291.42857 | G78: =AVERAGE(E51:E78) -> 307.5 | H78: =IFERROR(F78/G78, 0) -> 0.94773519
A79: 78 | E79: =IF(C79="",0,C79*D79) -> 0 | F79: =AVERAGE(E73:E79) -> 291.42857 | G79: =AVERAGE(E52:E79) -> 307.5 | H79: =IFERROR(F79/G79, 0) -> 0.94773519
A80: 79 | C80: 6 | D80: 90 | E80: =IF(C80="",0,C80*D80) -> 540 | F80: =AVERAGE(E74:E80) -> 291.42857 | G80: =AVERAGE(E53:E80) -> 301.07143 | H80: =IFERROR(F80/G80, 0) -> 0.96797153
A81: 80 | E81: =IF(C81="",0,C81*D81) -> 0 | F81: =AVERAGE(E75:E81) -> 291.42857 | G81: =AVERAGE(E54:E81) -> 301.07143 | H81: =IFERROR(F81/G81, 0) -> 0.96797153
A82: 81 | C82: 6 | D82: 90 | E82: =IF(C82="",0,C82*D82) -> 540 | F82: =AVERAGE(E76:E82) -> 291.42857 | G82: =AVERAGE(E55:E82) -> 304.28571 | H82: =IFERROR(F82/G82, 0) -> 0.95774648
A83: 82 | C83: 4 | D83: 60 | E83: =IF(C83="",0,C83*D83) -> 240 | F83: =AVERAGE(E77:E83) -> 291.42857 | G83: =AVERAGE(E56:E83) -> 302.14286 | H83: =IFERROR(F83/G83, 0) -> 0.96453901
A84: 83 | E84: =IF(C84="",0,C84*D84) -> 0 | F84: =AVERAGE(E78:E84) -> 291.42857 | G84: =AVERAGE(E57:E84) -> 302.14286 | H84: =IFERROR(F84/G84, 0) -> 0.96453901
A85: 84 | C85: 9 | D85: 90 | E85: =IF(C85="",0,C85*D85) -> 810 | F85: =AVERAGE(E79:E85) -> 304.28571 | G85: =AVERAGE(E58:E85) -> 302.14286 | H85: =IFERROR(F85/G85, 0) -> 1.0070922
A86: 85 | E86: =IF(C86="",0,C86*D86) -> 0 | F86: =AVERAGE(E80:E86) -> 304.28571 | G86: =AVERAGE(E59:E86) -> 302.14286 | H86: =IFERROR(F86/G86, 0) -> 1.0070922
A87: 86 | C87: 7 | D87: 90 | E87: =IF(C87="",0,C87*D87) -> 630 | F87: =AVERAGE(E81:E87) -> 317.14286 | G87: =AVERAGE(E60:E87) -> 305.35714 | H87: =IFERROR(F87/G87, 0) -> 1.0385965
A88: 87 | E88: =IF(C88="",0,C88*D88) -> 0 | F88: =AVERAGE(E82:E88) -> 317.14286 | G88: =AVERAGE(E61:E88) -> 305.35714 | H88: =IFERROR(F88/G88, 0) -> 1.0385965
A89: 88 | C89: 7 | D89: 90 | E89: =IF(C89="",0,C89*D89) -> 630 | F89: =AVERAGE(E83:E89) -> 330 | G89: =AVERAGE(E62:E89) -> 311.78571 | H89: =IFERROR(F89/G89, 0) -> 1.0584192
A90: 89 | C90: 4 | D90: 60 | E90: =IF(C90="",0,C90*D90) -> 240 | F90: =AVERAGE(E84:E90) -> 330 | G90: =AVERAGE(E63:E90) -> 309.64286 | H90: =IFERROR(F90/G90, 0) -> 1.0657439
A91: 90 | E91: =IF(C91="",0,C91*D91) -> 0 | F91: =AVERAGE(E85:E91) -> 330 | G91: =AVERAGE(E64:E91) -> 309.64286 | H91: =IFERROR(F91/G91, 0) -> 1.0657439
A92: 91 | C92: 9 | D92: 90 | E92: =IF(C92="",0,C92*D92) -> 810 | F92: =AVERAGE(E86:E92) -> 330 | G92: =AVERAGE(E65:E92) -> 309.64286 | H92: =IFERROR(F92/G92, 0) -> 1.0657439
A93: 92 | E93: =IF(C93="",0,C93*D93) -> 0 | F93: =AVERAGE(E87:E93) -> 330 | G93: =AVERAGE(E66:E93) -> 309.64286 | H93: =IFERROR(F93/G93, 0) -> 1.0657439
A94: 93 | C94: 7 | D94: 90 | E94: =IF(C94="",0,C94*D94) -> 630 | F94: =AVERAGE(E88:E94) -> 330 | G94: =AVERAGE(E67:E94) -> 309.64286 | H94: =IFERROR(F94/G94, 0) -> 1.0657439
A95: 94 | E95: =IF(C95="",0,C95*D95) -> 0 | F95: =AVERAGE(E89:E95) -> 330 | G95: =AVERAGE(E68:E95) -> 309.64286 | H95: =IFERROR(F95/G95, 0) -> 1.0657439
A96: 95 | C96: 7 | D96: 90 | E96: =IF(C96="",0,C96*D96) -> 630 | F96: =AVERAGE(E90:E96) -> 330 | G96: =AVERAGE(E69:E96) -> 312.85714 | H96: =IFERROR(F96/G96, 0) -> 1.0547945
A97: 96 | C97: 5 | D97: 60 | E97: =IF(C97="",0,C97*D97) -> 300 | F97: =AVERAGE(E91:E97) -> 338.57143 | G97: =AVERAGE(E70:E97) -> 312.85714 | H97: =IFERROR(F97/G97, 0) -> 1.0821918
A98: 97 | E98: =IF(C98="",0,C98*D98) -> 0 | F98: =AVERAGE(E92:E98) -> 338.57143 | G98: =AVERAGE(E71:E98) -> 312.85714 | H98: =IFERROR(F98/G98, 0) -> 1.0821918
A99: 98 | C99: 8 | D99: 90 | E99: =IF(C99="",0,C99*D99) -> 720 | F99: =AVERAGE(E93:E99) -> 325.71429 | G99: =AVERAGE(E72:E99) -> 312.85714 | H99: =IFERROR(F99/G99, 0) -> 1.0410959
A100: 99 | E100: =IF(C100="",0,C100*D100) -> 0 | F100: =AVERAGE(E94:E100) -> 325.71429 | G100: =AVERAGE(E73:E100) -> 312.85714 | H100: =IFERROR(F100/G100, 0) -> 1.0410959
...

Sheet Alessandro Verdi
A1: Giorno Progressivo | B1: Data (Opzionale) | C1: RPE (1-10) | D1: Durata (min) | E1: Session RPE (UA) | F1: Carico Acuto (Media 7g) | G1: Carico Cronico (Media 28g) | H1: ACWR
A2: 1 | E2: =IF(C2="",0,C2*D2) -> 0 | F2: =AVERAGE(E2:E2) -> 0 | G2: =AVERAGE(E2:E2) -> 0 | H2: =IFERROR(F2/G2, 0) -> 0
A3: 2 | C3: 8 | D3: 90 | E3: =IF(C3="",0,C3*D3) -> 720 | F3: =AVERAGE(E2:E3) -> 360 | G3: =AVERAGE(E2:E3) -> 360 | H3: =IFERROR(F3/G3, 0) -> 1
A4: 3 | E4: =IF(C4="",0,C4*D4) -> 0 | F4: =AVERAGE(E2:E4) -> 240 | G4: =AVERAGE(E2:E4) -> 240 | H4: =IFERROR(F4/G4, 0) -> 1
A5: 4 | C5: 6 | D5: 90 | E5: =IF(C5="",0,C5*D5) -> 540 | F5: =AVERAGE(E2:E5) -> 315 | G5: =AVERAGE(E2:E5) -> 315 | H5: =IFERROR(F5/G5, 0) -> 1
A6: 5 | C6: 5 | D6: 60 | E6: =IF(C6="",0,C6*D6) -> 300 | F6: =AVERAGE(E2:E6) -> 312 | G6: =AVERAGE(E2:E6) -> 312 | H6: =IFERROR(F6/G6, 0) -> 1
A7: 6 | E7: =IF(C7="",0,C7*D7) -> 0 | F7: =AVERAGE(E2:E7) -> 260 | G7: =AVERAGE(E2:E7) -> 260 | H7: =IFERROR(F7/G7, 0) -> 1
A8: 7 | C8: 8 | D8: 90 | E8: =IF(C8="",0,C8*D8) -> 720 | F8: =AVERAGE(E2:E8) -> 325.71429 | G8: =AVERAGE(E2:E8) -> 325.71429 | H8: =IFERROR(F8/G8, 0) -> 1
A9: 8 | E9: =IF(C9="",0,C9*D9) -> 0 | F9: =AVERAGE(E3:E9) -> 325.71429 | G9: =AVERAGE(E2:E9) -> 285 | H9: =IFERROR(F9/G9, 0) -> 1.1428571
A10: 9 | C10: 8 | D10: 90 | E10: =IF(C10="",0,C10*D10) -> 720 | F10: =AVERAGE(E4:E10) -> 325.71429 | G10: =AVERAGE(E2:E10) -> 333.33333 | H10: =IFERROR(F10/G10, 0) -> 0.97714286
A11: 10 | E11: =IF(C11="",0,C11*D11) -> 0 | F11: =AVERAGE(E5:E11) -> 325.71429 | G11: =AVERAGE(E2:E11) -> 300 | H11: =IFERROR(F11/G11, 0) -> 1.0857143
A12: 11 | C12: 6 | D12: 90 | E12: =IF(C12="",0,C12*D12) -> 540 | F12: =AVERAGE(E6:E12) -> 325.71429 | G12: =AVERAGE(E2:E12) -> 321.81818 | H12: =IFERROR(F12/G12, 0) -> 1.0121065
A13: 12 | C13: 4 | D13: 60 | E13: =IF(C13="",0,C13*D13) -> 240 | F13: =AVERAGE(E7:E13) -> 317.14286 | G13: =AVERAGE(E2:E13) -> 315 | H13: =IFERROR(F13/G13, 0) -> 1.0068027
A14: 13 | E14: =IF(C14="",0,C14*D14) -> 0 | F14: =AVERAGE(E8:E14) -> 317.14286 | G14: =AVERAGE(E2:E14) -> 290.76923 | H14: =IFERROR(F14/G14, 0) -> 1.0907029
A15: 14 | C15: 8 | D15: 90 | E15: =IF(C15="",0,C15*D15) -> 720 | F15: =AVERAGE(E9:E15) -> 317.14286 | G15: =AVERAGE(E2:E15) -> 321.42857 | H15: =IFERROR(F15/G15, 0) -> 0.98666667
A16: 15 | E16: =IF(C16="",0,C16*D16) -> 0 | F16: =AVERAGE(E10:E16) -> 317.14286 | G16: =AVERAGE(E2:E16) -> 300 | H16: =IFERROR(F16/G16, 0) -> 1.0571429
A17: 16 | C17: 6 | D17: 90 | E17: =IF(C17="",0,C17*D17) -> 540 | F17: =AVERAGE(E11:E17) -> 291.42857 | G17: =AVERAGE(E2:E17) -> 315 | H17: =IFERROR(F17/G17, 0) -> 0.92517007
A18: 17 | E18: =IF(C18="",0,C18*D18) -> 0 | F18: =AVERAGE(E12:E18) -> 291.42857 | G18: =AVERAGE(E2:E18) -> 296.47059 | H18: =IFERROR(F18/G18, 0) -> 0.9829932
A19: 18 | C19: 5 | D19: 90 | E19: =IF(C19="",0,C19*D19) -> 450 | F19: =AVERAGE(E13:E19) -> 278.57143 | G19: =AVERAGE(E2:E19) -> 305 | H19: =IFERROR(F19/G19, 0) -> 0.91334895
A20: 19 | C20: 4 | D20: 60 | E20: =IF(C20="",0,C20*D20) -> 240 | F20: =AVERAGE(E14:E20) -> 278.57143 | G20: =AVERAGE(E2:E20) -> 301.57895 | H20: =IFERROR(F20/G20, 0) -> 0.9237098
A21: 20 | E21: =IF(C21="",0,C21*D21) -> 0 | F21: =AVERAGE(E15:E21) -> 278.57143 | G21: =AVERAGE(E2:E21) -> 286.5 | H21: =IFERROR(F21/G21, 0) -> 0.9723261
A22: 21 | C22: 9 | D22: 90 | E22: =IF(C22="",0,C22*D22) -> 810 | F22: =AVERAGE(E16:E22) -> 291.42857 | G22: =AVERAGE(E2:E22) -> 311.42857 | H22: =IFERROR(F22/G22, 0) -> 0.93577982
A23: 22 | E23: =IF(C23="",0,C23*D23) -> 0 | F23: =AVERAGE(E17:E23) -> 291.42857 | G23: =AVERAGE(E2:E23) -> 297.27273 | H23: =IFERROR(F23/G23, 0) -> 0.98034076
A24: 23 | C24: 7 | D24: 90 | E24: =IF(C24="",0,C24*D24) -> 630 | F24: =AVERAGE(E18:E24) -> 304.28571 | G24: =AVERAGE(E2:E24) -> 311.73913 | H24: =IFERROR(F24/G24, 0) -> 0.97609085
A25: 24 | E25: =IF(C25="",0,C25*D25) -> 0 | F25: =AVERAGE(E19:E25) -> 304.28571 | G25: =AVERAGE(E2:E25) -> 298.75 | H25: =IFERROR(F25/G25, 0) -> 1.0185296
A26: 25 | C26: 6 | D26: 90 | E26: =IF(C26="",0,C26*D26) -> 540 | F26: =AVERAGE(E20:E26) -> 317.14286 | G26: =AVERAGE(E2:E26) -> 308.4 | H26: =IFERROR(F26/G26, 0) -> 1.0283491
A27: 26 | C27: 5 | D27: 60 | E27: =IF(C27="",0,C27*D27) -> 300 | F27: =AVERAGE(E21:E27) -> 325.71429 | G27: =AVERAGE(E2:E27) -> 308.07692 | H27: =IFERROR(F27/G27, 0) -> 1.0572499
A28: 27 | E28: =IF(C28="",0,C28*D28) -> 0 | F28: =AVERAGE(E22:E28) -> 325.71429 | G28: =AVERAGE(E2:E28) -> 296.66667 | H28: =IFERROR(F28/G28, 0) -> 1.0979133
A29: 28 | C29: 9 | D29: 90 | E29: =IF(C29="",0,C29*D29) -> 810 | F29: =AVERAGE(E23:E29) -> 325.71429 | G29: =AVERAGE(E2:E29) -> 315 | H29: =IFERROR(F29/G29, 0) -> 1.0340136
A30: 29 | E30: =IF(C30="",0,C30*D30) -> 0 | F30: =AVERAGE(E24:E30) -> 325.71429 | G30: =AVERAGE(E3:E30) -> 315 | H30: =IFERROR(F30/G30, 0) -> 1.0340136
A31: 30 | C31: 7 | D31: 90 | E31: =IF(C31="",0,C31*D31) -> 630 | F31: =AVERAGE(E25:E31) -> 325.71429 | G31: =AVERAGE(E4:E31) -> 311.78571 | H31: =IFERROR(F31/G31, 0) -> 1.0446735
A32: 31 | E32: =IF(C32="",0,C32*D32) -> 0 | F32: =AVERAGE(E26:E32) -> 325.71429 | G32: =AVERAGE(E5:E32) -> 311.78571 | H32: =IFERROR(F32/G32, 0) -> 1.0446735
A33: 32 | C33: 6 | D33: 90 | E33: =IF(C33="",0,C33*D33) -> 540 | F33: =AVERAGE(E27:E33) -> 325.71429 | G33: =AVERAGE(E6:E33) -> 311.78571 | H33: =IFERROR(F33/G33, 0) -> 1.0446735
A34: 33 | C34: 5 | D34: 60 | E34: =IF(C34="",0,C34*D34) -> 300 | F34: =AVERAGE(E28:E34) -> 325.71429 | G34: =AVERAGE(E7:E34) -> 311.78571 | H34: =IFERROR(F34/G34, 0) -> 1.0446735
A35: 34 | E35: =IF(C35="",0,C35*D35) -> 0 | F35: =AVERAGE(E29:E35) -> 325.71429 | G35: =AVERAGE(E8:E35) -> 311.78571 | H35: =IFERROR(F35/G35, 0) -> 1.0446735
A36: 35 | C36: 9 | D36: 90 | E36: =IF(C36="",0,C36*D36) -> 810 | F36: =AVERAGE(E30:E36) -> 325.71429 | G36: =AVERAGE(E9:E36) -> 315 | H36: =IFERROR(F36/G36, 0) -> 1.0340136
A37: 36 | E37: =IF(C37="",0,C37*D37) -> 0 | F37: =AVERAGE(E31:E37) -> 325.71429 | G37: =AVERAGE(E10:E37) -> 315 | H37: =IFERROR(F37/G37, 0) -> 1.0340136
A38: 37 | C38: 8 | D38: 90 | E38: =IF(C38="",0,C38*D38) -> 720 | F38: =AVERAGE(E32:E38) -> 338.57143 | G38: =AVERAGE(E11:E38) -> 315 | H38: =IFERROR(F38/G38, 0) -> 1.0748299
A39: 38 | E39: =IF(C39="",0,C39*D39) -> 0 | F39: =AVERAGE(E33:E39) -> 338.57143 | G39: =AVERAGE(E12:E39) -> 315 | H39: =IFERROR(F39/G39, 0) -> 1.0748299
A40: 39 | C40: 7 | D40: 90 | E40: =IF(C40="",0,C40*D40) -> 630 | F40: =AVERAGE(E34:E40) -> 351.42857 | G40: =AVERAGE(E13:E40) -> 318.21429 | H40: =IFERROR(F40/G40, 0) -> 1.1043771
A41: 40 | C41: 5 | D41: 60 | E41: =IF(C41="",0,C41*D41) -> 300 | F41: =AVERAGE(E35:E41) -> 351.42857 | G41: =AVERAGE(E14:E41) -> 320.35714 | H41: =IFERROR(F41/G41, 0) -> 1.09699
A42: 41 | E42: =IF(C42="",0,C42*D42) -> 0 | F42: =AVERAGE(E36:E42) -> 351.42857 | G42: =AVERAGE(E15:E42) -> 320.35714 | H42: =IFERROR(F42/G42, 0) -> 1.09699
A43: 42 | C43: 8 | D43: 90 | E43: =IF(C43="",0,C43*D43) -> 720 | F43: =AVERAGE(E37:E43) -> 338.57143 | G43: =AVERAGE(E16:E43) -> 320.35714 | H43: =IFERROR(F43/G43, 0) -> 1.0568562
A44: 43 | E44: =IF(C44="",0,C44*D44) -> 0 | F44: =AVERAGE(E38:E44) -> 338.57143 | G44: =AVERAGE(E17:E44) -> 320.35714 | H44: =IFERROR(F44/G44, 0) -> 1.0568562
A45: 44 | C45: 6 | D45: 90 | E45: =IF(C45="",0,C45*D45) -> 540 | F45: =AVERAGE(E39:E45) -> 312.85714 | G45: =AVERAGE(E18:E45) -> 320.35714 | H45: =IFERROR(F45/G45, 0) -> 0.97658863
A46: 45 | E46: =IF(C46="",0,C46*D46) -> 0 | F46: =AVERAGE(E40:E46) -> 312.85714 | G46: =AVERAGE(E19:E46) -> 320.35714 | H46: =IFERROR(F46/G46, 0) -> 0.97658863
A47: 46 | C47: 6 | D47: 90 | E47: =IF(C47="",0,C47*D47) -> 540 | F47: =AVERAGE(E41:E47) -> 300 | G47: =AVERAGE(E20:E47) -> 323.57143 | H47: =IFERROR(F47/G47, 0) -> 0.92715232
A48: 47 | C48: 4 | D48: 60 | E48: =IF(C48="",0,C48*D48) -> 240 | F48: =AVERAGE(E42:E48) -> 291.42857 | G48: =AVERAGE(E21:E48) -> 323.57143 | H48: =IFERROR(F48/G48, 0) -> 0.90066225
A49: 48 | E49: =IF(C49="",0,C49*D49) -> 0 | F49: =AVERAGE(E43:E49) -> 291.42857 | G49: =AVERAGE(E22:E49) -> 323.57143 | H49: =IFERROR(F49/G49, 0) -> 0.90066225
A50: 49 | C50: 9 | D50: 90 | E50: =IF(C50="",0,C50*D50) -> 810 | F50: =AVERAGE(E44:E50) -> 304.28571 | G50: =AVERAGE(E23:E50) -> 323.57143 | H50: =IFERROR(F50/G50, 0) -> 0.94039735
A51: 50 | E51: =IF(C51="",0,C51*D51) -> 0 | F51: =AVERAGE(E45:E51) -> 304.28571 | G51: =AVERAGE(E24:E51) -> 323.57143 | H51: =IFERROR(F51/G51, 0) -> 0.94039735
A52: 51 | C52: 8 | D52: 90 | E52: =IF(C52="",0,C52*D52) -> 720 | F52: =AVERAGE(E46:E52) -> 330 | G52: =AVERAGE(E25:E52) -> 326.78571 | H52: =IFERROR(F52/G52, 0) -> 1.0098361
A53: 52 | E53: =IF(C53="",0,C53*D53) -> 0 | F53: =AVERAGE(E47:E53) -> 330 | G53: =AVERAGE(E26:E53) -> 326.78571 | H53: =IFERROR(F53/G53, 0) -> 1.0098361
A54: 53 | C54: 7 | D54: 90 | E54: =IF(C54="",0,C54*D54) -> 630 | F54: =AVERAGE(E48:E54) -> 342.85714 | G54: =AVERAGE(E27:E54) -> 330 | H54: =IFERROR(F54/G54, 0) -> 1.038961
A55: 54 | C55: 4 | D55: 60 | E55: =IF(C55="",0,C55*D55) -> 240 | F55: =AVERAGE(E49:E55) -> 342.85714 | G55: =AVERAGE(E28:E55) -> 327.85714 | H55: =IFERROR(F55/G55, 0) -> 1.0457516
A56: 55 | E56: =IF(C56="",0,C56*D56) -> 0 | F56: =AVERAGE(E50:E56) -> 342.85714 | G56: =AVERAGE(E29:E56) -> 327.85714 | H56: =IFERROR(F56/G56, 0) -> 1.0457516
A57: 56 | C57: 9 | D57: 90 | E57: =IF(C57="",0,C57*D57) -> 810 | F57: =AVERAGE(E51:E57) -> 342.85714 | G57: =AVERAGE(E30:E57) -> 327.85714 | H57: =IFERROR(F57/G57, 0) -> 1.0457516
A58: 57 | E58: =IF(C58="",0,C58*D58) -> 0 | F58: =AVERAGE(E52:E58) -> 342.85714 | G58: =AVERAGE(E31:E58) -> 327.85714 | H58: =IFERROR(F58/G58, 0) -> 1.0457516
A59: 58 | C59: 7 | D59: 90 | E59: =IF(C59="",0,C59*D59) -> 630 | F59: =AVERAGE(E53:E59) -> 330 | G59: =AVERAGE(E32:E59) -> 327.85714 | H59: =IFERROR(F59/G59, 0) -> 1.0065359
A60: 59 | E60: =IF(C60="",0,C60*D60) -> 0 | F60: =AVERAGE(E54:E60) -> 330 | G60: =AVERAGE(E33:E60) -> 327.85714 | H60: =IFERROR(F60/G60, 0) -> 1.0065359
A61: 60 | C61: 6 | D61: 90 | E61: =IF(C61="",0,C61*D61) -> 540 | F61: =AVERAGE(E55:E61) -> 317.14286 | G61: =AVERAGE(E34:E61) -> 327.85714 | H61: =IFERROR(F61/G61, 0) -> 0.96732026
A62: 61 | C62: 4 | D62: 60 | E62: =IF(C62="",0,C62*D62) -> 240 | F62: =AVERAGE(E56:E62) -> 317.14286 | G62: =AVERAGE(E35:E62) -> 325.71429 | H62: =IFERROR(F62/G62, 0) -> 0.97368421
A63: 62 | E63: =IF(C63="",0,C63*D63) -> 0 | F63: =AVERAGE(E57:E63) -> 317.14286 | G63: =AVERAGE(E36:E63) -> 325.71429 | H63: =IFERROR(F63/G63, 0) -> 0.97368421
A64: 63 | C64: 9 | D64: 90 | E64: =IF(C64="",0,C64*D64) -> 810 | F64: =AVERAGE(E58:E64) -> 317.14286 | G64: =AVERAGE(E37:E64) -> 325.71429 | H64: =IFERROR(F64/G64, 0) -> 0.97368421
A65: 64 | E65: =IF(C65="",0,C65*D65) -> 0 | F65: =AVERAGE(E59:E65) -> 317.14286 | G65: =AVERAGE(E38:E65) -> 325.71429 | H65: =IFERROR(F65/G65, 0) -> 0.97368421
A66: 65 | C66: 8 | D66: 90 | E66: =IF(C66="",0,C66*D66) -> 720 | F66: =AVERAGE(E60:E66) -> 330 | G66: =AVERAGE(E39:E66) -> 325.71429 | H66: =IFERROR(F66/G66, 0) -> 1.0131579
A67: 66 | E67: =IF(C67="",0,C67*D67) -> 0 | F67: =AVERAGE(E61:E67) -> 330 | G67: =AVERAGE(E40:E67) -> 325.71429 | H67: =IFERROR(F67/G67, 0) -> 1.0131579
A68: 67 | C68: 5 | D68: 90 | E68: =IF(C68="",0,C68*D68) -> 450 | F68: =AVERAGE(E62:E68) -> 317.14286 | G68: =AVERAGE(E41:E68) -> 319.28571 | H68: =IFERROR(F68/G68, 0) -> 0.99328859
A69: 68 | C69: 5 | D69: 60 | E69: =IF(C69="",0,C69*D69) -> 300 | F69: =AVERAGE(E63:E69) -> 325.71429 | G69: =AVERAGE(E42:E69) -> 319.28571 | H69: =IFERROR(F69/G69, 0) -> 1.0201342
A70: 69 | E70: =IF(C70="",0,C70*D70) -> 0 | F70: =AVERAGE(E64:E70) -> 325.71429 | G70: =AVERAGE(E43:E70) -> 319.28571 | H70: =IFERROR(F70/G70, 0) -> 1.0201342
A71: 70 | C71: 8 | D71: 90 | E71: =IF(C71="",0,C71*D71) -> 720 | F71: =AVERAGE(E65:E71) -> 312.85714 | G71: =AVERAGE(E44:E71) -> 319.28571 | H71: =IFERROR(F71/G71, 0) -> 0.97986577
A72: 71 | E72: =IF(C72="",0,C72*D72) -> 0 | F72: =AVERAGE(E66:E72) -> 312.85714 | G72: =AVERAGE(E45:E72) -> 319.28571 | H72: =IFERROR(F72/G72, 0) -> 0.97986577
A73: 72 | C73: 7 | D73: 90 | E73: =IF(C73="",0,C73*D73) -> 630 | F73: =AVERAGE(E67:E73) -> 300 | G73: =AVERAGE(E46:E73) -> 322.5 | H73: =IFERROR(F73/G73, 0) -> 0.93023256
A74: 73 | E74: =IF(C74="",0,C74*D74) -> 0 | F74: =AVERAGE(E68:E74) -> 300 | G74: =AVERAGE(E47:E74) -> 322.5 | H74: =IFERROR(F74/G74, 0) -> 0.93023256
A75: 74 | C75: 6 | D75: 90 | E75: =IF(C75="",0,C75*D75) -> 540 | F75: =AVERAGE(E69:E75) -> 312.85714 | G75: =AVERAGE(E48:E75) -> 322.5 | H75: =IFERROR(F75/G75, 0) -> 0.97009967
A76: 75 | C76: 4 | D76: 60 | E76: =IF(C76="",0,C76*D76) -> 240 | F76: =AVERAGE(E70:E76) -> 304.28571 | G76: =AVERAGE(E49:E76) -> 322.5 | H76: =IFERROR(F76/G76, 0) -> 0.94352159
A77: 76 | E77: =IF(C77="",0,C77*D77) -> 0 | F77: =AVERAGE(E71:E77) -> 304.28571 | G77: =AVERAGE(E50:E77) -> 322.5 | H77: =IFERROR(F77/G77, 0) -> 0.94352159
A78: 77 | C78: 9 | D78: 90 | E78: =IF(C78="",0,C78*D78) -> 810 | F78: =AVERAGE(E72:E78) -> 317.14286 | G78: =AVERAGE(E51:E78) -> 322.5 | H78: =IFERROR(F78/G78, 0) -> 0.9833887
A79: 78 | E79: =IF(C79="",0,C79*D79) -> 0 | F79: =AVERAGE(E73:E79) -> 317.14286 | G79: =AVERAGE(E52:E79) -> 322.5 | H79: =IFERROR(F79/G79, 0) -> 0.9833887
A80: 79 | C80: 8 | D80: 90 | E80: =IF(C80="",0,C80*D80) -> 720 | F80: =AVERAGE(E74:E80) -> 330 | G80: =AVERAGE(E53:E80) -> 322.5 | H80: =IFERROR(F80/G80, 0) -> 1.0232558
A81: 80 | E81: =IF(C81="",0,C81*D81) -> 0 | F81: =AVERAGE(E75:E81) -> 330 | G81: =AVERAGE(E54:E81) -> 322.5 | H81: =IFERROR(F81/G81, 0) -> 1.0232558
A82: 81 | C82: 7 | D82: 90 | E82: =IF(C82="",0,C82*D82) -> 630 | F82: =AVERAGE(E76:E82) -> 342.85714 | G82: =AVERAGE(E55:E82) -> 322.5 | H82: =IFERROR(F82/G82, 0) -> 1.0631229
A83: 82 | C83: 5 | D83: 60 | E83: =IF(C83="",0,C83*D83) -> 300 | F83: =AVERAGE(E77:E83) -> 351.42857 | G83: =AVERAGE(E56:E83) -> 324.64286 | H83: =IFERROR(F83/G83, 0) -> 1.0825083
A84: 83 | E84: =IF(C84="",0,C84*D84) -> 0 | F84: =AVERAGE(E78:E84) -> 351.42857 | G84: =AVERAGE(E57:E84) -> 324.64286 | H84: =IFERROR(F84/G84, 0) -> 1.0825083
A85: 84 | C85: 9 | D85: 90 | E85: =IF(C85="",0,C85*D85) -> 810 | F85: =AVERAGE(E79:E85) -> 351.42857 | G85: =AVERAGE(E58:E85) -> 324.64286 | H85: =IFERROR(F85/G85, 0) -> 1.0825083
A86: 85 | E86: =IF(C86="",0,C86*D86) -> 0 | F86: =AVERAGE(E80:E86) -> 351.42857 | G86: =AVERAGE(E59:E86) -> 324.64286 | H86: =IFERROR(F86/G86, 0) -> 1.0825083
A87: 86 | C87: 8 | D87: 90 | E87: =IF(C87="",0,C87*D87) -> 720 | F87: =AVERAGE(E81:E87) -> 351.42857 | G87: =AVERAGE(E60:E87) -> 327.85714 | H87: =IFERROR(F87/G87, 0) -> 1.0718954
A88: 87 | E88: =IF(C88="",0,C88*D88) -> 0 | F88: =AVERAGE(E82:E88) -> 351.42857 | G88: =AVERAGE(E61:E88) -> 327.85714 | H88: =IFERROR(F88/G88, 0) -> 1.0718954
A89: 88 | C89: 7 | D89: 90 | E89: =IF(C89="",0,C89*D89) -> 630 | F89: =AVERAGE(E83:E89) -> 351.42857 | G89: =AVERAGE(E62:E89) -> 331.07143 | H89: =IFERROR(F89/G89, 0) -> 1.0614887
A90: 89 | C90: 5 | D90: 60 | E90: =IF(C90="",0,C90*D90) -> 300 | F90: =AVERAGE(E84:E90) -> 351.42857 | G90: =AVERAGE(E63:E90) -> 333.21429 | H90: =IFERROR(F90/G90, 0) -> 1.0546624
A91: 90 | E91: =IF(C91="",0,C91*D91) -> 0 | F91: =AVERAGE(E85:E91) -> 351.42857 | G91: =AVERAGE(E64:E91) -> 333.21429 | H91: =IFERROR(F91/G91, 0) -> 1.0546624
A92: 91 | C92: 8 | D92: 90 | E92: =IF(C92="",0,C92*D92) -> 720 | F92: =AVERAGE(E86:E92) -> 338.57143 | G92: =AVERAGE(E65:E92) -> 330 | H92: =IFERROR(F92/G92, 0) -> 1.025974
A93: 92 | E93: =IF(C93="",0,C93*D93) -> 0 | F93: =AVERAGE(E87:E93) -> 338.57143 | G93: =AVERAGE(E66:E93) -> 330 | H93: =IFERROR(F93/G93, 0) -> 1.025974
A94: 93 | C94: 8 | D94: 90 | E94: =IF(C94="",0,C94*D94) -> 720 | F94: =AVERAGE(E88:E94) -> 338.57143 | G94: =AVERAGE(E67:E94) -> 330 | H94: =IFERROR(F94/G94, 0) -> 1.025974
A95: 94 | E95: =IF(C95="",0,C95*D95) -> 0 | F95: =AVERAGE(E89:E95) -> 338.57143 | G95: =AVERAGE(E68:E95) -> 330 | H95: =IFERROR(F95/G95, 0) -> 1.025974
A96: 95 | C96: 5 | D96: 90 | E96: =IF(C96="",0,C96*D96) -> 450 | F96: =AVERAGE(E90:E96) -> 312.85714 | G96: =AVERAGE(E69:E96) -> 330 | H96: =IFERROR(F96/G96, 0) -> 0.94805195
A97: 96 | C97: 5 | D97: 60 | E97: =IF(C97="",0,C97*D97) -> 300 | F97: =AVERAGE(E91:E97) -> 312.85714 | G97: =AVERAGE(E70:E97) -> 330 | H97: =IFERROR(F97/G97, 0) -> 0.94805195
A98: 97 | E98: =IF(C98="",0,C98*D98) -> 0 | F98: =AVERAGE(E92:E98) -> 312.85714 | G98: =AVERAGE(E71:E98) -> 330 | H98: =IFERROR(F98/G98, 0) -> 0.94805195
A99: 98 | C99: 8 | D99: 90 | E99: =IF(C99="",0,C99*D99) -> 720 | F99: =AVERAGE(E93:E99) -> 312.85714 | G99: =AVERAGE(E72:E99) -> 330 | H99: =IFERROR(F99/G99, 0) -> 0.94805195
A100: 99 | E100: =IF(C100="",0,C100*D100) -> 0 | F100: =AVERAGE(E94:E100) -> 312.85714 | G100: =AVERAGE(E73:E100) -> 330 | H100: =IFERROR(F100/G100, 0) -> 0.94805195
...

Sheet Francesco Neri
A1: Giorno Progressivo | B1: Data (Opzionale) | C1: RPE (1-10) | D1: Durata (min) | E1: Session RPE (UA) | F1: Carico Acuto (Media 7g) | G1: Carico Cronico (Media 28g) | H1: ACWR
A2: 1 | E2: =IF(C2="",0,C2*D2) -> 0 | F2: =AVERAGE(E2:E2) -> 0 | G2: =AVERAGE(E2:E2) -> 0 | H2: =IFERROR(F2/G2, 0) -> 0
A3: 2 | C3: 6 | D3: 90 | E3: =IF(C3="",0,C3*D3) -> 540 | F3: =AVERAGE(E2:E3) -> 270 | G3: =AVERAGE(E2:E3) -> 270 | H3: =IFERROR(F3/G3, 0) -> 1
A4: 3 | E4: =IF(C4="",0,C4*D4) -> 0 | F4: =AVERAGE(E2:E4) -> 180 | G4: =AVERAGE(E2:E4) -> 180 | H4: =IFERROR(F4/G4, 0) -> 1
A5: 4 | C5: 6 | D5: 90 | E5: =IF(C5="",0,C5*D5) -> 540 | F5: =AVERAGE(E2:E5) -> 270 | G5: =AVERAGE(E2:E5) -> 270 | H5: =IFERROR(F5/G5, 0) -> 1
A6: 5 | C6: 5 | D6: 60 | E6: =IF(C6="",0,C6*D6) -> 300 | F6: =AVERAGE(E2:E6) -> 276 | G6: =AVERAGE(E2:E6) -> 276 | H6: =IFERROR(F6/G6, 0) -> 1
A7: 6 | E7: =IF(C7="",0,C7*D7) -> 0 | F7: =AVERAGE(E2:E7) -> 230 | G7: =AVERAGE(E2:E7) -> 230 | H7: =IFERROR(F7/G7, 0) -> 1
A8: 7 | C8: 8 | D8: 90 | E8: =IF(C8="",0,C8*D8) -> 720 | F8: =AVERAGE(E2:E8) -> 300 | G8: =AVERAGE(E2:E8) -> 300 | H8: =IFERROR(F8/G8, 0) -> 1
A9: 8 | E9: =IF(C9="",0,C9*D9) -> 0 | F9: =AVERAGE(E3:E9) -> 300 | G9: =AVERAGE(E2:E9) -> 262.5 | H9: =IFERROR(F9/G9, 0) -> 1.1428571
A10: 9 | C10: 7 | D10: 90 | E10: =IF(C10="",0,C10*D10) -> 630 | F10: =AVERAGE(E4:E10) -> 312.85714 | G10: =AVERAGE(E2:E10) -> 303.33333 | H10: =IFERROR(F10/G10, 0) -> 1.0313972
A11: 10 | E11: =IF(C11="",0,C11*D11) -> 0 | F11: =AVERAGE(E5:E11) -> 312.85714 | G11: =AVERAGE(E2:E11) -> 273 | H11: =IFERROR(F11/G11, 0) -> 1.1459969
A12: 11 | C12: 6 | D12: 90 | E12: =IF(C12="",0,C12*D12) -> 540 | F12: =AVERAGE(E6:E12) -> 312.85714 | G12: =AVERAGE(E2:E12) -> 297.27273 | H12: =IFERROR(F12/G12, 0) -> 1.0524246
A13: 12 | C13: 4 | D13: 60 | E13: =IF(C13="",0,C13*D13) -> 240 | F13: =AVERAGE(E7:E13) -> 304.28571 | G13: =AVERAGE(E2:E13) -> 292.5 | H13: =IFERROR(F13/G13, 0) -> 1.040293
A14: 13 | E14: =IF(C14="",0,C14*D14) -> 0 | F14: =AVERAGE(E8:E14) -> 304.28571 | G14: =AVERAGE(E2:E14) -> 270 | H14: =IFERROR(F14/G14, 0) -> 1.1269841
A15: 14 | C15: 9 | D15: 90 | E15: =IF(C15="",0,C15*D15) -> 810 | F15: =AVERAGE(E9:E15) -> 317.14286 | G15: =AVERAGE(E2:E15) -> 308.57143 | H15: =IFERROR(F15/G15, 0) -> 1.0277778
A16: 15 | E16: =IF(C16="",0,C16*D16) -> 0 | F16: =AVERAGE(E10:E16) -> 317.14286 | G16: =AVERAGE(E2:E16) -> 288 | H16: =IFERROR(F16/G16, 0) -> 1.1011905
A17: 16 | C17: 8 | D17: 90 | E17: =IF(C17="",0,C17*D17) -> 720 | F17: =AVERAGE(E11:E17) -> 330 | G17: =AVERAGE(E2:E17) -> 315 | H17: =IFERROR(F17/G17, 0) -> 1.047619
A18: 17 | E18: =IF(C18="",0,C18*D18) -> 0 | F18: =AVERAGE(E12:E18) -> 330 | G18: =AVERAGE(E2:E18) -> 296.47059 | H18: =IFERROR(F18/G18, 0) -> 1.1130952
A19: 18 | C19: 6 | D19: 90 | E19: =IF(C19="",0,C19*D19) -> 540 | F19: =AVERAGE(E13:E19) -> 330 | G19: =AVERAGE(E2:E19) -> 310 | H19: =IFERROR(F19/G19, 0) -> 1.0645161
A20: 19 | C20: 5 | D20: 60 | E20: =IF(C20="",0,C20*D20) -> 300 | F20: =AVERAGE(E14:E20) -> 338.57143 | G20: =AVERAGE(E2:E20) -> 309.47368 | H20: =IFERROR(F20/G20, 0) -> 1.0940233
A21: 20 | E21: =IF(C21="",0,C21*D21) -> 0 | F21: =AVERAGE(E15:E21) -> 338.57143 | G21: =AVERAGE(E2:E21) -> 294 | H21: =IFERROR(F21/G21, 0) -> 1.1516035
A22: 21 | C22: 8 | D22: 90 | E22: =IF(C22="",0,C22*D22) -> 720 | F22: =AVERAGE(E16:E22) -> 325.71429 | G22: =AVERAGE(E2:E22) -> 314.28571 | H22: =IFERROR(F22/G22, 0) -> 1.0363636
A23: 22 | E23: =IF(C23="",0,C23*D23) -> 0 | F23: =AVERAGE(E17:E23) -> 325.71429 | G23: =AVERAGE(E2:E23) -> 300 | H23: =IFERROR(F23/G23, 0) -> 1.0857143
A24: 23 | C24: 7 | D24: 90 | E24: =IF(C24="",0,C24*D24) -> 630 | F24: =AVERAGE(E18:E24) -> 312.85714 | G24: =AVERAGE(E2:E24) -> 314.34783 | H24: =IFERROR(F24/G24, 0) -> 0.99525785
A25: 24 | E25: =IF(C25="",0,C25*D25) -> 0 | F25: =AVERAGE(E19:E25) -> 312.85714 | G25: =AVERAGE(E2:E25) -> 301.25 | H25: =IFERROR(F25/G25, 0) -> 1.0385299
A26: 25 | C26: 6 | D26: 90 | E26: =IF(C26="",0,C26*D26) -> 540 | F26: =AVERAGE(E20:E26) -> 312.85714 | G26: =AVERAGE(E2:E26) -> 310.8 | H26: =IFERROR(F26/G26, 0) -> 1.0066189
A27: 26 | C27: 5 | D27: 60 | E27: =IF(C27="",0,C27*D27) -> 300 | F27: =AVERAGE(E21:E27) -> 312.85714 | G27: =AVERAGE(E2:E27) -> 310.38462 | H27: =IFERROR(F27/G27, 0) -> 1.007966
A28: 27 | E28: =IF(C28="",0,C28*D28) -> 0 | F28: =AVERAGE(E22:E28) -> 312.85714 | G28: =AVERAGE(E2:E28) -> 298.88889 | H28: =IFERROR(F28/G28, 0) -> 1.0467339
A29: 28 | C29: 8 | D29: 90 | E29: =IF(C29="",0,C29*D29) -> 720 | F29: =AVERAGE(E23:E29) -> 312.85714 | G29: =AVERAGE(E2:E29) -> 313.92857 | H29: =IFERROR(F29/G29, 0) -> 0.99658703
A30: 29 | E30: =IF(C30="",0,C30*D30) -> 0 | F30: =AVERAGE(E24:E30) -> 312.85714 | G30: =AVERAGE(E3:E30) -> 313.92857 | H30: =IFERROR(F30/G30, 0) -> 0.99658703
A31: 30 | C31: 7 | D31: 90 | E31: =IF(C31="",0,C31*D31) -> 630 | F31: =AVERAGE(E25:E31) -> 312.85714 | G31: =AVERAGE(E4:E31) -> 317.14286 | H31: =IFERROR(F31/G31, 0) -> 0.98648649
A32: 31 | E32: =IF(C32="",0,C32*D32) -> 0 | F32: =AVERAGE(E26:E32) -> 312.85714 | G32: =AVERAGE(E5:E32) -> 317.14286 | H32: =IFERROR(F32/G32, 0) -> 0.98648649
A33: 32 | C33: 6 | D33: 90 | E33: =IF(C33="",0,C33*D33) -> 540 | F33: =AVERAGE(E27:E33) -> 312.85714 | G33: =AVERAGE(E6:E33) -> 317.14286 | H33: =IFERROR(F33/G33, 0) -> 0.98648649
A34: 33 | C34: 5 | D34: 60 | E34: =IF(C34="",0,C34*D34) -> 300 | F34: =AVERAGE(E28:E34) -> 312.85714 | G34: =AVERAGE(E7:E34) -> 317.14286 | H34: =IFERROR(F34/G34, 0) -> 0.98648649
A35: 34 | E35: =IF(C35="",0,C35*D35) -> 0 | F35: =AVERAGE(E29:E35) -> 312.85714 | G35: =AVERAGE(E8:E35) -> 317.14286 | H35: =IFERROR(F35/G35, 0) -> 0.98648649
A36: 35 | C36: 9 | D36: 90 | E36: =IF(C36="",0,C36*D36) -> 810 | F36: =AVERAGE(E30:E36) -> 325.71429 | G36: =AVERAGE(E9:E36) -> 320.35714 | H36: =IFERROR(F36/G36, 0) -> 1.0167224
A37: 36 | E37: =IF(C37="",0,C37*D37) -> 0 | F37: =AVERAGE(E31:E37) -> 325.71429 | G37: =AVERAGE(E10:E37) -> 320.35714 | H37: =IFERROR(F37/G37, 0) -> 1.0167224
A38: 37 | C38: 6 | D38: 90 | E38: =IF(C38="",0,C38*D38) -> 540 | F38: =AVERAGE(E32:E38) -> 312.85714 | G38: =AVERAGE(E11:E38) -> 317.14286 | H38: =IFERROR(F38/G38, 0) -> 0.98648649
A39: 38 | E39: =IF(C39="",0,C39*D39) -> 0 | F39: =AVERAGE(E33:E39) -> 312.85714 | G39: =AVERAGE(E12:E39) -> 317.14286 | H39: =IFERROR(F39/G39, 0) -> 0.98648649
A40: 39 | C40: 7 | D40: 90 | E40: =IF(C40="",0,C40*D40) -> 630 | F40: =AVERAGE(E34:E40) -> 325.71429 | G40: =AVERAGE(E13:E40) -> 320.35714 | H40: =IFERROR(F40/G40, 0) -> 1.0167224
A41: 40 | C41: 4 | D41: 60 | E41: =IF(C41="",0,C41*D41) -> 240 | F41: =AVERAGE(E35:E41) -> 317.14286 | G41: =AVERAGE(E14:E41) -> 320.35714 | H41: =IFERROR(F41/G41, 0) -> 0.98996656
A42: 41 | E42: =IF(C42="",0,C42*D42) -> 0 | F42: =AVERAGE(E36:E42) -> 317.14286 | G42: =AVERAGE(E15:E42) -> 320.35714 | H42: =IFERROR(F42/G42, 0) -> 0.98996656
A43: 42 | C43: 9 | D43: 90 | E43: =IF(C43="",0,C43*D43) -> 810 | F43: =AVERAGE(E37:E43) -> 317.14286 | G43: =AVERAGE(E16:E43) -> 320.35714 | H43: =IFERROR(F43/G43, 0) -> 0.98996656
A44: 43 | E44: =IF(C44="",0,C44*D44) -> 0 | F44: =AVERAGE(E38:E44) -> 317.14286 | G44: =AVERAGE(E17:E44) -> 320.35714 | H44: =IFERROR(F44/G44, 0) -> 0.98996656
A45: 44 | C45: 8 | D45: 90 | E45: =IF(C45="",0,C45*D45) -> 720 | F45: =AVERAGE(E39:E45) -> 342.85714 | G45: =AVERAGE(E18:E45) -> 320.35714 | H45: =IFERROR(F45/G45, 0) -> 1.0702341
A46: 45 | E46: =IF(C46="",0,C46*D46) -> 0 | F46: =AVERAGE(E40:E46) -> 342.85714 | G46: =AVERAGE(E19:E46) -> 320.35714 | H46: =IFERROR(F46/G46, 0) -> 1.0702341
A47: 46 | C47: 7 | D47: 90 | E47: =IF(C47="",0,C47*D47) -> 630 | F47: =AVERAGE(E41:E47) -> 342.85714 | G47: =AVERAGE(E20:E47) -> 323.57143 | H47: =IFERROR(F47/G47, 0) -> 1.0596026
A48: 47 | C48: 5 | D48: 60 | E48: =IF(C48="",0,C48*D48) -> 300 | F48: =AVERAGE(E42:E48) -> 351.42857 | G48: =AVERAGE(E21:E48) -> 323.57143 | H48: =IFERROR(F48/G48, 0) -> 1.0860927
A49: 48 | E49: =IF(C49="",0,C49*D49) -> 0 | F49: =AVERAGE(E43:E49) -> 351.42857 | G49: =AVERAGE(E22:E49) -> 323.57143 | H49: =IFERROR(F49/G49, 0) -> 1.0860927
A50: 49 | C50: 9 | D50: 90 | E50: =IF(C50="",0,C50*D50) -> 810 | F50: =AVERAGE(E44:E50) -> 351.42857 | G50: =AVERAGE(E23:E50) -> 326.78571 | H50: =IFERROR(F50/G50, 0) -> 1.0754098
A51: 50 | E51: =IF(C51="",0,C51*D51) -> 0 | F51: =AVERAGE(E45:E51) -> 351.42857 | G51: =AVERAGE(E24:E51) -> 326.78571 | H51: =IFERROR(F51/G51, 0) -> 1.0754098
A52: 51 | C52: 6 | D52: 90 | E52: =IF(C52="",0,C52*D52) -> 540 | F52: =AVERAGE(E46:E52) -> 325.71429 | G52: =AVERAGE(E25:E52) -> 323.57143 | H52: =IFERROR(F52/G52, 0) -> 1.0066225
A53: 52 | E53: =IF(C53="",0,C53*D53) -> 0 | F53: =AVERAGE(E47:E53) -> 325.71429 | G53: =AVERAGE(E26:E53) -> 323.57143 | H53: =IFERROR(F53/G53, 0) -> 1.0066225
A54: 53 | C54: 6 | D54: 90 | E54: =IF(C54="",0,C54*D54) -> 540 | F54: =AVERAGE(E48:E54) -> 312.85714 | G54: =AVERAGE(E27:E54) -> 323.57143 | H54: =IFERROR(F54/G54, 0) -> 0.96688742
A55: 54 | C55: 5 | D55: 60 | E55: =IF(C55="",0,C55*D55) -> 300 | F55: =AVERAGE(E49:E55) -> 312.85714 | G55: =AVERAGE(E28:E55) -> 323.57143 | H55: =IFERROR(F55/G55, 0) -> 0.96688742
A56: 55 | E56: =IF(C56="",0,C56*D56) -> 0 | F56: =AVERAGE(E50:E56) -> 312.85714 | G56: =AVERAGE(E29:E56) -> 323.57143 | H56: =IFERROR(F56/G56, 0) -> 0.96688742
A57: 56 | C57: 8 | D57: 90 | E57: =IF(C57="",0,C57*D57) -> 720 | F57: =AVERAGE(E51:E57) -> 300 | G57: =AVERAGE(E30:E57) -> 323.57143 | H57: =IFERROR(F57/G57, 0) -> 0.92715232
A58: 57 | E58: =IF(C58="",0,C58*D58) -> 0 | F58: =AVERAGE(E52:E58) -> 300 | G58: =AVERAGE(E31:E58) -> 323.57143 | H58: =IFERROR(F58/G58, 0) -> 0.92715232
A59: 58 | C59: 8 | D59: 90 | E59: =IF(C59="",0,C59*D59) -> 720 | F59: =AVERAGE(E53:E59) -> 325.71429 | G59: =AVERAGE(E32:E59) -> 326.78571 | H59: =IFERROR(F59/G59, 0) -> 0.99672131
A60: 59 | E60: =IF(C60="",0,C60*D60) -> 0 | F60: =AVERAGE(E54:E60) -> 325.71429 | G60: =AVERAGE(E33:E60) -> 326.78571 | H60: =IFERROR(F60/G60, 0) -> 0.99672131
A61: 60 | C61: 5 | D61: 90 | E61: =IF(C61="",0,C61*D61) -> 450 | F61: =AVERAGE(E55:E61) -> 312.85714 | G61: =AVERAGE(E34:E61) -> 323.57143 | H61: =IFERROR(F61/G61, 0) -> 0.96688742
A62: 61 | C62: 5 | D62: 60 | E62: =IF(C62="",0,C62*D62) -> 300 | F62: =AVERAGE(E56:E62) -> 312.85714 | G62: =AVERAGE(E35:E62) -> 323.57143 | H62: =IFERROR(F62/G62, 0) -> 0.96688742
A63: 62 | E63: =IF(C63="",0,C63*D63) -> 0 | F63: =AVERAGE(E57:E63) -> 312.85714 | G63: =AVERAGE(E36:E63) -> 323.57143 | H63: =IFERROR(F63/G63, 0) -> 0.96688742
A64: 63 | C64: 8 | D64: 90 | E64: =IF(C64="",0,C64*D64) -> 720 | F64: =AVERAGE(E58:E64) -> 312.85714 | G64: =AVERAGE(E37:E64) -> 320.35714 | H64: =IFERROR(F64/G64, 0) -> 0.97658863
A65: 64 | E65: =IF(C65="",0,C65*D65) -> 0 | F65: =AVERAGE(E59:E65) -> 312.85714 | G65: =AVERAGE(E38:E65) -> 320.35714 | H65: =IFERROR(F65/G65, 0) -> 0.97658863
A66: 65 | C66: 7 | D66: 90 | E66: =IF(C66="",0,C66*D66) -> 630 | F66: =AVERAGE(E60:E66) -> 300 | G66: =AVERAGE(E39:E66) -> 323.57143 | H66: =IFERROR(F66/G66, 0) -> 0.92715232
A67: 66 | E67: =IF(C67="",0,C67*D67) -> 0 | F67: =AVERAGE(E61:E67) -> 300 | G67: =AVERAGE(E40:E67) -> 323.57143 | H67: =IFERROR(F67/G67, 0) -> 0.92715232
A68: 67 | C68: 6 | D68: 90 | E68: =IF(C68="",0,C68*D68) -> 540 | F68: =AVERAGE(E62:E68) -> 312.85714 | G68: =AVERAGE(E41:E68) -> 320.35714 | H68: =IFERROR(F68/G68, 0) -> 0.97658863
A69: 68 | C69: 5 | D69: 60 | E69: =IF(C69="",0,C69*D69) -> 300 | F69: =AVERAGE(E63:E69) -> 312.85714 | G69: =AVERAGE(E42:E69) -> 322.5 | H69: =IFERROR(F69/G69, 0) -> 0.97009967
A70: 69 | E70: =IF(C70="",0,C70*D70) -> 0 | F70: =AVERAGE(E64:E70) -> 312.85714 | G70: =AVERAGE(E43:E70) -> 322.5 | H70: =IFERROR(F70/G70, 0) -> 0.97009967
A71: 70 | C71: 9 | D71: 90 | E71: =IF(C71="",0,C71*D71) -> 810 | F71: =AVERAGE(E65:E71) -> 325.71429 | G71: =AVERAGE(E44:E71) -> 322.5 | H71: =IFERROR(F71/G71, 0) -> 1.0099668
A72: 71 | E72: =IF(C72="",0,C72*D72) -> 0 | F72: =AVERAGE(E66:E72) -> 325.71429 | G72: =AVERAGE(E45:E72) -> 322.5 | H72: =IFERROR(F72/G72, 0) -> 1.0099668
A73: 72 | C73: 8 | D73: 90 | E73: =IF(C73="",0,C73*D73) -> 720 | F73: =AVERAGE(E67:E73) -> 338.57143 | G73: =AVERAGE(E46:E73) -> 322.5 | H73: =IFERROR(F73/G73, 0) -> 1.0498339
A74: 73 | E74: =IF(C74="",0,C74*D74) -> 0 | F74: =AVERAGE(E68:E74) -> 338.57143 | G74: =AVERAGE(E47:E74) -> 322.5 | H74: =IFERROR(F74/G74, 0) -> 1.0498339
A75: 74 | C75: 7 | D75: 90 | E75: =IF(C75="",0,C75*D75) -> 630 | F75: =AVERAGE(E69:E75) -> 351.42857 | G75: =AVERAGE(E48:E75) -> 322.5 | H75: =IFERROR(F75/G75, 0) -> 1.089701
A76: 75 | C76: 4 | D76: 60 | E76: =IF(C76="",0,C76*D76) -> 240 | F76: =AVERAGE(E70:E76) -> 342.85714 | G76: =AVERAGE(E49:E76) -> 320.35714 | H76: =IFERROR(F76/G76, 0) -> 1.0702341
A77: 76 | E77: =IF(C77="",0,C77*D77) -> 0 | F77: =AVERAGE(E71:E77) -> 342.85714 | G77: =AVERAGE(E50:E77) -> 320.35714 | H77: =IFERROR(F77/G77, 0) -> 1.0702341
A78: 77 | C78: 9 | D78: 90 | E78: =IF(C78="",0,C78*D78) -> 810 | F78: =AVERAGE(E72:E78) -> 342.85714 | G78: =AVERAGE(E51:E78) -> 320.35714 | H78: =IFERROR(F78/G78, 0) -> 1.0702341
A79: 78 | E79: =IF(C79="",0,C79*D79) -> 0 | F79: =AVERAGE(E73:E79) -> 342.85714 | G79: =AVERAGE(E52:E79) -> 320.35714 | H79: =IFERROR(F79/G79, 0) -> 1.0702341
A80: 79 | C80: 7 | D80: 90 | E80: =IF(C80="",0,C80*D80) -> 630 | F80: =AVERAGE(E74:E80) -> 330 | G80: =AVERAGE(E53:E80) -> 323.57143 | H80: =IFERROR(F80/G80, 0) -> 1.0198675
A81: 80 | E81: =IF(C81="",0,C81*D81) -> 0 | F81: =AVERAGE(E75:E81) -> 330 | G81: =AVERAGE(E54:E81) -> 323.57143 | H81: =IFERROR(F81/G81, 0) -> 1.0198675
A82: 81 | C82: 5 | D82: 90 | E82: =IF(C82="",0,C82*D82) -> 450 | F82: =AVERAGE(E76:E82) -> 304.28571 | G82: =AVERAGE(E55:E82) -> 320.35714 | H82: =IFERROR(F82/G82, 0) -> 0.94983278
A83: 82 | C83: 4 | D83: 60 | E83: =IF(C83="",0,C83*D83) -> 240 | F83: =AVERAGE(E77:E83) -> 304.28571 | G83: =AVERAGE(E56:E83) -> 318.21429 | H83: =IFERROR(F83/G83, 0) -> 0.95622896
A84: 83 | E84: =IF(C84="",0,C84*D84) -> 0 | F84: =AVERAGE(E78:E84) -> 304.28571 | G84: =AVERAGE(E57:E84) -> 318.21429 | H84: =IFERROR(F84/G84, 0) -> 0.95622896
A85: 84 | C85: 9 | D85: 90 | E85: =IF(C85="",0,C85*D85) -> 810 | F85: =AVERAGE(E79:E85) -> 304.28571 | G85: =AVERAGE(E58:E85) -> 321.42857 | H85: =IFERROR(F85/G85, 0) -> 0.94666667
A86: 85 | E86: =IF(C86="",0,C86*D86) -> 0 | F86: =AVERAGE(E80:E86) -> 304.28571 | G86: =AVERAGE(E59:E86) -> 321.42857 | H86: =IFERROR(F86/G86, 0) -> 0.94666667
A87: 86 | C87: 7 | D87: 90 | E87: =IF(C87="",0,C87*D87) -> 630 | F87: =AVERAGE(E81:E87) -> 304.28571 | G87: =AVERAGE(E60:E87) -> 318.21429 | H87: =IFERROR(F87/G87, 0) -> 0.95622896
A88: 87 | E88: =IF(C88="",0,C88*D88) -> 0 | F88: =AVERAGE(E82:E88) -> 304.28571 | G88: =AVERAGE(E61:E88) -> 318.21429 | H88: =IFERROR(F88/G88, 0) -> 0.95622896
A89: 88 | C89: 5 | D89: 90 | E89: =IF(C89="",0,C89*D89) -> 450 | F89: =AVERAGE(E83:E89) -> 304.28571 | G89: =AVERAGE(E62:E89) -> 318.21429 | H89: =IFERROR(F89/G89, 0) -> 0.95622896
A90: 89 | C90: 5 | D90: 60 | E90: =IF(C90="",0,C90*D90) -> 300 | F90: =AVERAGE(E84:E90) -> 312.85714 | G90: =AVERAGE(E63:E90) -> 318.21429 | H90: =IFERROR(F90/G90, 0) -> 0.98316498
A91: 90 | E91: =IF(C91="",0,C91*D91) -> 0 | F91: =AVERAGE(E85:E91) -> 312.85714 | G91: =AVERAGE(E64:E91) -> 318.21429 | H91: =IFERROR(F91/G91, 0) -> 0.98316498
A92: 91 | C92: 8 | D92: 90 | E92: =IF(C92="",0,C92*D92) -> 720 | F92: =AVERAGE(E86:E92) -> 300 | G92: =AVERAGE(E65:E92) -> 318.21429 | H92: =IFERROR(F92/G92, 0) -> 0.94276094
A93: 92 | E93: =IF(C93="",0,C93*D93) -> 0 | F93: =AVERAGE(E87:E93) -> 300 | G93: =AVERAGE(E66:E93) -> 318.21429 | H93: =IFERROR(F93/G93, 0) -> 0.94276094
A94: 93 | C94: 6 | D94: 90 | E94: =IF(C94="",0,C94*D94) -> 540 | F94: =AVERAGE(E88:E94) -> 287.14286 | G94: =AVERAGE(E67:E94) -> 315 | H94: =IFERROR(F94/G94, 0) -> 0.91156463
A95: 94 | E95: =IF(C95="",0,C95*D95) -> 0 | F95: =AVERAGE(E89:E95) -> 287.14286 | G95: =AVERAGE(E68:E95) -> 315 | H95: =IFERROR(F95/G95, 0) -> 0.91156463
A96: 95 | C96: 5 | D96: 90 | E96: =IF(C96="",0,C96*D96) -> 450 | F96: =AVERAGE(E90:E96) -> 287.14286 | G96: =AVERAGE(E69:E96) -> 311.78571 | H96: =IFERROR(F96/G96, 0) -> 0.9209622
A97: 96 | C97: 4 | D97: 60 | E97: =IF(C97="",0,C97*D97) -> 240 | F97: =AVERAGE(E91:E97) -> 278.57143 | G97: =AVERAGE(E70:E97) -> 309.64286 | H97: =IFERROR(F97/G97, 0) -> 0.89965398
A98: 97 | E98: =IF(C98="",0,C98*D98) -> 0 | F98: =AVERAGE(E92:E98) -> 278.57143 | G98: =AVERAGE(E71:E98) -> 309.64286 | H98: =IFERROR(F98/G98, 0) -> 0.89965398
A99: 98 | C99: 9 | D99: 90 | E99: =IF(C99="",0,C99*D99) -> 810 | F99: =AVERAGE(E93:E99) -> 291.42857 | G99: =AVERAGE(E72:E99) -> 309.64286 | H99: =IFERROR(F99/G99, 0) -> 0.94117647
A100: 99 | E100: =IF(C100="",0,C100*D100) -> 0 | F100: =AVERAGE(E94:E100) -> 291.42857 | G100: =AVERAGE(E73:E100) -> 309.64286 | H100: =IFERROR(F100/G100, 0) -> 0.94117647
...

Sheet Matteo Gialli
A1: Giorno Progressivo | B1: Data (Opzionale) | C1: RPE (1-10) | D1: Durata (min) | E1: Session RPE (UA) | F1: Carico Acuto (Media 7g) | G1: Carico Cronico (Media 28g) | H1: ACWR
A2: 1 | E2: =IF(C2="",0,C2*D2) -> 0 | F2: =AVERAGE(E2:E2) -> 0 | G2: =AVERAGE(E2:E2) -> 0 | H2: =IFERROR(F2/G2, 0) -> 0
A3: 2 | C3: 8 | D3: 90 | E3: =IF(C3="",0,C3*D3) -> 720 | F3: =AVERAGE(E2:E3) -> 360 | G3: =AVERAGE(E2:E3) -> 360 | H3: =IFERROR(F3/G3, 0) -> 1
A4: 3 | E4: =IF(C4="",0,C4*D4) -> 0 | F4: =AVERAGE(E2:E4) -> 240 | G4: =AVERAGE(E2:E4) -> 240 | H4: =IFERROR(F4/G4, 0) -> 1
A5: 4 | C5: 5 | D5: 90 | E5: =IF(C5="",0,C5*D5) -> 450 | F5: =AVERAGE(E2:E5) -> 292.5 | G5: =AVERAGE(E2:E5) -> 292.5 | H5: =IFERROR(F5/G5, 0) -> 1
A6: 5 | C6: 4 | D6: 60 | E6: =IF(C6="",0,C6*D6) -> 240 | F6: =AVERAGE(E2:E6) -> 282 | G6: =AVERAGE(E2:E6) -> 282 | H6: =IFERROR(F6/G6, 0) -> 1
A7: 6 | E7: =IF(C7="",0,C7*D7) -> 0 | F7: =AVERAGE(E2:E7) -> 235 | G7: =AVERAGE(E2:E7) -> 235 | H7: =IFERROR(F7/G7, 0) -> 1
A8: 7 | C8: 8 | D8: 90 | E8: =IF(C8="",0,C8*D8) -> 720 | F8: =AVERAGE(E2:E8) -> 304.28571 | G8: =AVERAGE(E2:E8) -> 304.28571 | H8: =IFERROR(F8/G8, 0) -> 1
A9: 8 | E9: =IF(C9="",0,C9*D9) -> 0 | F9: =AVERAGE(E3:E9) -> 304.28571 | G9: =AVERAGE(E2:E9) -> 266.25 | H9: =IFERROR(F9/G9, 0) -> 1.1428571
A10: 9 | C10: 8 | D10: 90 | E10: =IF(C10="",0,C10*D10) -> 720 | F10: =AVERAGE(E4:E10) -> 304.28571 | G10: =AVERAGE(E2:E10) -> 316.66667 | H10: =IFERROR(F10/G10, 0) -> 0.96090226
A11: 10 | E11: =IF(C11="",0,C11*D11) -> 0 | F11: =AVERAGE(E5:E11) -> 304.28571 | G11: =AVERAGE(E2:E11) -> 285 | H11: =IFERROR(F11/G11, 0) -> 1.0676692
A12: 11 | C12: 5 | D12: 90 | E12: =IF(C12="",0,C12*D12) -> 450 | F12: =AVERAGE(E6:E12) -> 304.28571 | G12: =AVERAGE(E2:E12) -> 300 | H12: =IFERROR(F12/G12, 0) -> 1.0142857
A13: 12 | C13: 5 | D13: 60 | E13: =IF(C13="",0,C13*D13) -> 300 | F13: =AVERAGE(E7:E13) -> 312.85714 | G13: =AVERAGE(E2:E13) -> 300 | H13: =IFERROR(F13/G13, 0) -> 1.0428571
A14: 13 | E14: =IF(C14="",0,C14*D14) -> 0 | F14: =AVERAGE(E8:E14) -> 312.85714 | G14: =AVERAGE(E2:E14) -> 276.92308 | H14: =IFERROR(F14/G14, 0) -> 1.1297619
A15: 14 | C15: 9 | D15: 90 | E15: =IF(C15="",0,C15*D15) -> 810 | F15: =AVERAGE(E9:E15) -> 325.71429 | G15: =AVERAGE(E2:E15) -> 315 | H15: =IFERROR(F15/G15, 0) -> 1.0340136
A16: 15 | E16: =IF(C16="",0,C16*D16) -> 0 | F16: =AVERAGE(E10:E16) -> 325.71429 | G16: =AVERAGE(E2:E16) -> 294 | H16: =IFERROR(F16/G16, 0) -> 1.1078717
A17: 16 | C17: 7 | D17: 90 | E17: =IF(C17="",0,C17*D17) -> 630 | F17: =AVERAGE(E11:E17) -> 312.85714 | G17: =AVERAGE(E2:E17) -> 315 | H17: =IFERROR(F17/G17, 0) -> 0.99319728
A18: 17 | E18: =IF(C18="",0,C18*D18) -> 0 | F18: =AVERAGE(E12:E18) -> 312.85714 | G18: =AVERAGE(E2:E18) -> 296.47059 | H18: =IFERROR(F18/G18, 0) -> 1.0552721
A19: 18 | C19: 5 | D19: 90 | E19: =IF(C19="",0,C19*D19) -> 450 | F19: =AVERAGE(E13:E19) -> 312.85714 | G19: =AVERAGE(E2:E19) -> 305 | H19: =IFERROR(F19/G19, 0) -> 1.0257611
A20: 19 | C20: 4 | D20: 60 | E20: =IF(C20="",0,C20*D20) -> 240 | F20: =AVERAGE(E14:E20) -> 304.28571 | G20: =AVERAGE(E2:E20) -> 301.57895 | H20: =IFERROR(F20/G20, 0) -> 1.0089753
A21: 20 | E21: =IF(C21="",0,C21*D21) -> 0 | F21: =AVERAGE(E15:E21) -> 304.28571 | G21: =AVERAGE(E2:E21) -> 286.5 | H21: =IFERROR(F21/G21, 0) -> 1.0620793
A22: 21 | C22: 8 | D22: 90 | E22: =IF(C22="",0,C22*D22) -> 720 | F22: =AVERAGE(E16:E22) -> 291.42857 | G22: =AVERAGE(E2:E22) -> 307.14286 | H22: =IFERROR(F22/G22, 0) -> 0.94883721
A23: 22 | E23: =IF(C23="",0,C23*D23) -> 0 | F23: =AVERAGE(E17:E23) -> 291.42857 | G23: =AVERAGE(E2:E23) -> 293.18182 | H23: =IFERROR(F23/G23, 0) -> 0.99401993
A24: 23 | C24: 8 | D24: 90 | E24: =IF(C24="",0,C24*D24) -> 720 | F24: =AVERAGE(E18:E24) -> 304.28571 | G24: =AVERAGE(E2:E24) -> 311.73913 | H24: =IFERROR(F24/G24, 0) -> 0.97609085
A25: 24 | E25: =IF(C25="",0,C25*D25) -> 0 | F25: =AVERAGE(E19:E25) -> 304.28571 | G25: =AVERAGE(E2:E25) -> 298.75 | H25: =IFERROR(F25/G25, 0) -> 1.0185296
A26: 25 | C26: 5 | D26: 90 | E26: =IF(C26="",0,C26*D26) -> 450 | F26: =AVERAGE(E20:E26) -> 304.28571 | G26: =AVERAGE(E2:E26) -> 304.8 | H26: =IFERROR(F26/G26, 0) -> 0.99831271
A27: 26 | C27: 4 | D27: 60 | E27: =IF(C27="",0,C27*D27) -> 240 | F27: =AVERAGE(E21:E27) -> 304.28571 | G27: =AVERAGE(E2:E27) -> 302.30769 | H27: =IFERROR(F27/G27, 0) -> 1.0065431
A28: 27 | E28: =IF(C28="",0,C28*D28) -> 0 | F28: =AVERAGE(E22:E28) -> 304.28571 | G28: =AVERAGE(E2:E28) -> 291.11111 | H28: =IFERROR(F28/G28, 0) -> 1.0452563
A29: 28 | C29: 8 | D29: 90 | E29: =IF(C29="",0,C29*D29) -> 720 | F29: =AVERAGE(E23:E29) -> 304.28571 | G29: =AVERAGE(E2:E29) -> 306.42857 | H29: =IFERROR(F29/G29, 0) -> 0.99300699
A30: 29 | E30: =IF(C30="",0,C30*D30) -> 0 | F30: =AVERAGE(E24:E30) -> 304.28571 | G30: =AVERAGE(E3:E30) -> 306.42857 | H30: =IFERROR(F30/G30, 0) -> 0.99300699
A31: 30 | C31: 6 | D31: 90 | E31: =IF(C31="",0,C31*D31) -> 540 | F31: =AVERAGE(E25:E31) -> 278.57143 | G31: =AVERAGE(E4:E31) -> 300 | H31: =IFERROR(F31/G31, 0) -> 0.92857143
A32: 31 | E32: =IF(C32="",0,C32*D32) -> 0 | F32: =AVERAGE(E26:E32) -> 278.57143 | G32: =AVERAGE(E5:E32) -> 300 | H32: =IFERROR(F32/G32, 0) -> 0.92857143
A33: 32 | C33: 6 | D33: 90 | E33: =IF(C33="",0,C33*D33) -> 540 | F33: =AVERAGE(E27:E33) -> 291.42857 | G33: =AVERAGE(E6:E33) -> 303.21429 | H33: =IFERROR(F33/G33, 0) -> 0.96113074
A34: 33 | C34: 4 | D34: 60 | E34: =IF(C34="",0,C34*D34) -> 240 | F34: =AVERAGE(E28:E34) -> 291.42857 | G34: =AVERAGE(E7:E34) -> 303.21429 | H34: =IFERROR(F34/G34, 0) -> 0.96113074
A35: 34 | E35: =IF(C35="",0,C35*D35) -> 0 | F35: =AVERAGE(E29:E35) -> 291.42857 | G35: =AVERAGE(E8:E35) -> 303.21429 | H35: =IFERROR(F35/G35, 0) -> 0.96113074
A36: 35 | C36: 8 | D36: 90 | E36: =IF(C36="",0,C36*D36) -> 720 | F36: =AVERAGE(E30:E36) -> 291.42857 | G36: =AVERAGE(E9:E36) -> 303.21429 | H36: =IFERROR(F36/G36, 0) -> 0.96113074
A37: 36 | E37: =IF(C37="",0,C37*D37) -> 0 | F37: =AVERAGE(E31:E37) -> 291.42857 | G37: =AVERAGE(E10:E37) -> 303.21429 | H37: =IFERROR(F37/G37, 0) -> 0.96113074
A38: 37 | C38: 8 | D38: 90 | E38: =IF(C38="",0,C38*D38) -> 720 | F38: =AVERAGE(E32:E38) -> 317.14286 | G38: =AVERAGE(E11:E38) -> 303.21429 | H38: =IFERROR(F38/G38, 0) -> 1.0459364
A39: 38 | E39: =IF(C39="",0,C39*D39) -> 0 | F39: =AVERAGE(E33:E39) -> 317.14286 | G39: =AVERAGE(E12:E39) -> 303.21429 | H39: =IFERROR(F39/G39, 0) -> 1.0459364
A40: 39 | C40: 7 | D40: 90 | E40: =IF(C40="",0,C40*D40) -> 630 | F40: =AVERAGE(E34:E40) -> 330 | G40: =AVERAGE(E13:E40) -> 309.64286 | H40: =IFERROR(F40/G40, 0) -> 1.0657439
A41: 40 | C41: 4 | D41: 60 | E41: =IF(C41="",0,C41*D41) -> 240 | F41: =AVERAGE(E35:E41) -> 330 | G41: =AVERAGE(E14:E41) -> 307.5 | H41: =IFERROR(F41/G41, 0) -> 1.0731707
A42: 41 | E42: =IF(C42="",0,C42*D42) -> 0 | F42: =AVERAGE(E36:E42) -> 330 | G42: =AVERAGE(E15:E42) -> 307.5 | H42: =IFERROR(F42/G42, 0) -> 1.0731707
A43: 42 | C43: 9 | D43: 90 | E43: =IF(C43="",0,C43*D43) -> 810 | F43: =AVERAGE(E37:E43) -> 342.85714 | G43: =AVERAGE(E16:E43) -> 307.5 | H43: =IFERROR(F43/G43, 0) -> 1.1149826
A44: 43 | E44: =IF(C44="",0,C44*D44) -> 0 | F44: =AVERAGE(E38:E44) -> 342.85714 | G44: =AVERAGE(E17:E44) -> 307.5 | H44: =IFERROR(F44/G44, 0) -> 1.1149826
A45: 44 | C45: 8 | D45: 90 | E45: =IF(C45="",0,C45*D45) -> 720 | F45: =AVERAGE(E39:E45) -> 342.85714 | G45: =AVERAGE(E18:E45) -> 310.71429 | H45: =IFERROR(F45/G45, 0) -> 1.1034483
A46: 45 | E46: =IF(C46="",0,C46*D46) -> 0 | F46: =AVERAGE(E40:E46) -> 342.85714 | G46: =AVERAGE(E19:E46) -> 310.71429 | H46: =IFERROR(F46/G46, 0) -> 1.1034483
A47: 46 | C47: 6 | D47: 90 | E47: =IF(C47="",0,C47*D47) -> 540 | F47: =AVERAGE(E41:E47) -> 330 | G47: =AVERAGE(E20:E47) -> 313.92857 | H47: =IFERROR(F47/G47, 0) -> 1.0511945
A48: 47 | C48: 4 | D48: 60 | E48: =IF(C48="",0,C48*D48) -> 240 | F48: =AVERAGE(E42:E48) -> 330 | G48: =AVERAGE(E21:E48) -> 313.92857 | H48: =IFERROR(F48/G48, 0) -> 1.0511945
A49: 48 | E49: =IF(C49="",0,C49*D49) -> 0 | F49: =AVERAGE(E43:E49) -> 330 | G49: =AVERAGE(E22:E49) -> 313.92857 | H49: =IFERROR(F49/G49, 0) -> 1.0511945
A50: 49 | C50: 9 | D50: 90 | E50: =IF(C50="",0,C50*D50) -> 810 | F50: =AVERAGE(E44:E50) -> 330 | G50: =AVERAGE(E23:E50) -> 317.14286 | H50: =IFERROR(F50/G50, 0) -> 1.0405405
A51: 50 | E51: =IF(C51="",0,C51*D51) -> 0 | F51: =AVERAGE(E45:E51) -> 330 | G51: =AVERAGE(E24:E51) -> 317.14286 | H51: =IFERROR(F51/G51, 0) -> 1.0405405
A52: 51 | C52: 8 | D52: 90 | E52: =IF(C52="",0,C52*D52) -> 720 | F52: =AVERAGE(E46:E52) -> 330 | G52: =AVERAGE(E25:E52) -> 317.14286 | H52: =IFERROR(F52/G52, 0) -> 1.0405405
A53: 52 | E53: =IF(C53="",0,C53*D53) -> 0 | F53: =AVERAGE(E47:E53) -> 330 | G53: =AVERAGE(E26:E53) -> 317.14286 | H53: =IFERROR(F53/G53, 0) -> 1.0405405
A54: 53 | C54: 6 | D54: 90 | E54: =IF(C54="",0,C54*D54) -> 540 | F54: =AVERAGE(E48:E54) -> 330 | G54: =AVERAGE(E27:E54) -> 320.35714 | H54: =IFERROR(F54/G54, 0) -> 1.0301003
A55: 54 | C55: 5 | D55: 60 | E55: =IF(C55="",0,C55*D55) -> 300 | F55: =AVERAGE(E49:E55) -> 338.57143 | G55: =AVERAGE(E28:E55) -> 322.5 | H55: =IFERROR(F55/G55, 0) -> 1.0498339
A56: 55 | E56: =IF(C56="",0,C56*D56) -> 0 | F56: =AVERAGE(E50:E56) -> 338.57143 | G56: =AVERAGE(E29:E56) -> 322.5 | H56: =IFERROR(F56/G56, 0) -> 1.0498339
A57: 56 | C57: 8 | D57: 90 | E57: =IF(C57="",0,C57*D57) -> 720 | F57: =AVERAGE(E51:E57) -> 325.71429 | G57: =AVERAGE(E30:E57) -> 322.5 | H57: =IFERROR(F57/G57, 0) -> 1.0099668
A58: 57 | E58: =IF(C58="",0,C58*D58) -> 0 | F58: =AVERAGE(E52:E58) -> 325.71429 | G58: =AVERAGE(E31:E58) -> 322.5 | H58: =IFERROR(F58/G58, 0) -> 1.0099668
A59: 58 | C59: 6 | D59: 90 | E59: =IF(C59="",0,C59*D59) -> 540 | F59: =AVERAGE(E53:E59) -> 300 | G59: =AVERAGE(E32:E59) -> 322.5 | H59: =IFERROR(F59/G59, 0) -> 0.93023256
A60: 59 | E60: =IF(C60="",0,C60*D60) -> 0 | F60: =AVERAGE(E54:E60) -> 300 | G60: =AVERAGE(E33:E60) -> 322.5 | H60: =IFERROR(F60/G60, 0) -> 0.93023256
A61: 60 | C61: 7 | D61: 90 | E61: =IF(C61="",0,C61*D61) -> 630 | F61: =AVERAGE(E55:E61) -> 312.85714 | G61: =AVERAGE(E34:E61) -> 325.71429 | H61: =IFERROR(F61/G61, 0) -> 0.96052632
A62: 61 | C62: 5 | D62: 60 | E62: =IF(C62="",0,C62*D62) -> 300 | F62: =AVERAGE(E56:E62) -> 312.85714 | G62: =AVERAGE(E35:E62) -> 327.85714 | H62: =IFERROR(F62/G62, 0) -> 0.95424837
A63: 62 | E63: =IF(C63="",0,C63*D63) -> 0 | F63: =AVERAGE(E57:E63) -> 312.85714 | G63: =AVERAGE(E36:E63) -> 327.85714 | H63: =IFERROR(F63/G63, 0) -> 0.95424837
A64: 63 | C64: 9 | D64: 90 | E64: =IF(C64="",0,C64*D64) -> 810 | F64: =AVERAGE(E58:E64) -> 325.71429 | G64: =AVERAGE(E37:E64) -> 331.07143 | H64: =IFERROR(F64/G64, 0) -> 0.98381877
A65: 64 | E65: =IF(C65="",0,C65*D65) -> 0 | F65: =AVERAGE(E59:E65) -> 325.71429 | G65: =AVERAGE(E38:E65) -> 331.07143 | H65: =IFERROR(F65/G65, 0) -> 0.98381877
A66: 65 | C66: 8 | D66: 90 | E66: =IF(C66="",0,C66*D66) -> 720 | F66: =AVERAGE(E60:E66) -> 351.42857 | G66: =AVERAGE(E39:E66) -> 331.07143 | H66: =IFERROR(F66/G66, 0) -> 1.0614887
A67: 66 | E67: =IF(C67="",0,C67*D67) -> 0 | F67: =AVERAGE(E61:E67) -> 351.42857 | G67: =AVERAGE(E40:E67) -> 331.07143 | H67: =IFERROR(F67/G67, 0) -> 1.0614887
A68: 67 | C68: 7 | D68: 90 | E68: =IF(C68="",0,C68*D68) -> 630 | F68: =AVERAGE(E62:E68) -> 351.42857 | G68: =AVERAGE(E41:E68) -> 331.07143 | H68: =IFERROR(F68/G68, 0) -> 1.0614887
A69: 68 | C69: 4 | D69: 60 | E69: =IF(C69="",0,C69*D69) -> 240 | F69: =AVERAGE(E63:E69) -> 342.85714 | G69: =AVERAGE(E42:E69) -> 331.07143 | H69: =IFERROR(F69/G69, 0) -> 1.0355987
A70: 69 | E70: =IF(C70="",0,C70*D70) -> 0 | F70: =AVERAGE(E64:E70) -> 342.85714 | G70: =AVERAGE(E43:E70) -> 331.07143 | H70: =IFERROR(F70/G70, 0) -> 1.0355987
A71: 70 | C71: 9 | D71: 90 | E71: =IF(C71="",0,C71*D71) -> 810 | F71: =AVERAGE(E65:E71) -> 342.85714 | G71: =AVERAGE(E44:E71) -> 331.07143 | H71: =IFERROR(F71/G71, 0) -> 1.0355987
A72: 71 | E72: =IF(C72="",0,C72*D72) -> 0 | F72: =AVERAGE(E66:E72) -> 342.85714 | G72: =AVERAGE(E45:E72) -> 331.07143 | H72: =IFERROR(F72/G72, 0) -> 1.0355987
A73: 72 | C73: 7 | D73: 90 | E73: =IF(C73="",0,C73*D73) -> 630 | F73: =AVERAGE(E67:E73) -> 330 | G73: =AVERAGE(E46:E73) -> 327.85714 | H73: =IFERROR(F73/G73, 0) -> 1.0065359
A74: 73 | E74: =IF(C74="",0,C74*D74) -> 0 | F74: =AVERAGE(E68:E74) -> 330 | G74: =AVERAGE(E47:E74) -> 327.85714 | H74: =IFERROR(F74/G74, 0) -> 1.0065359
A75: 74 | C75: 7 | D75: 90 | E75: =IF(C75="",0,C75*D75) -> 630 | F75: =AVERAGE(E69:E75) -> 330 | G75: =AVERAGE(E48:E75) -> 331.07143 | H75: =IFERROR(F75/G75, 0) -> 0.99676375
A76: 75 | C76: 4 | D76: 60 | E76: =IF(C76="",0,C76*D76) -> 240 | F76: =AVERAGE(E70:E76) -> 330 | G76: =AVERAGE(E49:E76) -> 331.07143 | H76: =IFERROR(F76/G76, 0) -> 0.99676375
A77: 76 | E77: =IF(C77="",0,C77*D77) -> 0 | F77: =AVERAGE(E71:E77) -> 330 | G77: =AVERAGE(E50:E77) -> 331.07143 | H77: =IFERROR(F77/G77, 0) -> 0.99676375
A78: 77 | C78: 8 | D78: 90 | E78: =IF(C78="",0,C78*D78) -> 720 | F78: =AVERAGE(E72:E78) -> 317.14286 | G78: =AVERAGE(E51:E78) -> 327.85714 | H78: =IFERROR(F78/G78, 0) -> 0.96732026
A79: 78 | E79: =IF(C79="",0,C79*D79) -> 0 | F79: =AVERAGE(E73:E79) -> 317.14286 | G79: =AVERAGE(E52:E79) -> 327.85714 | H79: =IFERROR(F79/G79, 0) -> 0.96732026
A80: 79 | C80: 8 | D80: 90 | E80: =IF(C80="",0,C80*D80) -> 720 | F80: =AVERAGE(E74:E80) -> 330 | G80: =AVERAGE(E53:E80) -> 327.85714 | H80: =IFERROR(F80/G80, 0) -> 1.0065359
A81: 80 | E81: =IF(C81="",0,C81*D81) -> 0 | F81: =AVERAGE(E75:E81) -> 330 | G81: =AVERAGE(E54:E81) -> 327.85714 | H81: =IFERROR(F81/G81, 0) -> 1.0065359
A82: 81 | C82: 6 | D82: 90 | E82: =IF(C82="",0,C82*D82) -> 540 | F82: =AVERAGE(E76:E82) -> 317.14286 | G82: =AVERAGE(E55:E82) -> 327.85714 | H82: =IFERROR(F82/G82, 0) -> 0.96732026
A83: 82 | C83: 5 | D83: 60 | E83: =IF(C83="",0,C83*D83) -> 300 | F83: =AVERAGE(E77:E83) -> 325.71429 | G83: =AVERAGE(E56:E83) -> 327.85714 | H83: =IFERROR(F83/G83, 0) -> 0.99346405
A84: 83 | E84: =IF(C84="",0,C84*D84) -> 0 | F84: =AVERAGE(E78:E84) -> 325.71429 | G84: =AVERAGE(E57:E84) -> 327.85714 | H84: =IFERROR(F84/G84, 0) -> 0.99346405
A85: 84 | C85: 9 | D85: 90 | E85: =IF(C85="",0,C85*D85) -> 810 | F85: =AVERAGE(E79:E85) -> 338.57143 | G85: =AVERAGE(E58:E85) -> 331.07143 | H85: =IFERROR(F85/G85, 0) -> 1.0226537
A86: 85 | E86: =IF(C86="",0,C86*D86) -> 0 | F86: =AVERAGE(E80:E86) -> 338.57143 | G86: =AVERAGE(E59:E86) -> 331.07143 | H86: =IFERROR(F86/G86, 0) -> 1.0226537
A87: 86 | C87: 8 | D87: 90 | E87: =IF(C87="",0,C87*D87) -> 720 | F87: =AVERAGE(E81:E87) -> 338.57143 | G87: =AVERAGE(E60:E87) -> 337.5 | H87: =IFERROR(F87/G87, 0) -> 1.0031746
A88: 87 | E88: =IF(C88="",0,C88*D88) -> 0 | F88: =AVERAGE(E82:E88) -> 338.57143 | G88: =AVERAGE(E61:E88) -> 337.5 | H88: =IFERROR(F88/G88, 0) -> 1.0031746
A89: 88 | C89: 5 | D89: 90 | E89: =IF(C89="",0,C89*D89) -> 450 | F89: =AVERAGE(E83:E89) -> 325.71429 | G89: =AVERAGE(E62:E89) -> 331.07143 | H89: =IFERROR(F89/G89, 0) -> 0.98381877
A90: 89 | C90: 5 | D90: 60 | E90: =IF(C90="",0,C90*D90) -> 300 | F90: =AVERAGE(E84:E90) -> 325.71429 | G90: =AVERAGE(E63:E90) -> 331.07143 | H90: =IFERROR(F90/G90, 0) -> 0.98381877
A91: 90 | E91: =IF(C91="",0,C91*D91) -> 0 | F91: =AVERAGE(E85:E91) -> 325.71429 | G91: =AVERAGE(E64:E91) -> 331.07143 | H91: =IFERROR(F91/G91, 0) -> 0.98381877
A92: 91 | C92: 8 | D92: 90 | E92: =IF(C92="",0,C92*D92) -> 720 | F92: =AVERAGE(E86:E92) -> 312.85714 | G92: =AVERAGE(E65:E92) -> 327.85714 | H92: =IFERROR(F92/G92, 0) -> 0.95424837
A93: 92 | E93: =IF(C93="",0,C93*D93) -> 0 | F93: =AVERAGE(E87:E93) -> 312.85714 | G93: =AVERAGE(E66:E93) -> 327.85714 | H93: =IFERROR(F93/G93, 0) -> 0.95424837
A94: 93 | C94: 8 | D94: 90 | E94: =IF(C94="",0,C94*D94) -> 720 | F94: =AVERAGE(E88:E94) -> 312.85714 | G94: =AVERAGE(E67:E94) -> 327.85714 | H94: =IFERROR(F94/G94, 0) -> 0.95424837
A95: 94 | E95: =IF(C95="",0,C95*D95) -> 0 | F95: =AVERAGE(E89:E95) -> 312.85714 | G95: =AVERAGE(E68:E95) -> 327.85714 | H95: =IFERROR(F95/G95, 0) -> 0.95424837
A96: 95 | C96: 6 | D96: 90 | E96: =IF(C96="",0,C96*D96) -> 540 | F96: =AVERAGE(E90:E96) -> 325.71429 | G96: =AVERAGE(E69:E96) -> 324.64286 | H96: =IFERROR(F96/G96, 0) -> 1.0033003
A97: 96 | C97: 4 | D97: 60 | E97: =IF(C97="",0,C97*D97) -> 240 | F97: =AVERAGE(E91:E97) -> 317.14286 | G97: =AVERAGE(E70:E97) -> 324.64286 | H97: =IFERROR(F97/G97, 0) -> 0.97689769
A98: 97 | E98: =IF(C98="",0,C98*D98) -> 0 | F98: =AVERAGE(E92:E98) -> 317.14286 | G98: =AVERAGE(E71:E98) -> 324.64286 | H98: =IFERROR(F98/G98, 0) -> 0.97689769
A99: 98 | C99: 9 | D99: 90 | E99: =IF(C99="",0,C99*D99) -> 810 | F99: =AVERAGE(E93:E99) -> 330 | G99: =AVERAGE(E72:E99) -> 324.64286 | H99: =IFERROR(F99/G99, 0) -> 1.0165017
A100: 99 | E100: =IF(C100="",0,C100*D100) -> 0 | F100: =AVERAGE(E94:E100) -> 330 | G100: =AVERAGE(E73:E100) -> 324.64286 | H100: =IFERROR(F100/G100, 0) -> 1.0165017
...

Sheet Giocatore 6
A1: Giorno Progressivo | B1: Data (Opzionale) | C1: RPE (1-10) | D1: Durata (min) | E1: Session RPE (UA) | F1: Carico Acuto (Media 7g) | G1: Carico Cronico (Media 28g) | H1: ACWR
A2: 1 | E2: =IF(C2="",0,C2*D2) -> 0 | F2: =AVERAGE(E2:E2) -> 0 | G2: =AVERAGE(E2:E2) -> 0 | H2: =IFERROR(F2/G2, 0) -> 0
A3: 2 | E3: =IF(C3="",0,C3*D3) -> 0 | F3: =AVERAGE(E2:E3) -> 0 | G3: =AVERAGE(E2:E3) -> 0 | H3: =IFERROR(F3/G3, 0) -> 0
A4: 3 | E4: =IF(C4="",0,C4*D4) -> 0 | F4: =AVERAGE(E2:E4) -> 0 | G4: =AVERAGE(E2:E4) -> 0 | H4: =IFERROR(F4/G4, 0) -> 0
A5: 4 | E5: =IF(C5="",0,C5*D5) -> 0 | F5: =AVERAGE(E2:E5) -> 0 | G5: =AVERAGE(E2:E5) -> 0 | H5: =IFERROR(F5/G5, 0) -> 0
A6: 5 | E6: =IF(C6="",0,C6*D6) -> 0 | F6: =AVERAGE(E2:E6) -> 0 | G6: =AVERAGE(E2:E6) -> 0 | H6: =IFERROR(F6/G6, 0) -> 0
A7: 6 | E7: =IF(C7="",0,C7*D7) -> 0 | F7: =AVERAGE(E2:E7) -> 0 | G7: =AVERAGE(E2:E7) -> 0 | H7: =IFERROR(F7/G7, 0) -> 0
A8: 7 | E8: =IF(C8="",0,C8*D8) -> 0 | F8: =AVERAGE(E2:E8) -> 0 | G8: =AVERAGE(E2:E8) -> 0 | H8: =IFERROR(F8/G8, 0) -> 0
A9: 8 | E9: =IF(C9="",0,C9*D9) -> 0 | F9: =AVERAGE(E3:E9) -> 0 | G9: =AVERAGE(E2:E9) -> 0 | H9: =IFERROR(F9/G9, 0) -> 0
A10: 9 | E10: =IF(C10="",0,C10*D10) -> 0 | F10: =AVERAGE(E4:E10) -> 0 | G10: =AVERAGE(E2:E10) -> 0 | H10: =IFERROR(F10/G10, 0) -> 0
A11: 10 | E11: =IF(C11="",0,C11*D11) -> 0 | F11: =AVERAGE(E5:E11) -> 0 | G11: =AVERAGE(E2:E11) -> 0 | H11: =IFERROR(F11/G11, 0) -> 0
A12: 11 | E12: =IF(C12="",0,C12*D12) -> 0 | F12: =AVERAGE(E6:E12) -> 0 | G12: =AVERAGE(E2:E12) -> 0 | H12: =IFERROR(F12/G12, 0) -> 0
A13: 12 | E13: =IF(C13="",0,C13*D13) -> 0 | F13: =AVERAGE(E7:E13) -> 0 | G13: =AVERAGE(E2:E13) -> 0 | H13: =IFERROR(F13/G13, 0) -> 0
A14: 13 | E14: =IF(C14="",0,C14*D14) -> 0 | F14: =AVERAGE(E8:E14) -> 0 | G14: =AVERAGE(E2:E14) -> 0 | H14: =IFERROR(F14/G14, 0) -> 0
A15: 14 | E15: =IF(C15="",0,C15*D15) -> 0 | F15: =AVERAGE(E9:E15) -> 0 | G15: =AVERAGE(E2:E15) -> 0 | H15: =IFERROR(F15/G15, 0) -> 0
A16: 15 | E16: =IF(C16="",0,C16*D16) -> 0 | F16: =AVERAGE(E10:E16) -> 0 | G16: =AVERAGE(E2:E16) -> 0 | H16: =IFERROR(F16/G16, 0) -> 0
A17: 16 | E17: =IF(C17="",0,C17*D17) -> 0 | F17: =AVERAGE(E11:E17) -> 0 | G17: =AVERAGE(E2:E17) -> 0 | H17: =IFERROR(F17/G17, 0) -> 0
A18: 17 | E18: =IF(C18="",0,C18*D18) -> 0 | F18: =AVERAGE(E12:E18) -> 0 | G18: =AVERAGE(E2:E18) -> 0 | H18: =IFERROR(F18/G18, 0) -> 0
A19: 18 | E19: =IF(C19="",0,C19*D19) -> 0 | F19: =AVERAGE(E13:E19) -> 0 | G19: =AVERAGE(E2:E19) -> 0 | H19: =IFERROR(F19/G19, 0) -> 0
A20: 19 | E20: =IF(C20="",0,C20*D20) -> 0 | F20: =AVERAGE(E14:E20) -> 0 | G20: =AVERAGE(E2:E20) -> 0 | H20: =IFERROR(F20/G20, 0) -> 0
A21: 20 | E21: =IF(C21="",0,C21*D21) -> 0 | F21: =AVERAGE(E15:E21) -> 0 | G21: =AVERAGE(E2:E21) -> 0 | H21: =IFERROR(F21/G21, 0) -> 0
A22: 21 | E22: =IF(C22="",0,C22*D22) -> 0 | F22: =AVERAGE(E16:E22) -> 0 | G22: =AVERAGE(E2:E22) -> 0 | H22: =IFERROR(F22/G22, 0) -> 0
A23: 22 | E23: =IF(C23="",0,C23*D23) -> 0 | F23: =AVERAGE(E17:E23) -> 0 | G23: =AVERAGE(E2:E23) -> 0 | H23: =IFERROR(F23/G23, 0) -> 0
A24: 23 | E24: =IF(C24="",0,C24*D24) -> 0 | F24: =AVERAGE(E18:E24) -> 0 | G24: =AVERAGE(E2:E24) -> 0 | H24: =IFERROR(F24/G24, 0) -> 0
A25: 24 | E25: =IF(C25="",0,C25*D25) -> 0 | F25: =AVERAGE(E19:E25) -> 0 | G25: =AVERAGE(E2:E25) -> 0 | H25: =IFERROR(F25/G25, 0) -> 0
A26: 25 | E26: =IF(C26="",0,C26*D26) -> 0 | F26: =AVERAGE(E20:E26) -> 0 | G26: =AVERAGE(E2:E26) -> 0 | H26: =IFERROR(F26/G26, 0) -> 0
A27: 26 | E27: =IF(C27="",0,C27*D27) -> 0 | F27: =AVERAGE(E21:E27) -> 0 | G27: =AVERAGE(E2:E27) -> 0 | H27: =IFERROR(F27/G27, 0) -> 0
A28: 27 | E28: =IF(C28="",0,C28*D28) -> 0 | F28: =AVERAGE(E22:E28) -> 0 | G28: =AVERAGE(E2:E28) -> 0 | H28: =IFERROR(F28/G28, 0) -> 0
A29: 28 | E29: =IF(C29="",0,C29*D29) -> 0 | F29: =AVERAGE(E23:E29) -> 0 | G29: =AVERAGE(E2:E29) -> 0 | H29: =IFERROR(F29/G29, 0) -> 0
A30: 29 | E30: =IF(C30="",0,C30*D30) -> 0 | F30: =AVERAGE(E24:E30) -> 0 | G30: =AVERAGE(E3:E30) -> 0 | H30: =IFERROR(F30/G30, 0) -> 0
A31: 30 | E31: =IF(C31="",0,C31*D31) -> 0 | F31: =AVERAGE(E25:E31) -> 0 | G31: =AVERAGE(E4:E31) -> 0 | H31: =IFERROR(F31/G31, 0) -> 0
A32: 31 | E32: =IF(C32="",0,C32*D32) -> 0 | F32: =AVERAGE(E26:E32) -> 0 | G32: =AVERAGE(E5:E32) -> 0 | H32: =IFERROR(F32/G32, 0) -> 0
A33: 32 | E33: =IF(C33="",0,C33*D33) -> 0 | F33: =AVERAGE(E27:E33) -> 0 | G33: =AVERAGE(E6:E33) -> 0 | H33: =IFERROR(F33/G33, 0) -> 0
A34: 33 | E34: =IF(C34="",0,C34*D34) -> 0 | F34: =AVERAGE(E28:E34) -> 0 | G34: =AVERAGE(E7:E34) -> 0 | H34: =IFERROR(F34/G34, 0) -> 0
A35: 34 | E35: =IF(C35="",0,C35*D35) -> 0 | F35: =AVERAGE(E29:E35) -> 0 | G35: =AVERAGE(E8:E35) -> 0 | H35: =IFERROR(F35/G35, 0) -> 0
A36: 35 | E36: =IF(C36="",0,C36*D36) -> 0 | F36: =AVERAGE(E30:E36) -> 0 | G36: =AVERAGE(E9:E36) -> 0 | H36: =IFERROR(F36/G36, 0) -> 0
A37: 36 | E37: =IF(C37="",0,C37*D37) -> 0 | F37: =AVERAGE(E31:E37) -> 0 | G37: =AVERAGE(E10:E37) -> 0 | H37: =IFERROR(F37/G37, 0) -> 0
A38: 37 | E38: =IF(C38="",0,C38*D38) -> 0 | F38: =AVERAGE(E32:E38) -> 0 | G38: =AVERAGE(E11:E38) -> 0 | H38: =IFERROR(F38/G38, 0) -> 0
A39: 38 | E39: =IF(C39="",0,C39*D39) -> 0 | F39: =AVERAGE(E33:E39) -> 0 | G39: =AVERAGE(E12:E39) -> 0 | H39: =IFERROR(F39/G39, 0) -> 0
A40: 39 | E40: =IF(C40="",0,C40*D40) -> 0 | F40: =AVERAGE(E34:E40) -> 0 | G40: =AVERAGE(E13:E40) -> 0 | H40: =IFERROR(F40/G40, 0) -> 0
... A301: 300 | E301: =IF(C301="",0,C301*D301) -> 0 | F301: =AVERAGE(E295:E301) -> 0 | G301: =AVERAGE(E274:E301) -> 0 | H301: =IFERROR(F301/G301, 0) -> 0
H302: =LOOKUP(2,1/(C2:C301<>""),H2:H301) -> #N/A

Sheet Giocatore 7
A1: Giorno Progressivo | B1: Data (Opzionale) | C1: RPE (1-10) | D1: Durata (min) | E1: Session RPE (UA) | F1: Carico Acuto (Media 7g) | G1: Carico Cronico (Media 28g) | H1: ACWR
A2: 1 | E2: =IF(C2="",0,C2*D2) -> 0 | F2: =AVERAGE(E2:E2) -> 0 | G2: =AVERAGE(E2:E2) -> 0 | H2: =IFERROR(F2/G2, 0) -> 0
A3: 2 | E3: =IF(C3="",0,C3*D3) -> 0 | F3: =AVERAGE(E2:E3) -> 0 | G3: =AVERAGE(E2:E3) -> 0 | H3: =IFERROR(F3/G3, 0) -> 0
A4: 3 | E4: =IF(C4="",0,C4*D4) -> 0 | F4: =AVERAGE(E2:E4) -> 0 | G4: =AVERAGE(E2:E4) -> 0 | H4: =IFERROR(F4/G4, 0) -> 0
A5: 4 | E5: =IF(C5="",0,C5*D5) -> 0 | F5: =AVERAGE(E2:E5) -> 0 | G5: =AVERAGE(E2:E5) -> 0 | H5: =IFERROR(F5/G5, 0) -> 0
A6: 5 | E6: =IF(C6="",0,C6*D6) -> 0 | F6: =AVERAGE(E2:E6) -> 0 | G6: =AVERAGE(E2:E6) -> 0 | H6: =IFERROR(F6/G6, 0) -> 0
A7: 6 | E7: =IF(C7="",0,C7*D7) -> 0 | F7: =AVERAGE(E2:E7) -> 0 | G7: =AVERAGE(E2:E7) -> 0 | H7: =IFERROR(F7/G7, 0) -> 0
A8: 7 | E8: =IF(C8="",0,C8*D8) -> 0 | F8: =AVERAGE(E2:E8) -> 0 | G8: =AVERAGE(E2:E8) -> 0 | H8: =IFERROR(F8/G8, 0) -> 0
A9: 8 | E9: =IF(C9="",0,C9*D9) -> 0 | F9: =AVERAGE(E3:E9) -> 0 | G9: =AVERAGE(E2:E9) -> 0 | H9: =IFERROR(F9/G9, 0) -> 0
A10: 9 | E10: =IF(C10="",0,C10*D10) -> 0 | F10: =AVERAGE(E4:E10) -> 0 | G10: =AVERAGE(E2:E10) -> 0 | H10: =IFERROR(F10/G10, 0) -> 0
A11: 10 | E11: =IF(C11="",0,C11*D11) -> 0 | F11: =AVERAGE(E5:E11) -> 0 | G11: =AVERAGE(E2:E11) -> 0 | H11: =IFERROR(F11/G11, 0) -> 0
A12: 11 | E12: =IF(C12="",0,C12*D12) -> 0 | F12: =AVERAGE(E6:E12) -> 0 | G12: =AVERAGE(E2:E12) -> 0 | H12: =IFERROR(F12/G12, 0) -> 0
A13: 12 | E13: =IF(C13="",0,C13*D13) -> 0 | F13: =AVERAGE(E7:E13) -> 0 | G13: =AVERAGE(E2:E13) -> 0 | H13: =IFERROR(F13/G13, 0) -> 0
A14: 13 | E14: =IF(C14="",0,C14*D14) -> 0 | F14: =AVERAGE(E8:E14) -> 0 | G14: =AVERAGE(E2:E14) -> 0 | H14: =IFERROR(F14/G14, 0) -> 0
A15: 14 | E15: =IF(C15="",0,C15*D15) -> 0 | F15: =AVERAGE(E9:E15) -> 0 | G15: =AVERAGE(E2:E15) -> 0 | H15: =IFERROR(F15/G15, 0) -> 0
A16: 15 | E16: =IF(C16="",0,C16*D16) -> 0 | F16: =AVERAGE(E10:E16) -> 0 | G16: =AVERAGE(E2:E16) -> 0 | H16: =IFERROR(F16/G16, 0) -> 0
A17: 16 | E17: =IF(C17="",0,C17*D17) -> 0 | F17: =AVERAGE(E11:E17) -> 0 | G17: =AVERAGE(E2:E17) -> 0 | H17: =IFERROR(F17/G17, 0) -> 0
A18: 17 | E18: =IF(C18="",0,C18*D18) -> 0 | F18: =AVERAGE(E12:E18) -> 0 | G18: =AVERAGE(E2:E18) -> 0 | H18: =IFERROR(F18/G18, 0) -> 0
A19: 18 | E19: =IF(C19="",0,C19*D19) -> 0 | F19: =AVERAGE(E13:E19) -> 0 | G19: =AVERAGE(E2:E19) -> 0 | H19: =IFERROR(F19/G19, 0) -> 0
A20: 19 | E20: =IF(C20="",0,C20*D20) -> 0 | F20: =AVERAGE(E14:E20) -> 0 | G20: =AVERAGE(E2:E20) -> 0 | H20: =IFERROR(F20/G20, 0) -> 0
A21: 20 | E21: =IF(C21="",0,C21*D21) -> 0 | F21: =AVERAGE(E15:E21) -> 0 | G21: =AVERAGE(E2:E21) -> 0 | H21: =IFERROR(F21/G21, 0) -> 0
A22: 21 | E22: =IF(C22="",0,C22*D22) -> 0 | F22: =AVERAGE(E16:E22) -> 0 | G22: =AVERAGE(E2:E22) -> 0 | H22: =IFERROR(F22/G22, 0) -> 0
A23: 22 | E23: =IF(C23="",0,C23*D23) -> 0 | F23: =AVERAGE(E17:E23) -> 0 | G23: =AVERAGE(E2:E23) -> 0 | H23: =IFERROR(F23/G23, 0) -> 0
A24: 23 | E24: =IF(C24="",0,C24*D24) -> 0 | F24: =AVERAGE(E18:E24) -> 0 | G24: =AVERAGE(E2:E24) -> 0 | H24: =IFERROR(F24/G24, 0) -> 0
A25: 24 | E25: =IF(C25="",0,C25*D25) -> 0 | F25: =AVERAGE(E19:E25) -> 0 | G25: =AVERAGE(E2:E25) -> 0 | H25: =IFERROR(F25/G25, 0) -> 0
A26: 25 | E26: =IF(C26="",0,C26*D26) -> 0 | F26: =AVERAGE(E20:E26) -> 0 | G26: =AVERAGE(E2:E26) -> 0 | H26: =IFERROR(F26/G26, 0) -> 0
A27: 26 | E27: =IF(C27="",0,C27*D27) -> 0 | F27: =AVERAGE(E21:E27) -> 0 | G27: =AVERAGE(E2:E27) -> 0 | H27: =IFERROR(F27/G27, 0) -> 0
A28: 27 | E28: =IF(C28="",0,C28*D28) -> 0 | F28: =AVERAGE(E22:E28) -> 0 | G28: =AVERAGE(E2:E28) -> 0 | H28: =IFERROR(F28/G28, 0) -> 0
A29: 28 | E29: =IF(C29="",0,C29*D29) -> 0 | F29: =AVERAGE(E23:E29) -> 0 | G29: =AVERAGE(E2:E29) -> 0 | H29: =IFERROR(F29/G29, 0) -> 0
A30: 29 | E30: =IF(C30="",0,C30*D30) -> 0 | F30: =AVERAGE(E24:E30) -> 0 | G30: =AVERAGE(E3:E30) -> 0 | H30: =IFERROR(F30/G30, 0) -> 0
A31: 30 | E31: =IF(C31="",0,C31*D31) -> 0 | F31: =AVERAGE(E25:E31) -> 0 | G31: =AVERAGE(E4:E31) -> 0 | H31: =IFERROR(F31/G31, 0) -> 0
A32: 31 | E32: =IF(C32="",0,C32*D32) -> 0 | F32: =AVERAGE(E26:E32) -> 0 | G32: =AVERAGE(E5:E32) -> 0 | H32: =IFERROR(F32/G32, 0) -> 0
A33: 32 | E33: =IF(C33="",0,C33*D33) -> 0 | F33: =AVERAGE(E27:E33) -> 0 | G33: =AVERAGE(E6:E33) -> 0 | H33: =IFERROR(F33/G33, 0) -> 0
A34: 33 | E34: =IF(C34="",0,C34*D34) -> 0 | F34: =AVERAGE(E28:E34) -> 0 | G34: =AVERAGE(E7:E34) -> 0 | H34: =IFERROR(F34/G34, 0) -> 0
A35: 34 | E35: =IF(C35="",0,C35*D35) -> 0 | F35: =AVERAGE(E29:E35) -> 0 | G35: =AVERAGE(E8:E35) -> 0 | H35: =IFERROR(F35/G35, 0) -> 0
A36: 35 | E36: =IF(C36="",0,C36*D36) -> 0 | F36: =AVERAGE(E30:E36) -> 0 | G36: =AVERAGE(E9:E36) -> 0 | H36: =IFERROR(F36/G36, 0) -> 0
A37: 36 | E37: =IF(C37="",0,C37*D37) -> 0 | F37: =AVERAGE(E31:E37) -> 0 | G37: =AVERAGE(E10:E37) -> 0 | H37: =IFERROR(F37/G37, 0) -> 0
A38: 37 | E38: =IF(C38="",0,C38*D38) -> 0 | F38: =AVERAGE(E32:E38) -> 0 | G38: =AVERAGE(E11:E38) -> 0 | H38: =IFERROR(F38/G38, 0) -> 0
A39: 38 | E39: =IF(C39="",0,C39*D39) -> 0 | F39: =AVERAGE(E33:E39) -> 0 | G39: =AVERAGE(E12:E39) -> 0 | H39: =IFERROR(F39/G39, 0) -> 0
A40: 39 | E40: =IF(C40="",0,C40*D40) -> 0 | F40: =AVERAGE(E34:E40) -> 0 | G40: =AVERAGE(E13:E40) -> 0 | H40: =IFERROR(F40/G40, 0) -> 0
... A301: 300 | E301: =IF(C301="",0,C301*D301) -> 0 | F301: =AVERAGE(E295:E301) -> 0 | G301: =AVERAGE(E274:E301) -> 0 | H301: =IFERROR(F301/G301, 0) -> 0
H302: =LOOKUP(2,1/(C2:C301<>""),H2:H301) -> #N/A

Sheet Giocatore 8
A1: Giorno Progressivo | B1: Data (Opzionale) | C1: RPE (1-10) | D1: Durata (min) | E1: Session RPE (UA) | F1: Carico Acuto (Media 7g) | G1: Carico Cronico (Media 28g) | H1: ACWR
A2: 1 | E2: =IF(C2="",0,C2*D2) -> 0 | F2: =AVERAGE(E2:E2) -> 0 | G2: =AVERAGE(E2:E2) -> 0 | H2: =IFERROR(F2/G2, 0) -> 0
A3: 2 | E3: =IF(C3="",0,C3*D3) -> 0 | F3: =AVERAGE(E2:E3) -> 0 | G3: =AVERAGE(E2:E3) -> 0 | H3: =IFERROR(F3/G3, 0) -> 0
A4: 3 | E4: =IF(C4="",0,C4*D4) -> 0 | F4: =AVERAGE(E2:E4) -> 0 | G4: =AVERAGE(E2:E4) -> 0 | H4: =IFERROR(F4/G4, 0) -> 0
A5: 4 | E5: =IF(C5="",0,C5*D5) -> 0 | F5: =AVERAGE(E2:E5) -> 0 | G5: =AVERAGE(E2:E5) -> 0 | H5: =IFERROR(F5/G5, 0) -> 0
A6: 5 | E6: =IF(C6="",0,C6*D6) -> 0 | F6: =AVERAGE(E2:E6) -> 0 | G6: =AVERAGE(E2:E6) -> 0 | H6: =IFERROR(F6/G6, 0) -> 0
A7: 6 | E7: =IF(C7="",0,C7*D7) -> 0 | F7: =AVERAGE(E2:E7) -> 0 | G7: =AVERAGE(E2:E7) -> 0 | H7: =IFERROR(F7/G7, 0) -> 0
A8: 7 | E8: =IF(C8="",0,C8*D8) -> 0 | F8: =AVERAGE(E2:E8) -> 0 | G8: =AVERAGE(E2:E8) -> 0 | H8: =IFERROR(F8/G8, 0) -> 0
A9: 8 | E9: =IF(C9="",0,C9*D9) -> 0 | F9: =AVERAGE(E3:E9) -> 0 | G9: =AVERAGE(E2:E9) -> 0 | H9: =IFERROR(F9/G9, 0) -> 0
A10: 9 | E10: =IF(C10="",0,C10*D10) -> 0 | F10: =AVERAGE(E4:E10) -> 0 | G10: =AVERAGE(E2:E10) -> 0 | H10: =IFERROR(F10/G10, 0) -> 0
A11: 10 | E11: =IF(C11="",0,C11*D11) -> 0 | F11: =AVERAGE(E5:E11) -> 0 | G11: =AVERAGE(E2:E11) -> 0 | H11: =IFERROR(F11/G11, 0) -> 0
A12: 11 | E12: =IF(C12="",0,C12*D12) -> 0 | F12: =AVERAGE(E6:E12) -> 0 | G12: =AVERAGE(E2:E12) -> 0 | H12: =IFERROR(F12/G12, 0) -> 0
A13: 12 | E13: =IF(C13="",0,C13*D13) -> 0 | F13: =AVERAGE(E7:E13) -> 0 | G13: =AVERAGE(E2:E13) -> 0 | H13: =IFERROR(F13/G13, 0) -> 0
A14: 13 | E14: =IF(C14="",0,C14*D14) -> 0 | F14: =AVERAGE(E8:E14) -> 0 | G14: =AVERAGE(E2:E14) -> 0 | H14: =IFERROR(F14/G14, 0) -> 0
A15: 14 | E15: =IF(C15="",0,C15*D15) -> 0 | F15: =AVERAGE(E9:E15) -> 0 | G15: =AVERAGE(E2:E15) -> 0 | H15: =IFERROR(F15/G15, 0) -> 0
A16: 15 | E16: =IF(C16="",0,C16*D16) -> 0 | F16: =AVERAGE(E10:E16) -> 0 | G16: =AVERAGE(E2:E16) -> 0 | H16: =IFERROR(F16/G16, 0) -> 0
A17: 16 | E17: =IF(C17="",0,C17*D17) -> 0 | F17: =AVERAGE(E11:E17) -> 0 | G17: =AVERAGE(E2:E17) -> 0 | H17: =IFERROR(F17/G17, 0) -> 0
A18: 17 | E18: =IF(C18="",0,C18*D18) -> 0 | F18: =AVERAGE(E12:E18) -> 0 | G18: =AVERAGE(E2:E18) -> 0 | H18: =IFERROR(F18/G18, 0) -> 0
A19: 18 | E19: =IF(C19="",0,C19*D19) -> 0 | F19: =AVERAGE(E13:E19) -> 0 | G19: =AVERAGE(E2:E19) -> 0 | H19: =IFERROR(F19/G19, 0) -> 0
A20: 19 | E20: =IF(C20="",0,C20*D20) -> 0 | F20: =AVERAGE(E14:E20) -> 0 | G20: =AVERAGE(E2:E20) -> 0 | H20: =IFERROR(F20/G20, 0) -> 0
A21: 20 | E21: =IF(C21="",0,C21*D21) -> 0 | F21: =AVERAGE(E15:E21) -> 0 | G21: =AVERAGE(E2:E21) -> 0 | H21: =IFERROR(F21/G21, 0) -> 0
A22: 21 | E22: =IF(C22="",0,C22*D22) -> 0 | F22: =AVERAGE(E16:E22) -> 0 | G22: =AVERAGE(E2:E22) -> 0 | H22: =IFERROR(F22/G22, 0) -> 0
A23: 22 | E23: =IF(C23="",0,C23*D23) -> 0 | F23: =AVERAGE(E17:E23) -> 0 | G23: =AVERAGE(E2:E23) -> 0 | H23: =IFERROR(F23/G23, 0) -> 0
A24: 23 | E24: =IF(C24="",0,C24*D24) -> 0 | F24: =AVERAGE(E18:E24) -> 0 | G24: =AVERAGE(E2:E24) -> 0 | H24: =IFERROR(F24/G24, 0) -> 0
A25: 24 | E25: =IF(C25="",0,C25*D25) -> 0 | F25: =AVERAGE(E19:E25) -> 0 | G25: =AVERAGE(E2:E25) -> 0 | H25: =IFERROR(F25/G25, 0) -> 0
A26: 25 | E26: =IF(C26="",0,C26*D26) -> 0 | F26: =AVERAGE(E20:E26) -> 0 | G26: =AVERAGE(E2:E26) -> 0 | H26: =IFERROR(F26/G26, 0) -> 0
A27: 26 | E27: =IF(C27="",0,C27*D27) -> 0 | F27: =AVERAGE(E21:E27) -> 0 | G27: =AVERAGE(E2:E27) -> 0 | H27: =IFERROR(F27/G27, 0) -> 0
A28: 27 | E28: =IF(C28="",0,C28*D28) -> 0 | F28: =AVERAGE(E22:E28) -> 0 | G28: =AVERAGE(E2:E28) -> 0 | H28: =IFERROR(F28/G28, 0) -> 0
A29: 28 | E29: =IF(C29="",0,C29*D29) -> 0 | F29: =AVERAGE(E23:E29) -> 0 | G29: =AVERAGE(E2:E29) -> 0 | H29: =IFERROR(F29/G29, 0) -> 0
A30: 29 | E30: =IF(C30="",0,C30*D30) -> 0 | F30: =AVERAGE(E24:E30) -> 0 | G30: =AVERAGE(E3:E30) -> 0 | H30: =IFERROR(F30/G30, 0) -> 0
A31: 30 | E31: =IF(C31="",0,C31*D31) -> 0 | F31: =AVERAGE(E25:E31) -> 0 | G31: =AVERAGE(E4:E31) -> 0 | H31: =IFERROR(F31/G31, 0) -> 0
A32: 31 | E32: =IF(C32="",0,C32*D32) -> 0 | F32: =AVERAGE(E26:E32) -> 0 | G32: =AVERAGE(E5:E32) -> 0 | H32: =IFERROR(F32/G32, 0) -> 0
A33: 32 | E33: =IF(C33="",0,C33*D33) -> 0 | F33: =AVERAGE(E27:E33) -> 0 | G33: =AVERAGE(E6:E33) -> 0 | H33: =IFERROR(F33/G33, 0) -> 0
A34: 33 | E34: =IF(C34="",0,C34*D34) -> 0 | F34: =AVERAGE(E28:E34) -> 0 | G34: =AVERAGE(E7:E34) -> 0 | H34: =IFERROR(F34/G34, 0) -> 0
A35: 34 | E35: =IF(C35="",0,C35*D35) -> 0 | F35: =AVERAGE(E29:E35) -> 0 | G35: =AVERAGE(E8:E35) -> 0 | H35: =IFERROR(F35/G35, 0) -> 0
A36: 35 | E36: =IF(C36="",0,C36*D36) -> 0 | F36: =AVERAGE(E30:E36) -> 0 | G36: =AVERAGE(E9:E36) -> 0 | H36: =IFERROR(F36/G36, 0) -> 0
A37: 36 | E37: =IF(C37="",0,C37*D37) -> 0 | F37: =AVERAGE(E31:E37) -> 0 | G37: =AVERAGE(E10:E37) -> 0 | H37: =IFERROR(F37/G37, 0) -> 0
A38: 37 | E38: =IF(C38="",0,C38*D38) -> 0 | F38: =AVERAGE(E32:E38) -> 0 | G38: =AVERAGE(E11:E38) -> 0 | H38: =IFERROR(F38/G38, 0) -> 0
A39: 38 | E39: =IF(C39="",0,C39*D39) -> 0 | F39: =AVERAGE(E33:E39) -> 0 | G39: =AVERAGE(E12:E39) -> 0 | H39: =IFERROR(F39/G39, 0) -> 0
A40: 39 | E40: =IF(C40="",0,C40*D40) -> 0 | F40: =AVERAGE(E34:E40) -> 0 | G40: =AVERAGE(E13:E40) -> 0 | H40: =IFERROR(F40/G40, 0) -> 0
... A301: 300 | E301: =IF(C301="",0,C301*D301) -> 0 | F301: =AVERAGE(E295:E301) -> 0 | G301: =AVERAGE(E274:E301) -> 0 | H301: =IFERROR(F301/G301, 0) -> 0
H302: =LOOKUP(2,1/(C2:C301<>""),H2:H301) -> #N/A

Sheet Giocatore 9
A1: Giorno Progressivo | B1: Data (Opzionale) | C1: RPE (1-10) | D1: Durata (min) | E1: Session RPE (UA) | F1: Carico Acuto (Media 7g) | G1: Carico Cronico (Media 28g) | H1: ACWR
A2: 1 | E2: =IF(C2="",0,C2*D2) -> 0 | F2: =AVERAGE(E2:E2) -> 0 | G2: =AVERAGE(E2:E2) -> 0 | H2: =IFERROR(F2/G2, 0) -> 0
A3: 2 | E3: =IF(C3="",0,C3*D3) -> 0 | F3: =AVERAGE(E2:E3) -> 0 | G3: =AVERAGE(E2:E3) -> 0 | H3: =IFERROR(F3/G3, 0) -> 0
A4: 3 | E4: =IF(C4="",0,C4*D4) -> 0 | F4: =AVERAGE(E2:E4) -> 0 | G4: =AVERAGE(E2:E4) -> 0 | H4: =IFERROR(F4/G4, 0) -> 0
A5: 4 | E5: =IF(C5="",0,C5*D5) -> 0 | F5: =AVERAGE(E2:E5) -> 0 | G5: =AVERAGE(E2:E5) -> 0 | H5: =IFERROR(F5/G5, 0) -> 0
A6: 5 | E6: =IF(C6="",0,C6*D6) -> 0 | F6: =AVERAGE(E2:E6) -> 0 | G6: =AVERAGE(E2:E6) -> 0 | H6: =IFERROR(F6/G6, 0) -> 0
A7: 6 | E7: =IF(C7="",0,C7*D7) -> 0 | F7: =AVERAGE(E2:E7) -> 0 | G7: =AVERAGE(E2:E7) -> 0 | H7: =IFERROR(F7/G7, 0) -> 0
A8: 7 | E8: =IF(C8="",0,C8*D8) -> 0 | F8: =AVERAGE(E2:E8) -> 0 | G8: =AVERAGE(E2:E8) -> 0 | H8: =IFERROR(F8/G8, 0) -> 0
A9: 8 | E9: =IF(C9="",0,C9*D9) -> 0 | F9: =AVERAGE(E3:E9) -> 0 | G9: =AVERAGE(E2:E9) -> 0 | H9: =IFERROR(F9/G9, 0) -> 0
A10: 9 | E10: =IF(C10="",0,C10*D10) -> 0 | F10: =AVERAGE(E4:E10) -> 0 | G10: =AVERAGE(E2:E10) -> 0 | H10: =IFERROR(F10/G10, 0) -> 0
A11: 10 | E11: =IF(C11="",0,C11*D11) -> 0 | F11: =AVERAGE(E5:E11) -> 0 | G11: =AVERAGE(E2:E11) -> 0 | H11: =IFERROR(F11/G11, 0) -> 0
A12: 11 | E12: =IF(C12="",0,C12*D12) -> 0 | F12: =AVERAGE(E6:E12) -> 0 | G12: =AVERAGE(E2:E12) -> 0 | H12: =IFERROR(F12/G12, 0) -> 0
A13: 12 | E13: =IF(C13="",0,C13*D13) -> 0 | F13: =AVERAGE(E7:E13) -> 0 | G13: =AVERAGE(E2:E13) -> 0 | H13: =IFERROR(F13/G13, 0) -> 0
A14: 13 | E14: =IF(C14="",0,C14*D14) -> 0 | F14: =AVERAGE(E8:E14) -> 0 | G14: =AVERAGE(E2:E14) -> 0 | H14: =IFERROR(F14/G14, 0) -> 0
A15: 14 | E15: =IF(C15="",0,C15*D15) -> 0 | F15: =AVERAGE(E9:E15) -> 0 | G15: =AVERAGE(E2:E15) -> 0 | H15: =IFERROR(F15/G15, 0) -> 0
A16: 15 | E16: =IF(C16="",0,C16*D16) -> 0 | F16: =AVERAGE(E10:E16) -> 0 | G16: =AVERAGE(E2:E16) -> 0 | H16: =IFERROR(F16/G16, 0) -> 0
A17: 16 | E17: =IF(C17="",0,C17*D17) -> 0 | F17: =AVERAGE(E11:E17) -> 0 | G17: =AVERAGE(E2:E17) -> 0 | H17: =IFERROR(F17/G17, 0) -> 0
A18: 17 | E18: =IF(C18="",0,C18*D18) -> 0 | F18: =AVERAGE(E12:E18) -> 0 | G18: =AVERAGE(E2:E18) -> 0 | H18: =IFERROR(F18/G18, 0) -> 0
A19: 18 | E19: =IF(C19="",0,C19*D19) -> 0 | F19: =AVERAGE(E13:E19) -> 0 | G19: =AVERAGE(E2:E19) -> 0 | H19: =IFERROR(F19/G19, 0) -> 0
A20: 19 | E20: =IF(C20="",0,C20*D20) -> 0 | F20: =AVERAGE(E14:E20) -> 0 | G20: =AVERAGE(E2:E20) -> 0 | H20: =IFERROR(F20/G20, 0) -> 0
A21: 20 | E21: =IF(C21="",0,C21*D21) -> 0 | F21: =AVERAGE(E15:E21) -> 0 | G21: =AVERAGE(E2:E21) -> 0 | H21: =IFERROR(F21/G21, 0) -> 0
A22: 21 | E22: =IF(C22="",0,C22*D22) -> 0 | F22: =AVERAGE(E16:E22) -> 0 | G22: =AVERAGE(E2:E22) -> 0 | H22: =IFERROR(F22/G22, 0) -> 0
A23: 22 | E23: =IF(C23="",0,C23*D23) -> 0 | F23: =AVERAGE(E17:E23) -> 0 | G23: =AVERAGE(E2:E23) -> 0 | H23: =IFERROR(F23/G23, 0) -> 0
A24: 23 | E24: =IF(C24="",0,C24*D24) -> 0 | F24: =AVERAGE(E18:E24) -> 0 | G24: =AVERAGE(E2:E24) -> 0 | H24: =IFERROR(F24/G24, 0) -> 0
A25: 24 | E25: =IF(C25="",0,C25*D25) -> 0 | F25: =AVERAGE(E19:E25) -> 0 | G25: =AVERAGE(E2:E25) -> 0 | H25: =IFERROR(F25/G25, 0) -> 0
A26: 25 | E26: =IF(C26="",0,C26*D26) -> 0 | F26: =AVERAGE(E20:E26) -> 0 | G26: =AVERAGE(E2:E26) -> 0 | H26: =IFERROR(F26/G26, 0) -> 0
A27: 26 | E27: =IF(C27="",0,C27*D27) -> 0 | F27: =AVERAGE(E21:E27) -> 0 | G27: =AVERAGE(E2:E27) -> 0 | H27: =IFERROR(F27/G27, 0) -> 0
A28: 27 | E28: =IF(C28="",0,C28*D28) -> 0 | F28: =AVERAGE(E22:E28) -> 0 | G28: =AVERAGE(E2:E28) -> 0 | H28: =IFERROR(F28/G28, 0) -> 0
A29: 28 | E29: =IF(C29="",0,C29*D29) -> 0 | F29: =AVERAGE(E23:E29) -> 0 | G29: =AVERAGE(E2:E29) -> 0 | H29: =IFERROR(F29/G29, 0) -> 0
A30: 29 | E30: =IF(C30="",0,C30*D30) -> 0 | F30: =AVERAGE(E24:E30) -> 0 | G30: =AVERAGE(E3:E30) -> 0 | H30: =IFERROR(F30/G30, 0) -> 0
A31: 30 | E31: =IF(C31="",0,C31*D31) -> 0 | F31: =AVERAGE(E25:E31) -> 0 | G31: =AVERAGE(E4:E31) -> 0 | H31: =IFERROR(F31/G31, 0) -> 0
A32: 31 | E32: =IF(C32="",0,C32*D32) -> 0 | F32: =AVERAGE(E26:E32) -> 0 | G32: =AVERAGE(E5:E32) -> 0 | H32: =IFERROR(F32/G32, 0) -> 0
A33: 32 | E33: =IF(C33="",0,C33*D33) -> 0 | F33: =AVERAGE(E27:E33) -> 0 | G33: =AVERAGE(E6:E33) -> 0 | H33: =IFERROR(F33/G33, 0) -> 0
A34: 33 | E34: =IF(C34="",0,C34*D34) -> 0 | F34: =AVERAGE(E28:E34) -> 0 | G34: =AVERAGE(E7:E34) -> 0 | H34: =IFERROR(F34/G34, 0) -> 0
A35: 34 | E35: =IF(C35="",0,C35*D35) -> 0 | F35: =AVERAGE(E29:E35) -> 0 | G35: =AVERAGE(E8:E35) -> 0 | H35: =IFERROR(F35/G35, 0) -> 0
A36: 35 | E36: =IF(C36="",0,C36*D36) -> 0 | F36: =AVERAGE(E30:E36) -> 0 | G36: =AVERAGE(E9:E36) -> 0 | H36: =IFERROR(F36/G36, 0) -> 0
A37: 36 | E37: =IF(C37="",0,C37*D37) -> 0 | F37: =AVERAGE(E31:E37) -> 0 | G37: =AVERAGE(E10:E37) -> 0 | H37: =IFERROR(F37/G37, 0) -> 0
A38: 37 | E38: =IF(C38="",0,C38*D38) -> 0 | F38: =AVERAGE(E32:E38) -> 0 | G38: =AVERAGE(E11:E38) -> 0 | H38: =IFERROR(F38/G38, 0) -> 0
A39: 38 | E39: =IF(C39="",0,C39*D39) -> 0 | F39: =AVERAGE(E33:E39) -> 0 | G39: =AVERAGE(E12:E39) -> 0 | H39: =IFERROR(F39/G39, 0) -> 0
A40: 39 | E40: =IF(C40="",0,C40*D40) -> 0 | F40: =AVERAGE(E34:E40) -> 0 | G40: =AVERAGE(E13:E40) -> 0 | H40: =IFERROR(F40/G40, 0) -> 0
... A301: 300 | E301: =IF(C301="",0,C301*D301) -> 0 | F301: =AVERAGE(E295:E301) -> 0 | G301: =AVERAGE(E274:E301) -> 0 | H301: =IFERROR(F301/G301, 0) -> 0
H302: =LOOKUP(2,1/(C2:C301<>""),H2:H301) -> #N/A

Sheet Giocatore 10
A1: Giorno Progressivo | B1: Data (Opzionale) | C1: RPE (1-10) | D1: Durata (min) | E1: Session RPE (UA) | F1: Carico Acuto (Media 7g) | G1: Carico Cronico (Media 28g) | H1: ACWR
A2: 1 | E2: =IF(C2="",0,C2*D2) -> 0 | F2: =AVERAGE(E2:E2) -> 0 | G2: =AVERAGE(E2:E2) -> 0 | H2: =IFERROR(F2/G2, 0) -> 0
A3: 2 | E3: =IF(C3="",0,C3*D3) -> 0 | F3: =AVERAGE(E2:E3) -> 0 | G3: =AVERAGE(E2:E3) -> 0 | H3: =IFERROR(F3/G3, 0) -> 0
A4: 3 | E4: =IF(C4="",0,C4*D4) -> 0 | F4: =AVERAGE(E2:E4) -> 0 | G4: =AVERAGE(E2:E4) -> 0 | H4: =IFERROR(F4/G4, 0) -> 0
A5: 4 | E5: =IF(C5="",0,C5*D5) -> 0 | F5: =AVERAGE(E2:E5) -> 0 | G5: =AVERAGE(E2:E5) -> 0 | H5: =IFERROR(F5/G5, 0) -> 0
A6: 5 | E6: =IF(C6="",0,C6*D6) -> 0 | F6: =AVERAGE(E2:E6) -> 0 | G6: =AVERAGE(E2:E6) -> 0 | H6: =IFERROR(F6/G6, 0) -> 0
A7: 6 | E7: =IF(C7="",0,C7*D7) -> 0 | F7: =AVERAGE(E2:E7) -> 0 | G7: =AVERAGE(E2:E7) -> 0 | H7: =IFERROR(F7/G7, 0) -> 0
A8: 7 | E8: =IF(C8="",0,C8*D8) -> 0 | F8: =AVERAGE(E2:E8) -> 0 | G8: =AVERAGE(E2:E8) -> 0 | H8: =IFERROR(F8/G8, 0) -> 0
A9: 8 | E9: =IF(C9="",0,C9*D9) -> 0 | F9: =AVERAGE(E3:E9) -> 0 | G9: =AVERAGE(E2:E9) -> 0 | H9: =IFERROR(F9/G9, 0) -> 0
A10: 9 | E10: =IF(C10="",0,C10*D10) -> 0 | F10: =AVERAGE(E4:E10) -> 0 | G10: =AVERAGE(E2:E10) -> 0 | H10: =IFERROR(F10/G10, 0) -> 0
A11: 10 | E11: =IF(C11="",0,C11*D11) -> 0 | F11: =AVERAGE(E5:E11) -> 0 | G11: =AVERAGE(E2:E11) -> 0 | H11: =IFERROR(F11/G11, 0) -> 0
A12: 11 | E12: =IF(C12="",0,C12*D12) -> 0 | F12: =AVERAGE(E6:E12) -> 0 | G12: =AVERAGE(E2:E12) -> 0 | H12: =IFERROR(F12/G12, 0) -> 0
A13: 12 | E13: =IF(C13="",0,C13*D13) -> 0 | F13: =AVERAGE(E7:E13) -> 0 | G13: =AVERAGE(E2:E13) -> 0 | H13: =IFERROR(F13/G13, 0) -> 0
A14: 13 | E14: =IF(C14="",0,C14*D14) -> 0 | F14: =AVERAGE(E8:E14) -> 0 | G14: =AVERAGE(E2:E14) -> 0 | H14: =IFERROR(F14/G14, 0) -> 0
A15: 14 | E15: =IF(C15="",0,C15*D15) -> 0 | F15: =AVERAGE(E9:E15) -> 0 | G15: =AVERAGE(E2:E15) -> 0 | H15: =IFERROR(F15/G15, 0) -> 0
A16: 15 | E16: =IF(C16="",0,C16*D16) -> 0 | F16: =AVERAGE(E10:E16) -> 0 | G16: =AVERAGE(E2:E16) -> 0 | H16: =IFERROR(F16/G16, 0) -> 0
A17: 16 | E17: =IF(C17="",0,C17*D17) -> 0 | F17: =AVERAGE(E11:E17) -> 0 | G17: =AVERAGE(E2:E17) -> 0 | H17: =IFERROR(F17/G17, 0) -> 0
A18: 17 | E18: =IF(C18="",0,C18*D18) -> 0 | F18: =AVERAGE(E12:E18) -> 0 | G18: =AVERAGE(E2:E18) -> 0 | H18: =IFERROR(F18/G18, 0) -> 0
A19: 18 | E19: =IF(C19="",0,C19*D19) -> 0 | F19: =AVERAGE(E13:E19) -> 0 | G19: =AVERAGE(E2:E19) -> 0 | H19: =IFERROR(F19/G19, 0) -> 0
A20: 19 | E20: =IF(C20="",0,C20*D20) -> 0 | F20: =AVERAGE(E14:E20) -> 0 | G20: =AVERAGE(E2:E20) -> 0 | H20: =IFERROR(F20/G20, 0) -> 0
A21: 20 | E21: =IF(C21="",0,C21*D21) -> 0 | F21: =AVERAGE(E15:E21) -> 0 | G21: =AVERAGE(E2:E21) -> 0 | H21: =IFERROR(F21/G21, 0) -> 0
A22: 21 | E22: =IF(C22="",0,C22*D22) -> 0 | F22: =AVERAGE(E16:E22) -> 0 | G22: =AVERAGE(E2:E22) -> 0 | H22: =IFERROR(F22/G22, 0) -> 0
A23: 22 | E23: =IF(C23="",0,C23*D23) -> 0 | F23: =AVERAGE(E17:E23) -> 0 | G23: =AVERAGE(E2:E23) -> 0 | H23: =IFERROR(F23/G23, 0) -> 0
A24: 23 | E24: =IF(C24="",0,C24*D24) -> 0 | F24: =AVERAGE(E18:E24) -> 0 | G24: =AVERAGE(E2:E24) -> 0 | H24: =IFERROR(F24/G24, 0) -> 0
A25: 24 | E25: =IF(C25="",0,C25*D25) -> 0 | F25: =AVERAGE(E19:E25) -> 0 | G25: =AVERAGE(E2:E25) -> 0 | H25: =IFERROR(F25/G25, 0) -> 0
A26: 25 | E26: =IF(C26="",0,C26*D26) -> 0 | F26: =AVERAGE(E20:E26) -> 0 | G26: =AVERAGE(E2:E26) -> 0 | H26: =IFERROR(F26/G26, 0) -> 0
A27: 26 | E27: =IF(C27="",0,C27*D27) -> 0 | F27: =AVERAGE(E21:E27) -> 0 | G27: =AVERAGE(E2:E27) -> 0 | H27: =IFERROR(F27/G27, 0) -> 0
A28: 27 | E28: =IF(C28="",0,C28*D28) -> 0 | F28: =AVERAGE(E22:E28) -> 0 | G28: =AVERAGE(E2:E28) -> 0 | H28: =IFERROR(F28/G28, 0) -> 0
A29: 28 | E29: =IF(C29="",0,C29*D29) -> 0 | F29: =AVERAGE(E23:E29) -> 0 | G29: =AVERAGE(E2:E29) -> 0 | H29: =IFERROR(F29/G29, 0) -> 0
A30: 29 | E30: =IF(C30="",0,C30*D30) -> 0 | F30: =AVERAGE(E24:E30) -> 0 | G30: =AVERAGE(E3:E30) -> 0 | H30: =IFERROR(F30/G30, 0) -> 0
A31: 30 | E31: =IF(C31="",0,C31*D31) -> 0 | F31: =AVERAGE(E25:E31) -> 0 | G31: =AVERAGE(E4:E31) -> 0 | H31: =IFERROR(F31/G31, 0) -> 0
A32: 31 | E32: =IF(C32="",0,C32*D32) -> 0 | F32: =AVERAGE(E26:E32) -> 0 | G32: =AVERAGE(E5:E32) -> 0 | H32: =IFERROR(F32/G32, 0) -> 0
A33: 32 | E33: =IF(C33="",0,C33*D33) -> 0 | F33: =AVERAGE(E27:E33) -> 0 | G33: =AVERAGE(E6:E33) -> 0 | H33: =IFERROR(F33/G33, 0) -> 0
A34: 33 | E34: =IF(C34="",0,C34*D34) -> 0 | F34: =AVERAGE(E28:E34) -> 0 | G34: =AVERAGE(E7:E34) -> 0 | H34: =IFERROR(F34/G34, 0) -> 0
A35: 34 | E35: =IF(C35="",0,C35*D35) -> 0 | F35: =AVERAGE(E29:E35) -> 0 | G35: =AVERAGE(E8:E35) -> 0 | H35: =IFERROR(F35/G35, 0) -> 0
A36: 35 | E36: =IF(C36="",0,C36*D36) -> 0 | F36: =AVERAGE(E30:E36) -> 0 | G36: =AVERAGE(E9:E36) -> 0 | H36: =IFERROR(F36/G36, 0) -> 0
A37: 36 | E37: =IF(C37="",0,C37*D37) -> 0 | F37: =AVERAGE(E31:E37) -> 0 | G37: =AVERAGE(E10:E37) -> 0 | H37: =IFERROR(F37/G37, 0) -> 0
A38: 37 | E38: =IF(C38="",0,C38*D38) -> 0 | F38: =AVERAGE(E32:E38) -> 0 | G38: =AVERAGE(E11:E38) -> 0 | H38: =IFERROR(F38/G38, 0) -> 0
A39: 38 | E39: =IF(C39="",0,C39*D39) -> 0 | F39: =AVERAGE(E33:E39) -> 0 | G39: =AVERAGE(E12:E39) -> 0 | H39: =IFERROR(F39/G39, 0) -> 0
A40: 39 | E40: =IF(C40="",0,C40*D40) -> 0 | F40: =AVERAGE(E34:E40) -> 0 | G40: =AVERAGE(E13:E40) -> 0 | H40: =IFERROR(F40/G40, 0) -> 0
... A301: 300 | E301: =IF(C301="",0,C301*D301) -> 0 | F301: =AVERAGE(E295:E301) -> 0 | G301: =AVERAGE(E274:E301) -> 0 | H301: =IFERROR(F301/G301, 0) -> 0
H302: =LOOKUP(2,1/(C2:C301<>""),H2:H301) -> #N/A

Sheet Giocatore 11
A1: Giorno Progressivo | B1: Data (Opzionale) | C1: RPE (1-10) | D1: Durata (min) | E1: Session RPE (UA) | F1: Carico Acuto (Media 7g) | G1: Carico Cronico (Media 28g) | H1: ACWR
A2: 1 | E2: =IF(C2="",0,C2*D2) -> 0 | F2: =AVERAGE(E2:E2) -> 0 | G2: =AVERAGE(E2:E2) -> 0 | H2: =IFERROR(F2/G2, 0) -> 0
A3: 2 | E3: =IF(C3="",0,C3*D3) -> 0 | F3: =AVERAGE(E2:E3) -> 0 | G3: =AVERAGE(E2:E3) -> 0 | H3: =IFERROR(F3/G3, 0) -> 0
A4: 3 | E4: =IF(C4="",0,C4*D4) -> 0 | F4: =AVERAGE(E2:E4) -> 0 | G4: =AVERAGE(E2:E4) -> 0 | H4: =IFERROR(F4/G4, 0) -> 0
A5: 4 | E5: =IF(C5="",0,C5*D5) -> 0 | F5: =AVERAGE(E2:E5) -> 0 | G5: =AVERAGE(E2:E5) -> 0 | H5: =IFERROR(F5/G5, 0) -> 0
A6: 5 | E6: =IF(C6="",0,C6*D6) -> 0 | F6: =AVERAGE(E2:E6) -> 0 | G6: =AVERAGE(E2:E6) -> 0 | H6: =IFERROR(F6/G6, 0) -> 0
A7: 6 | E7: =IF(C7="",0,C7*D7) -> 0 | F7: =AVERAGE(E2:E7) -> 0 | G7: =AVERAGE(E2:E7) -> 0 | H7: =IFERROR(F7/G7, 0) -> 0
A8: 7 | E8: =IF(C8="",0,C8*D8) -> 0 | F8: =AVERAGE(E2:E8) -> 0 | G8: =AVERAGE(E2:E8) -> 0 | H8: =IFERROR(F8/G8, 0) -> 0
A9: 8 | E9: =IF(C9="",0,C9*D9) -> 0 | F9: =AVERAGE(E3:E9) -> 0 | G9: =AVERAGE(E2:E9) -> 0 | H9: =IFERROR(F9/G9, 0) -> 0
A10: 9 | E10: =IF(C10="",0,C10*D10) -> 0 | F10: =AVERAGE(E4:E10) -> 0 | G10: =AVERAGE(E2:E10) -> 0 | H10: =IFERROR(F10/G10, 0) -> 0
A11: 10 | E11: =IF(C11="",0,C11*D11) -> 0 | F11: =AVERAGE(E5:E11) -> 0 | G11: =AVERAGE(E2:E11) -> 0 | H11: =IFERROR(F11/G11, 0) -> 0
A12: 11 | E12: =IF(C12="",0,C12*D12) -> 0 | F12: =AVERAGE(E6:E12) -> 0 | G12: =AVERAGE(E2:E12) -> 0 | H12: =IFERROR(F12/G12, 0) -> 0
A13: 12 | E13: =IF(C13="",0,C13*D13) -> 0 | F13: =AVERAGE(E7:E13) -> 0 | G13: =AVERAGE(E2:E13) -> 0 | H13: =IFERROR(F13/G13, 0) -> 0
A14: 13 | E14: =IF(C14="",0,C14*D14) -> 0 | F14: =AVERAGE(E8:E14) -> 0 | G14: =AVERAGE(E2:E14) -> 0 | H14: =IFERROR(F14/G14, 0) -> 0
A15: 14 | E15: =IF(C15="",0,C15*D15) -> 0 | F15: =AVERAGE(E9:E15) -> 0 | G15: =AVERAGE(E2:E15) -> 0 | H15: =IFERROR(F15/G15, 0) -> 0
A16: 15 | E16: =IF(C16="",0,C16*D16) -> 0 | F16: =AVERAGE(E10:E16) -> 0 | G16: =AVERAGE(E2:E16) -> 0 | H16: =IFERROR(F16/G16, 0) -> 0
A17: 16 | E17: =IF(C17="",0,C17*D17) -> 0 | F17: =AVERAGE(E11:E17) -> 0 | G17: =AVERAGE(E2:E17) -> 0 | H17: =IFERROR(F17/G17, 0) -> 0
A18: 17 | E18: =IF(C18="",0,C18*D18) -> 0 | F18: =AVERAGE(E12:E18) -> 0 | G18: =AVERAGE(E2:E18) -> 0 | H18: =IFERROR(F18/G18, 0) -> 0
A19: 18 | E19: =IF(C19="",0,C19*D19) -> 0 | F19: =AVERAGE(E13:E19) -> 0 | G19: =AVERAGE(E2:E19) -> 0 | H19: =IFERROR(F19/G19, 0) -> 0
A20: 19 | E20: =IF(C20="",0,C20*D20) -> 0 | F20: =AVERAGE(E14:E20) -> 0 | G20: =AVERAGE(E2:E20) -> 0 | H20: =IFERROR(F20/G20, 0) -> 0
A21: 20 | E21: =IF(C21="",0,C21*D21) -> 0 | F21: =AVERAGE(E15:E21) -> 0 | G21: =AVERAGE(E2:E21) -> 0 | H21: =IFERROR(F21/G21, 0) -> 0
A22: 21 | E22: =IF(C22="",0,C22*D22) -> 0 | F22: =AVERAGE(E16:E22) -> 0 | G22: =AVERAGE(E2:E22) -> 0 | H22: =IFERROR(F22/G22, 0) -> 0
A23: 22 | E23: =IF(C23="",0,C23*D23) -> 0 | F23: =AVERAGE(E17:E23) -> 0 | G23: =AVERAGE(E2:E23) -> 0 | H23: =IFERROR(F23/G23, 0) -> 0
A24: 23 | E24: =IF(C24="",0,C24*D24) -> 0 | F24: =AVERAGE(E18:E24) -> 0 | G24: =AVERAGE(E2:E24) -> 0 | H24: =IFERROR(F24/G24, 0) -> 0
A25: 24 | E25: =IF(C25="",0,C25*D25) -> 0 | F25: =AVERAGE(E19:E25) -> 0 | G25: =AVERAGE(E2:E25) -> 0 | H25: =IFERROR(F25/G25, 0) -> 0
A26: 25 | E26: =IF(C26="",0,C26*D26) -> 0 | F26: =AVERAGE(E20:E26) -> 0 | G26: =AVERAGE(E2:E26) -> 0 | H26: =IFERROR(F26/G26, 0) -> 0
A27: 26 | E27: =IF(C27="",0,C27*D27) -> 0 | F27: =AVERAGE(E21:E27) -> 0 | G27: =AVERAGE(E2:E27) -> 0 | H27: =IFERROR(F27/G27, 0) -> 0
A28: 27 | E28: =IF(C28="",0,C28*D28) -> 0 | F28: =AVERAGE(E22:E28) -> 0 | G28: =AVERAGE(E2:E28) -> 0 | H28: =IFERROR(F28/G28, 0) -> 0
A29: 28 | E29: =IF(C29="",0,C29*D29) -> 0 | F29: =AVERAGE(E23:E29) -> 0 | G29: =AVERAGE(E2:E29) -> 0 | H29: =IFERROR(F29/G29, 0) -> 0
A30: 29 | E30: =IF(C30="",0,C30*D30) -> 0 | F30: =AVERAGE(E24:E30) -> 0 | G30: =AVERAGE(E3:E30) -> 0 | H30: =IFERROR(F30/G30, 0) -> 0
A31: 30 | E31: =IF(C31="",0,C31*D31) -> 0 | F31: =AVERAGE(E25:E31) -> 0 | G31: =AVERAGE(E4:E31) -> 0 | H31: =IFERROR(F31/G31, 0) -> 0
A32: 31 | E32: =IF(C32="",0,C32*D32) -> 0 | F32: =AVERAGE(E26:E32) -> 0 | G32: =AVERAGE(E5:E32) -> 0 | H32: =IFERROR(F32/G32, 0) -> 0
A33: 32 | E33: =IF(C33="",0,C33*D33) -> 0 | F33: =AVERAGE(E27:E33) -> 0 | G33: =AVERAGE(E6:E33) -> 0 | H33: =IFERROR(F33/G33, 0) -> 0
A34: 33 | E34: =IF(C34="",0,C34*D34) -> 0 | F34: =AVERAGE(E28:E34) -> 0 | G34: =AVERAGE(E7:E34) -> 0 | H34: =IFERROR(F34/G34, 0) -> 0
A35: 34 | E35: =IF(C35="",0,C35*D35) -> 0 | F35: =AVERAGE(E29:E35) -> 0 | G35: =AVERAGE(E8:E35) -> 0 | H35: =IFERROR(F35/G35, 0) -> 0
A36: 35 | E36: =IF(C36="",0,C36*D36) -> 0 | F36: =AVERAGE(E30:E36) -> 0 | G36: =AVERAGE(E9:E36) -> 0 | H36: =IFERROR(F36/G36, 0) -> 0
A37: 36 | E37: =IF(C37="",0,C37*D37) -> 0 | F37: =AVERAGE(E31:E37) -> 0 | G37: =AVERAGE(E10:E37) -> 0 | H37: =IFERROR(F37/G37, 0) -> 0
A38: 37 | E38: =IF(C38="",0,C38*D38) -> 0 | F38: =AVERAGE(E32:E38) -> 0 | G38: =AVERAGE(E11:E38) -> 0 | H38: =IFERROR(F38/G38, 0) -> 0
A39: 38 | E39: =IF(C39="",0,C39*D39) -> 0 | F39: =AVERAGE(E33:E39) -> 0 | G39: =AVERAGE(E12:E39) -> 0 | H39: =IFERROR(F39/G39, 0) -> 0
A40: 39 | E40: =IF(C40="",0,C40*D40) -> 0 | F40: =AVERAGE(E34:E40) -> 0 | G40: =AVERAGE(E13:E40) -> 0 | H40: =IFERROR(F40/G40, 0) -> 0
... A301: 300 | E301: =IF(C301="",0,C301*D301) -> 0 | F301: =AVERAGE(E295:E301) -> 0 | G301: =AVERAGE(E274:E301) -> 0 | H301: =IFERROR(F301/G301, 0) -> 0
H302: =LOOKUP(2,1/(C2:C301<>""),H2:H301) -> #N/A

Sheet Giocatore 12
A1: Giorno Progressivo | B1: Data (Opzionale) | C1: RPE (1-10) | D1: Durata (min) | E1: Session RPE (UA) | F1: Carico Acuto (Media 7g) | G1: Carico Cronico (Media 28g) | H1: ACWR
A2: 1 | E2: =IF(C2="",0,C2*D2) -> 0 | F2: =AVERAGE(E2:E2) -> 0 | G2: =AVERAGE(E2:E2) -> 0 | H2: =IFERROR(F2/G2, 0) -> 0
A3: 2 | E3: =IF(C3="",0,C3*D3) -> 0 | F3: =AVERAGE(E2:E3) -> 0 | G3: =AVERAGE(E2:E3) -> 0 | H3: =IFERROR(F3/G3, 0) -> 0
A4: 3 | E4: =IF(C4="",0,C4*D4) -> 0 | F4: =AVERAGE(E2:E4) -> 0 | G4: =AVERAGE(E2:E4) -> 0 | H4: =IFERROR(F4/G4, 0) -> 0
A5: 4 | E5: =IF(C5="",0,C5*D5) -> 0 | F5: =AVERAGE(E2:E5) -> 0 | G5: =AVERAGE(E2:E5) -> 0 | H5: =IFERROR(F5/G5, 0) -> 0
A6: 5 | E6: =IF(C6="",0,C6*D6) -> 0 | F6: =AVERAGE(E2:E6) -> 0 | G6: =AVERAGE(E2:E6) -> 0 | H6: =IFERROR(F6/G6, 0) -> 0
A7: 6 | E7: =IF(C7="",0,C7*D7) -> 0 | F7: =AVERAGE(E2:E7) -> 0 | G7: =AVERAGE(E2:E7) -> 0 | H7: =IFERROR(F7/G7, 0) -> 0
A8: 7 | E8: =IF(C8="",0,C8*D8) -> 0 | F8: =AVERAGE(E2:E8) -> 0 | G8: =AVERAGE(E2:E8) -> 0 | H8: =IFERROR(F8/G8, 0) -> 0
A9: 8 | E9: =IF(C9="",0,C9*D9) -> 0 | F9: =AVERAGE(E3:E9) -> 0 | G9: =AVERAGE(E2:E9) -> 0 | H9: =IFERROR(F9/G9, 0) -> 0
A10: 9 | E10: =IF(C10="",0,C10*D10) -> 0 | F10: =AVERAGE(E4:E10) -> 0 | G10: =AVERAGE(E2:E10) -> 0 | H10: =IFERROR(F10/G10, 0) -> 0
A11: 10 | E11: =IF(C11="",0,C11*D11) -> 0 | F11: =AVERAGE(E5:E11) -> 0 | G11: =AVERAGE(E2:E11) -> 0 | H11: =IFERROR(F11/G11, 0) -> 0
A12: 11 | E12: =IF(C12="",0,C12*D12) -> 0 | F12: =AVERAGE(E6:E12) -> 0 | G12: =AVERAGE(E2:E12) -> 0 | H12: =IFERROR(F12/G12, 0) -> 0
A13: 12 | E13: =IF(C13="",0,C13*D13) -> 0 | F13: =AVERAGE(E7:E13) -> 0 | G13: =AVERAGE(E2:E13) -> 0 | H13: =IFERROR(F13/G13, 0) -> 0
A14: 13 | E14: =IF(C14="",0,C14*D14) -> 0 | F14: =AVERAGE(E8:E14) -> 0 | G14: =AVERAGE(E2:E14) -> 0 | H14: =IFERROR(F14/G14, 0) -> 0
A15: 14 | E15: =IF(C15="",0,C15*D15) -> 0 | F15: =AVERAGE(E9:E15) -> 0 | G15: =AVERAGE(E2:E15) -> 0 | H15: =IFERROR(F15/G15, 0) -> 0
A16: 15 | E16: =IF(C16="",0,C16*D16) -> 0 | F16: =AVERAGE(E10:E16) -> 0 | G16: =AVERAGE(E2:E16) -> 0 | H16: =IFERROR(F16/G16, 0) -> 0
A17: 16 | E17: =IF(C17="",0,C17*D17) -> 0 | F17: =AVERAGE(E11:E17) -> 0 | G17: =AVERAGE(E2:E17) -> 0 | H17: =IFERROR(F17/G17, 0) -> 0
A18: 17 | E18: =IF(C18="",0,C18*D18) -> 0 | F18: =AVERAGE(E12:E18) -> 0 | G18: =AVERAGE(E2:E18) -> 0 | H18: =IFERROR(F18/G18, 0) -> 0
A19: 18 | E19: =IF(C19="",0,C19*D19) -> 0 | F19: =AVERAGE(E13:E19) -> 0 | G19: =AVERAGE(E2:E19) -> 0 | H19: =IFERROR(F19/G19, 0) -> 0
A20: 19 | E20: =IF(C20="",0,C20*D20) -> 0 | F20: =AVERAGE(E14:E20) -> 0 | G20: =AVERAGE(E2:E20) -> 0 | H20: =IFERROR(F20/G20, 0) -> 0
A21: 20 | E21: =IF(C21="",0,C21*D21) -> 0 | F21: =AVERAGE(E15:E21) -> 0 | G21: =AVERAGE(E2:E21) -> 0 | H21: =IFERROR(F21/G21, 0) -> 0
A22: 21 | E22: =IF(C22="",0,C22*D22) -> 0 | F22: =AVERAGE(E16:E22) -> 0 | G22: =AVERAGE(E2:E22) -> 0 | H22: =IFERROR(F22/G22, 0) -> 0
A23: 22 | E23: =IF(C23="",0,C23*D23) -> 0 | F23: =AVERAGE(E17:E23) -> 0 | G23: =AVERAGE(E2:E23) -> 0 | H23: =IFERROR(F23/G23, 0) -> 0
A24: 23 | E24: =IF(C24="",0,C24*D24) -> 0 | F24: =AVERAGE(E18:E24) -> 0 | G24: =AVERAGE(E2:E24) -> 0 | H24: =IFERROR(F24/G24, 0) -> 0
A25: 24 | E25: =IF(C25="",0,C25*D25) -> 0 | F25: =AVERAGE(E19:E25) -> 0 | G25: =AVERAGE(E2:E25) -> 0 | H25: =IFERROR(F25/G25, 0) -> 0
A26: 25 | E26: =IF(C26="",0,C26*D26) -> 0 | F26: =AVERAGE(E20:E26) -> 0 | G26: =AVERAGE(E2:E26) -> 0 | H26: =IFERROR(F26/G26, 0) -> 0
A27: 26 | E27: =IF(C27="",0,C27*D27) -> 0 | F27: =AVERAGE(E21:E27) -> 0 | G27: =AVERAGE(E2:E27) -> 0 | H27: =IFERROR(F27/G27, 0) -> 0
A28: 27 | E28: =IF(C28="",0,C28*D28) -> 0 | F28: =AVERAGE(E22:E28) -> 0 | G28: =AVERAGE(E2:E28) -> 0 | H28: =IFERROR(F28/G28, 0) -> 0
A29: 28 | E29: =IF(C29="",0,C29*D29) -> 0 | F29: =AVERAGE(E23:E29) -> 0 | G29: =AVERAGE(E2:E29) -> 0 | H29: =IFERROR(F29/G29, 0) -> 0
A30: 29 | E30: =IF(C30="",0,C30*D30) -> 0 | F30: =AVERAGE(E24:E30) -> 0 | G30: =AVERAGE(E3:E30) -> 0 | H30: =IFERROR(F30/G30, 0) -> 0
A31: 30 | E31: =IF(C31="",0,C31*D31) -> 0 | F31: =AVERAGE(E25:E31) -> 0 | G31: =AVERAGE(E4:E31) -> 0 | H31: =IFERROR(F31/G31, 0) -> 0
A32: 31 | E32: =IF(C32="",0,C32*D32) -> 0 | F32: =AVERAGE(E26:E32) -> 0 | G32: =AVERAGE(E5:E32) -> 0 | H32: =IFERROR(F32/G32, 0) -> 0
A33: 32 | E33: =IF(C33="",0,C33*D33) -> 0 | F33: =AVERAGE(E27:E33) -> 0 | G33: =AVERAGE(E6:E33) -> 0 | H33: =IFERROR(F33/G33, 0) -> 0
A34: 33 | E34: =IF(C34="",0,C34*D34) -> 0 | F34: =AVERAGE(E28:E34) -> 0 | G34: =AVERAGE(E7:E34) -> 0 | H34: =IFERROR(F34/G34, 0) -> 0
A35: 34 | E35: =IF(C35="",0,C35*D35) -> 0 | F35: =AVERAGE(E29:E35) -> 0 | G35: =AVERAGE(E8:E35) -> 0 | H35: =IFERROR(F35/G35, 0) -> 0
A36: 35 | E36: =IF(C36="",0,C36*D36) -> 0 | F36: =AVERAGE(E30:E36) -> 0 | G36: =AVERAGE(E9:E36) -> 0 | H36: =IFERROR(F36/G36, 0) -> 0
A37: 36 | E37: =IF(C37="",0,C37*D37) -> 0 | F37: =AVERAGE(E31:E37) -> 0 | G37: =AVERAGE(E10:E37) -> 0 | H37: =IFERROR(F37/G37, 0) -> 0
A38: 37 | E38: =IF(C38="",0,C38*D38) -> 0 | F38: =AVERAGE(E32:E38) -> 0 | G38: =AVERAGE(E11:E38) -> 0 | H38: =IFERROR(F38/G38, 0) -> 0
A39: 38 | E39: =IF(C39="",0,C39*D39) -> 0 | F39: =AVERAGE(E33:E39) -> 0 | G39: =AVERAGE(E12:E39) -> 0 | H39: =IFERROR(F39/G39, 0) -> 0
A40: 39 | E40: =IF(C40="",0,C40*D40) -> 0 | F40: =AVERAGE(E34:E40) -> 0 | G40: =AVERAGE(E13:E40) -> 0 | H40: =IFERROR(F40/G40, 0) -> 0
... A301: 300 | E301: =IF(C301="",0,C301*D301) -> 0 | F301: =AVERAGE(E295:E301) -> 0 | G301: =AVERAGE(E274:E301) -> 0 | H301: =IFERROR(F301/G301, 0) -> 0
H302: =LOOKUP(2,1/(C2:C301<>""),H2:H301) -> #N/A

Sheet Giocatore 13
A1: Giorno Progressivo | B1: Data (Opzionale) | C1: RPE (1-10) | D1: Durata (min) | E1: Session RPE (UA) | F1: Carico Acuto (Media 7g) | G1: Carico Cronico (Media 28g) | H1: ACWR
A2: 1 | E2: =IF(C2="",0,C2*D2) -> 0 | F2: =AVERAGE(E2:E2) -> 0 | G2: =AVERAGE(E2:E2) -> 0 | H2: =IFERROR(F2/G2, 0) -> 0
A3: 2 | E3: =IF(C3="",0,C3*D3) -> 0 | F3: =AVERAGE(E2:E3) -> 0 | G3: =AVERAGE(E2:E3) -> 0 | H3: =IFERROR(F3/G3, 0) -> 0
A4: 3 | E4: =IF(C4="",0,C4*D4) -> 0 | F4: =AVERAGE(E2:E4) -> 0 | G4: =AVERAGE(E2:E4) -> 0 | H4: =IFERROR(F4/G4, 0) -> 0
A5: 4 | E5: =IF(C5="",0,C5*D5) -> 0 | F5: =AVERAGE(E2:E5) -> 0 | G5: =AVERAGE(E2:E5) -> 0 | H5: =IFERROR(F5/G5, 0) -> 0
A6: 5 | E6: =IF(C6="",0,C6*D6) -> 0 | F6: =AVERAGE(E2:E6) -> 0 | G6: =AVERAGE(E2:E6) -> 0 | H6: =IFERROR(F6/G6, 0) -> 0
A7: 6 | E7: =IF(C7="",0,C7*D7) -> 0 | F7: =AVERAGE(E2:E7) -> 0 | G7: =AVERAGE(E2:E7) -> 0 | H7: =IFERROR(F7/G7, 0) -> 0
A8: 7 | E8: =IF(C8="",0,C8*D8) -> 0 | F8: =AVERAGE(E2:E8) -> 0 | G8: =AVERAGE(E2:E8) -> 0 | H8: =IFERROR(F8/G8, 0) -> 0
A9: 8 | E9: =IF(C9="",0,C9*D9) -> 0 | F9: =AVERAGE(E3:E9) -> 0 | G9: =AVERAGE(E2:E9) -> 0 | H9: =IFERROR(F9/G9, 0) -> 0
A10: 9 | E10: =IF(C10="",0,C10*D10) -> 0 | F10: =AVERAGE(E4:E10) -> 0 | G10: =AVERAGE(E2:E10) -> 0 | H10: =IFERROR(F10/G10, 0) -> 0
A11: 10 | E11: =IF(C11="",0,C11*D11) -> 0 | F11: =AVERAGE(E5:E11) -> 0 | G11: =AVERAGE(E2:E11) -> 0 | H11: =IFERROR(F11/G11, 0) -> 0
A12: 11 | E12: =IF(C12="",0,C12*D12) -> 0 | F12: =AVERAGE(E6:E12) -> 0 | G12: =AVERAGE(E2:E12) -> 0 | H12: =IFERROR(F12/G12, 0) -> 0
A13: 12 | E13: =IF(C13="",0,C13*D13) -> 0 | F13: =AVERAGE(E7:E13) -> 0 | G13: =AVERAGE(E2:E13) -> 0 | H13: =IFERROR(F13/G13, 0) -> 0
A14: 13 | E14: =IF(C14="",0,C14*D14) -> 0 | F14: =AVERAGE(E8:E14) -> 0 | G14: =AVERAGE(E2:E14) -> 0 | H14: =IFERROR(F14/G14, 0) -> 0
A15: 14 | E15: =IF(C15="",0,C15*D15) -> 0 | F15: =AVERAGE(E9:E15) -> 0 | G15: =AVERAGE(E2:E15) -> 0 | H15: =IFERROR(F15/G15, 0) -> 0
A16: 15 | E16: =IF(C16="",0,C16*D16) -> 0 | F16: =AVERAGE(E10:E16) -> 0 | G16: =AVERAGE(E2:E16) -> 0 | H16: =IFERROR(F16/G16, 0) -> 0
A17: 16 | E17: =IF(C17="",0,C17*D17) -> 0 | F17: =AVERAGE(E11:E17) -> 0 | G17: =AVERAGE(E2:E17) -> 0 | H17: =IFERROR(F17/G17, 0) -> 0
A18: 17 | E18: =IF(C18="",0,C18*D18) -> 0 | F18: =AVERAGE(E12:E18) -> 0 | G18: =AVERAGE(E2:E18) -> 0 | H18: =IFERROR(F18/G18, 0) -> 0
A19: 18 | E19: =IF(C19="",0,C19*D19) -> 0 | F19: =AVERAGE(E13:E19) -> 0 | G19: =AVERAGE(E2:E19) -> 0 | H19: =IFERROR(F19/G19, 0) -> 0
A20: 19 | E20: =IF(C20="",0,C20*D20) -> 0 | F20: =AVERAGE(E14:E20) -> 0 | G20: =AVERAGE(E2:E20) -> 0 | H20: =IFERROR(F20/G20, 0) -> 0
A21: 20 | E21: =IF(C21="",0,C21*D21) -> 0 | F21: =AVERAGE(E15:E21) -> 0 | G21: =AVERAGE(E2:E21) -> 0 | H21: =IFERROR(F21/G21, 0) -> 0
A22: 21 | E22: =IF(C22="",0,C22*D22) -> 0 | F22: =AVERAGE(E16:E22) -> 0 | G22: =AVERAGE(E2:E22) -> 0 | H22: =IFERROR(F22/G22, 0) -> 0
A23: 22 | E23: =IF(C23="",0,C23*D23) -> 0 | F23: =AVERAGE(E17:E23) -> 0 | G23: =AVERAGE(E2:E23) -> 0 | H23: =IFERROR(F23/G23, 0) -> 0
A24: 23 | E24: =IF(C24="",0,C24*D24) -> 0 | F24: =AVERAGE(E18:E24) -> 0 | G24: =AVERAGE(E2:E24) -> 0 | H24: =IFERROR(F24/G24, 0) -> 0
A25: 24 | E25: =IF(C25="",0,C25*D25) -> 0 | F25: =AVERAGE(E19:E25) -> 0 | G25: =AVERAGE(E2:E25) -> 0 | H25: =IFERROR(F25/G25, 0) -> 0
A26: 25 | E26: =IF(C26="",0,C26*D26) -> 0 | F26: =AVERAGE(E20:E26) -> 0 | G26: =AVERAGE(E2:E26) -> 0 | H26: =IFERROR(F26/G26, 0) -> 0
A27: 26 | E27: =IF(C27="",0,C27*D27) -> 0 | F27: =AVERAGE(E21:E27) -> 0 | G27: =AVERAGE(E2:E27) -> 0 | H27: =IFERROR(F27/G27, 0) -> 0
A28: 27 | E28: =IF(C28="",0,C28*D28) -> 0 | F28: =AVERAGE(E22:E28) -> 0 | G28: =AVERAGE(E2:E28) -> 0 | H28: =IFERROR(F28/G28, 0) -> 0
A29: 28 | E29: =IF(C29="",0,C29*D29) -> 0 | F29: =AVERAGE(E23:E29) -> 0 | G29: =AVERAGE(E2:E29) -> 0 | H29: =IFERROR(F29/G29, 0) -> 0
A30: 29 | E30: =IF(C30="",0,C30*D30) -> 0 | F30: =AVERAGE(E24:E30) -> 0 | G30: =AVERAGE(E3:E30) -> 0 | H30: =IFERROR(F30/G30, 0) -> 0
A31: 30 | E31: =IF(C31="",0,C31*D31) -> 0 | F31: =AVERAGE(E25:E31) -> 0 | G31: =AVERAGE(E4:E31) -> 0 | H31: =IFERROR(F31/G31, 0) -> 0
A32: 31 | E32: =IF(C32="",0,C32*D32) -> 0 | F32: =AVERAGE(E26:E32) -> 0 | G32: =AVERAGE(E5:E32) -> 0 | H32: =IFERROR(F32/G32, 0) -> 0
A33: 32 | E33: =IF(C33="",0,C33*D33) -> 0 | F33: =AVERAGE(E27:E33) -> 0 | G33: =AVERAGE(E6:E33) -> 0 | H33: =IFERROR(F33/G33, 0) -> 0
A34: 33 | E34: =IF(C34="",0,C34*D34) -> 0 | F34: =AVERAGE(E28:E34) -> 0 | G34: =AVERAGE(E7:E34) -> 0 | H34: =IFERROR(F34/G34, 0) -> 0
A35: 34 | E35: =IF(C35="",0,C35*D35) -> 0 | F35: =AVERAGE(E29:E35) -> 0 | G35: =AVERAGE(E8:E35) -> 0 | H35: =IFERROR(F35/G35, 0) -> 0
A36: 35 | E36: =IF(C36="",0,C36*D36) -> 0 | F36: =AVERAGE(E30:E36) -> 0 | G36: =AVERAGE(E9:E36) -> 0 | H36: =IFERROR(F36/G36, 0) -> 0
A37: 36 | E37: =IF(C37="",0,C37*D37) -> 0 | F37: =AVERAGE(E31:E37) -> 0 | G37: =AVERAGE(E10:E37) -> 0 | H37: =IFERROR(F37/G37, 0) -> 0
A38: 37 | E38: =IF(C38="",0,C38*D38) -> 0 | F38: =AVERAGE(E32:E38) -> 0 | G38: =AVERAGE(E11:E38) -> 0 | H38: =IFERROR(F38/G38, 0) -> 0
A39: 38 | E39: =IF(C39="",0,C39*D39) -> 0 | F39: =AVERAGE(E33:E39) -> 0 | G39: =AVERAGE(E12:E39) -> 0 | H39: =IFERROR(F39/G39, 0) -> 0
A40: 39 | E40: =IF(C40="",0,C40*D40) -> 0 | F40: =AVERAGE(E34:E40) -> 0 | G40: =AVERAGE(E13:E40) -> 0 | H40: =IFERROR(F40/G40, 0) -> 0
... A301: 300 | E301: =IF(C301="",0,C301*D301) -> 0 | F301: =AVERAGE(E295:E301) -> 0 | G301: =AVERAGE(E274:E301) -> 0 | H301: =IFERROR(F301/G301, 0) -> 0
H302: =LOOKUP(2,1/(C2:C301<>""),H2:H301) -> #N/A

Sheet Giocatore 14
A1: Giorno Progressivo | B1: Data (Opzionale) | C1: RPE (1-10) | D1: Durata (min) | E1: Session RPE (UA) | F1: Carico Acuto (Media 7g) | G1: Carico Cronico (Media 28g) | H1: ACWR
A2: 1 | E2: =IF(C2="",0,C2*D2) -> 0 | F2: =AVERAGE(E2:E2) -> 0 | G2: =AVERAGE(E2:E2) -> 0 | H2: =IFERROR(F2/G2, 0) -> 0
A3: 2 | E3: =IF(C3="",0,C3*D3) -> 0 | F3: =AVERAGE(E2:E3) -> 0 | G3: =AVERAGE(E2:E3) -> 0 | H3: =IFERROR(F3/G3, 0) -> 0
A4: 3 | E4: =IF(C4="",0,C4*D4) -> 0 | F4: =AVERAGE(E2:E4) -> 0 | G4: =AVERAGE(E2:E4) -> 0 | H4: =IFERROR(F4/G4, 0) -> 0
A5: 4 | E5: =IF(C5="",0,C5*D5) -> 0 | F5: =AVERAGE(E2:E5) -> 0 | G5: =AVERAGE(E2:E5) -> 0 | H5: =IFERROR(F5/G5, 0) -> 0
A6: 5 | E6: =IF(C6="",0,C6*D6) -> 0 | F6: =AVERAGE(E2:E6) -> 0 | G6: =AVERAGE(E2:E6) -> 0 | H6: =IFERROR(F6/G6, 0) -> 0
A7: 6 | E7: =IF(C7="",0,C7*D7) -> 0 | F7: =AVERAGE(E2:E7) -> 0 | G7: =AVERAGE(E2:E7) -> 0 | H7: =IFERROR(F7/G7, 0) -> 0
A8: 7 | E8: =IF(C8="",0,C8*D8) -> 0 | F8: =AVERAGE(E2:E8) -> 0 | G8: =AVERAGE(E2:E8) -> 0 | H8: =IFERROR(F8/G8, 0) -> 0
A9: 8 | E9: =IF(C9="",0,C9*D9) -> 0 | F9: =AVERAGE(E3:E9) -> 0 | G9: =AVERAGE(E2:E9) -> 0 | H9: =IFERROR(F9/G9, 0) -> 0
A10: 9 | E10: =IF(C10="",0,C10*D10) -> 0 | F10: =AVERAGE(E4:E10) -> 0 | G10: =AVERAGE(E2:E10) -> 0 | H10: =IFERROR(F10/G10, 0) -> 0
A11: 10 | E11: =IF(C11="",0,C11*D11) -> 0 | F11: =AVERAGE(E5:E11) -> 0 | G11: =AVERAGE(E2:E11) -> 0 | H11: =IFERROR(F11/G11, 0) -> 0
A12: 11 | E12: =IF(C12="",0,C12*D12) -> 0 | F12: =AVERAGE(E6:E12) -> 0 | G12: =AVERAGE(E2:E12) -> 0 | H12: =IFERROR(F12/G12, 0) -> 0
A13: 12 | E13: =IF(C13="",0,C13*D13) -> 0 | F13: =AVERAGE(E7:E13) -> 0 | G13: =AVERAGE(E2:E13) -> 0 | H13: =IFERROR(F13/G13, 0) -> 0
A14: 13 | E14: =IF(C14="",0,C14*D14) -> 0 | F14: =AVERAGE(E8:E14) -> 0 | G14: =AVERAGE(E2:E14) -> 0 | H14: =IFERROR(F14/G14, 0) -> 0
A15: 14 | E15: =IF(C15="",0,C15*D15) -> 0 | F15: =AVERAGE(E9:E15) -> 0 | G15: =AVERAGE(E2:E15) -> 0 | H15: =IFERROR(F15/G15, 0) -> 0
A16: 15 | E16: =IF(C16="",0,C16*D16) -> 0 | F16: =AVERAGE(E10:E16) -> 0 | G16: =AVERAGE(E2:E16) -> 0 | H16: =IFERROR(F16/G16, 0) -> 0
A17: 16 | E17: =IF(C17="",0,C17*D17) -> 0 | F17: =AVERAGE(E11:E17) -> 0 | G17: =AVERAGE(E2:E17) -> 0 | H17: =IFERROR(F17/G17, 0) -> 0
A18: 17 | E18: =IF(C18="",0,C18*D18) -> 0 | F18: =AVERAGE(E12:E18) -> 0 | G18: =AVERAGE(E2:E18) -> 0 | H18: =IFERROR(F18/G18, 0) -> 0
A19: 18 | E19: =IF(C19="",0,C19*D19) -> 0 | F19: =AVERAGE(E13:E19) -> 0 | G19: =AVERAGE(E2:E19) -> 0 | H19: =IFERROR(F19/G19, 0) -> 0
A20: 19 | E20: =IF(C20="",0,C20*D20) -> 0 | F20: =AVERAGE(E14:E20) -> 0 | G20: =AVERAGE(E2:E20) -> 0 | H20: =IFERROR(F20/G20, 0) -> 0
A21: 20 | E21: =IF(C21="",0,C21*D21) -> 0 | F21: =AVERAGE(E15:E21) -> 0 | G21: =AVERAGE(E2:E21) -> 0 | H21: =IFERROR(F21/G21, 0) -> 0
A22: 21 | E22: =IF(C22="",0,C22*D22) -> 0 | F22: =AVERAGE(E16:E22) -> 0 | G22: =AVERAGE(E2:E22) -> 0 | H22: =IFERROR(F22/G22, 0) -> 0
A23: 22 | E23: =IF(C23="",0,C23*D23) -> 0 | F23: =AVERAGE(E17:E23) -> 0 | G23: =AVERAGE(E2:E23) -> 0 | H23: =IFERROR(F23/G23, 0) -> 0
A24: 23 | E24: =IF(C24="",0,C24*D24) -> 0 | F24: =AVERAGE(E18:E24) -> 0 | G24: =AVERAGE(E2:E24) -> 0 | H24: =IFERROR(F24/G24, 0) -> 0
A25: 24 | E25: =IF(C25="",0,C25*D25) -> 0 | F25: =AVERAGE(E19:E25) -> 0 | G25: =AVERAGE(E2:E25) -> 0 | H25: =IFERROR(F25/G25, 0) -> 0
A26: 25 | E26: =IF(C26="",0,C26*D26) -> 0 | F26: =AVERAGE(E20:E26) -> 0 | G26: =AVERAGE(E2:E26) -> 0 | H26: =IFERROR(F26/G26, 0) -> 0
A27: 26 | E27: =IF(C27="",0,C27*D27) -> 0 | F27: =AVERAGE(E21:E27) -> 0 | G27: =AVERAGE(E2:E27) -> 0 | H27: =IFERROR(F27/G27, 0) -> 0
A28: 27 | E28: =IF(C28="",0,C28*D28) -> 0 | F28: =AVERAGE(E22:E28) -> 0 | G28: =AVERAGE(E2:E28) -> 0 | H28: =IFERROR(F28/G28, 0) -> 0
A29: 28 | E29: =IF(C29="",0,C29*D29) -> 0 | F29: =AVERAGE(E23:E29) -> 0 | G29: =AVERAGE(E2:E29) -> 0 | H29: =IFERROR(F29/G29, 0) -> 0
A30: 29 | E30: =IF(C30="",0,C30*D30) -> 0 | F30: =AVERAGE(E24:E30) -> 0 | G30: =AVERAGE(E3:E30) -> 0 | H30: =IFERROR(F30/G30, 0) -> 0
A31: 30 | E31: =IF(C31="",0,C31*D31) -> 0 | F31: =AVERAGE(E25:E31) -> 0 | G31: =AVERAGE(E4:E31) -> 0 | H31: =IFERROR(F31/G31, 0) -> 0
A32: 31 | E32: =IF(C32="",0,C32*D32) -> 0 | F32: =AVERAGE(E26:E32) -> 0 | G32: =AVERAGE(E5:E32) -> 0 | H32: =IFERROR(F32/G32, 0) -> 0
A33: 32 | E33: =IF(C33="",0,C33*D33) -> 0 | F33: =AVERAGE(E27:E33) -> 0 | G33: =AVERAGE(E6:E33) -> 0 | H33: =IFERROR(F33/G33, 0) -> 0
A34: 33 | E34: =IF(C34="",0,C34*D34) -> 0 | F34: =AVERAGE(E28:E34) -> 0 | G34: =AVERAGE(E7:E34) -> 0 | H34: =IFERROR(F34/G34, 0) -> 0
A35: 34 | E35: =IF(C35="",0,C35*D35) -> 0 | F35: =AVERAGE(E29:E35) -> 0 | G35: =AVERAGE(E8:E35) -> 0 | H35: =IFERROR(F35/G35, 0) -> 0
A36: 35 | E36: =IF(C36="",0,C36*D36) -> 0 | F36: =AVERAGE(E30:E36) -> 0 | G36: =AVERAGE(E9:E36) -> 0 | H36: =IFERROR(F36/G36, 0) -> 0
A37: 36 | E37: =IF(C37="",0,C37*D37) -> 0 | F37: =AVERAGE(E31:E37) -> 0 | G37: =AVERAGE(E10:E37) -> 0 | H37: =IFERROR(F37/G37, 0) -> 0
A38: 37 | E38: =IF(C38="",0,C38*D38) -> 0 | F38: =AVERAGE(E32:E38) -> 0 | G38: =AVERAGE(E11:E38) -> 0 | H38: =IFERROR(F38/G38, 0) -> 0
A39: 38 | E39: =IF(C39="",0,C39*D39) -> 0 | F39: =AVERAGE(E33:E39) -> 0 | G39: =AVERAGE(E12:E39) -> 0 | H39: =IFERROR(F39/G39, 0) -> 0
A40: 39 | E40: =IF(C40="",0,C40*D40) -> 0 | F40: =AVERAGE(E34:E40) -> 0 | G40: =AVERAGE(E13:E40) -> 0 | H40: =IFERROR(F40/G40, 0) -> 0
... A301: 300 | E301: =IF(C301="",0,C301*D301) -> 0 | F301: =AVERAGE(E295:E301) -> 0 | G301: =AVERAGE(E274:E301) -> 0 | H301: =IFERROR(F301/G301, 0) -> 0
H302: =LOOKUP(2,1/(C2:C301<>""),H2:H301) -> #N/A

Sheet Giocatore 15
A1: Giorno Progressivo | B1: Data (Opzionale) | C1: RPE (1-10) | D1: Durata (min) | E1: Session RPE (UA) | F1: Carico Acuto (Media 7g) | G1: Carico Cronico (Media 28g) | H1: ACWR
A2: 1 | E2: =IF(C2="",0,C2*D2) -> 0 | F2: =AVERAGE(E2:E2) -> 0 | G2: =AVERAGE(E2:E2) -> 0 | H2: =IFERROR(F2/G2, 0) -> 0
A3: 2 | E3: =IF(C3="",0,C3*D3) -> 0 | F3: =AVERAGE(E2:E3) -> 0 | G3: =AVERAGE(E2:E3) -> 0 | H3: =IFERROR(F3/G3, 0) -> 0
A4: 3 | E4: =IF(C4="",0,C4*D4) -> 0 | F4: =AVERAGE(E2:E4) -> 0 | G4: =AVERAGE(E2:E4) -> 0 | H4: =IFERROR(F4/G4, 0) -> 0
A5: 4 | E5: =IF(C5="",0,C5*D5) -> 0 | F5: =AVERAGE(E2:E5) -> 0 | G5: =AVERAGE(E2:E5) -> 0 | H5: =IFERROR(F5/G5, 0) -> 0
A6: 5 | E6: =IF(C6="",0,C6*D6) -> 0 | F6: =AVERAGE(E2:E6) -> 0 | G6: =AVERAGE(E2:E6) -> 0 | H6: =IFERROR(F6/G6, 0) -> 0
A7: 6 | E7: =IF(C7="",0,C7*D7) -> 0 | F7: =AVERAGE(E2:E7) -> 0 | G7: =AVERAGE(E2:E7) -> 0 | H7: =IFERROR(F7/G7, 0) -> 0
A8: 7 | E8: =IF(C8="",0,C8*D8) -> 0 | F8: =AVERAGE(E2:E8) -> 0 | G8: =AVERAGE(E2:E8) -> 0 | H8: =IFERROR(F8/G8, 0) -> 0
A9: 8 | E9: =IF(C9="",0,C9*D9) -> 0 | F9: =AVERAGE(E3:E9) -> 0 | G9: =AVERAGE(E2:E9) -> 0 | H9: =IFERROR(F9/G9, 0) -> 0
A10: 9 | E10: =IF(C10="",0,C10*D10) -> 0 | F10: =AVERAGE(E4:E10) -> 0 | G10: =AVERAGE(E2:E10) -> 0 | H10: =IFERROR(F10/G10, 0) -> 0
A11: 10 | E11: =IF(C11="",0,C11*D11) -> 0 | F11: =AVERAGE(E5:E11) -> 0 | G11: =AVERAGE(E2:E11) -> 0 | H11: =IFERROR(F11/G11, 0) -> 0
A12: 11 | E12: =IF(C12="",0,C12*D12) -> 0 | F12: =AVERAGE(E6:E12) -> 0 | G12: =AVERAGE(E2:E12) -> 0 | H12: =IFERROR(F12/G12, 0) -> 0
A13: 12 | E13: =IF(C13="",0,C13*D13) -> 0 | F13: =AVERAGE(E7:E13) -> 0 | G13: =AVERAGE(E2:E13) -> 0 | H13: =IFERROR(F13/G13, 0) -> 0
A14: 13 | E14: =IF(C14="",0,C14*D14) -> 0 | F14: =AVERAGE(E8:E14) -> 0 | G14: =AVERAGE(E2:E14) -> 0 | H14: =IFERROR(F14/G14, 0) -> 0
A15: 14 | E15: =IF(C15="",0,C15*D15) -> 0 | F15: =AVERAGE(E9:E15) -> 0 | G15: =AVERAGE(E2:E15) -> 0 | H15: =IFERROR(F15/G15, 0) -> 0
A16: 15 | E16: =IF(C16="",0,C16*D16) -> 0 | F16: =AVERAGE(E10:E16) -> 0 | G16: =AVERAGE(E2:E16) -> 0 | H16: =IFERROR(F16/G16, 0) -> 0
A17: 16 | E17: =IF(C17="",0,C17*D17) -> 0 | F17: =AVERAGE(E11:E17) -> 0 | G17: =AVERAGE(E2:E17) -> 0 | H17: =IFERROR(F17/G17, 0) -> 0
A18: 17 | E18: =IF(C18="",0,C18*D18) -> 0 | F18: =AVERAGE(E12:E18) -> 0 | G18: =AVERAGE(E2:E18) -> 0 | H18: =IFERROR(F18/G18, 0) -> 0
A19: 18 | E19: =IF(C19="",0,C19*D19) -> 0 | F19: =AVERAGE(E13:E19) -> 0 | G19: =AVERAGE(E2:E19) -> 0 | H19: =IFERROR(F19/G19, 0) -> 0
A20: 19 | E20: =IF(C20="",0,C20*D20) -> 0 | F20: =AVERAGE(E14:E20) -> 0 | G20: =AVERAGE(E2:E20) -> 0 | H20: =IFERROR(F20/G20, 0) -> 0
A21: 20 | E21: =IF(C21="",0,C21*D21) -> 0 | F21: =AVERAGE(E15:E21) -> 0 | G21: =AVERAGE(E2:E21) -> 0 | H21: =IFERROR(F21/G21, 0) -> 0
A22: 21 | E22: =IF(C22="",0,C22*D22) -> 0 | F22: =AVERAGE(E16:E22) -> 0 | G22: =AVERAGE(E2:E22) -> 0 | H22: =IFERROR(F22/G22, 0) -> 0
A23: 22 | E23: =IF(C23="",0,C23*D23) -> 0 | F23: =AVERAGE(E17:E23) -> 0 | G23: =AVERAGE(E2:E23) -> 0 | H23: =IFERROR(F23/G23, 0) -> 0
A24: 23 | E24: =IF(C24="",0,C24*D24) -> 0 | F24: =AVERAGE(E18:E24) -> 0 | G24: =AVERAGE(E2:E24) -> 0 | H24: =IFERROR(F24/G24, 0) -> 0
A25: 24 | E25: =IF(C25="",0,C25*D25) -> 0 | F25: =AVERAGE(E19:E25) -> 0 | G25: =AVERAGE(E2:E25) -> 0 | H25: =IFERROR(F25/G25, 0) -> 0
A26: 25 | E26: =IF(C26="",0,C26*D26) -> 0 | F26: =AVERAGE(E20:E26) -> 0 | G26: =AVERAGE(E2:E26) -> 0 | H26: =IFERROR(F26/G26, 0) -> 0
A27: 26 | E27: =IF(C27="",0,C27*D27) -> 0 | F27: =AVERAGE(E21:E27) -> 0 | G27: =AVERAGE(E2:E27) -> 0 | H27: =IFERROR(F27/G27, 0) -> 0
A28: 27 | E28: =IF(C28="",0,C28*D28) -> 0 | F28: =AVERAGE(E22:E28) -> 0 | G28: =AVERAGE(E2:E28) -> 0 | H28: =IFERROR(F28/G28, 0) -> 0
A29: 28 | E29: =IF(C29="",0,C29*D29) -> 0 | F29: =AVERAGE(E23:E29) -> 0 | G29: =AVERAGE(E2:E29) -> 0 | H29: =IFERROR(F29/G29, 0) -> 0
A30: 29 | E30: =IF(C30="",0,C30*D30) -> 0 | F30: =AVERAGE(E24:E30) -> 0 | G30: =AVERAGE(E3:E30) -> 0 | H30: =IFERROR(F30/G30, 0) -> 0
A31: 30 | E31: =IF(C31="",0,C31*D31) -> 0 | F31: =AVERAGE(E25:E31) -> 0 | G31: =AVERAGE(E4:E31) -> 0 | H31: =IFERROR(F31/G31, 0) -> 0
A32: 31 | E32: =IF(C32="",0,C32*D32) -> 0 | F32: =AVERAGE(E26:E32) -> 0 | G32: =AVERAGE(E5:E32) -> 0 | H32: =IFERROR(F32/G32, 0) -> 0
A33: 32 | E33: =IF(C33="",0,C33*D33) -> 0 | F33: =AVERAGE(E27:E33) -> 0 | G33: =AVERAGE(E6:E33) -> 0 | H33: =IFERROR(F33/G33, 0) -> 0
A34: 33 | E34: =IF(C34="",0,C34*D34) -> 0 | F34: =AVERAGE(E28:E34) -> 0 | G34: =AVERAGE(E7:E34) -> 0 | H34: =IFERROR(F34/G34, 0) -> 0
A35: 34 | E35: =IF(C35="",0,C35*D35) -> 0 | F35: =AVERAGE(E29:E35) -> 0 | G35: =AVERAGE(E8:E35) -> 0 | H35: =IFERROR(F35/G35, 0) -> 0
A36: 35 | E36: =IF(C36="",0,C36*D36) -> 0 | F36: =AVERAGE(E30:E36) -> 0 | G36: =AVERAGE(E9:E36) -> 0 | H36: =IFERROR(F36/G36, 0) -> 0
A37: 36 | E37: =IF(C37="",0,C37*D37) -> 0 | F37: =AVERAGE(E31:E37) -> 0 | G37: =AVERAGE(E10:E37) -> 0 | H37: =IFERROR(F37/G37, 0) -> 0
A38: 37 | E38: =IF(C38="",0,C38*D38) -> 0 | F38: =AVERAGE(E32:E38) -> 0 | G38: =AVERAGE(E11:E38) -> 0 | H38: =IFERROR(F38/G38, 0) -> 0
A39: 38 | E39: =IF(C39="",0,C39*D39) -> 0 | F39: =AVERAGE(E33:E39) -> 0 | G39: =AVERAGE(E12:E39) -> 0 | H39: =IFERROR(F39/G39, 0) -> 0
A40: 39 | E40: =IF(C40="",0,C40*D40) -> 0 | F40: =AVERAGE(E34:E40) -> 0 | G40: =AVERAGE(E13:E40) -> 0 | H40: =IFERROR(F40/G40, 0) -> 0
... A301: 300 | E301: =IF(C301="",0,C301*D301) -> 0 | F301: =AVERAGE(E295:E301) -> 0 | G301: =AVERAGE(E274:E301) -> 0 | H301: =IFERROR(F301/G301, 0) -> 0
H302: =LOOKUP(2,1/(C2:C301<>""),H2:H301) -> #N/A

Sheet Giocatore 16
A1: Giorno Progressivo | B1: Data (Opzionale) | C1: RPE (1-10) | D1: Durata (min) | E1: Session RPE (UA) | F1: Carico Acuto (Media 7g) | G1: Carico Cronico (Media 28g) | H1: ACWR
A2: 1 | E2: =IF(C2="",0,C2*D2) -> 0 | F2: =AVERAGE(E2:E2) -> 0 | G2: =AVERAGE(E2:E2) -> 0 | H2: =IFERROR(F2/G2, 0) -> 0
A3: 2 | E3: =IF(C3="",0,C3*D3) -> 0 | F3: =AVERAGE(E2:E3) -> 0 | G3: =AVERAGE(E2:E3) -> 0 | H3: =IFERROR(F3/G3, 0) -> 0
A4: 3 | E4: =IF(C4="",0,C4*D4) -> 0 | F4: =AVERAGE(E2:E4) -> 0 | G4: =AVERAGE(E2:E4) -> 0 | H4: =IFERROR(F4/G4, 0) -> 0
A5: 4 | E5: =IF(C5="",0,C5*D5) -> 0 | F5: =AVERAGE(E2:E5) -> 0 | G5: =AVERAGE(E2:E5) -> 0 | H5: =IFERROR(F5/G5, 0) -> 0
A6: 5 | E6: =IF(C6="",0,C6*D6) -> 0 | F6: =AVERAGE(E2:E6) -> 0 | G6: =AVERAGE(E2:E6) -> 0 | H6: =IFERROR(F6/G6, 0) -> 0
A7: 6 | E7: =IF(C7="",0,C7*D7) -> 0 | F7: =AVERAGE(E2:E7) -> 0 | G7: =AVERAGE(E2:E7) -> 0 | H7: =IFERROR(F7/G7, 0) -> 0
A8: 7 | E8: =IF(C8="",0,C8*D8) -> 0 | F8: =AVERAGE(E2:E8) -> 0 | G8: =AVERAGE(E2:E8) -> 0 | H8: =IFERROR(F8/G8, 0) -> 0
A9: 8 | E9: =IF(C9="",0,C9*D9) -> 0 | F9: =AVERAGE(E3:E9) -> 0 | G9: =AVERAGE(E2:E9) -> 0 | H9: =IFERROR(F9/G9, 0) -> 0
A10: 9 | E10: =IF(C10="",0,C10*D10) -> 0 | F10: =AVERAGE(E4:E10) -> 0 | G10: =AVERAGE(E2:E10) -> 0 | H10: =IFERROR(F10/G10, 0) -> 0
A11: 10 | E11: =IF(C11="",0,C11*D11) -> 0 | F11: =AVERAGE(E5:E11) -> 0 | G11: =AVERAGE(E2:E11) -> 0 | H11: =IFERROR(F11/G11, 0) -> 0
A12: 11 | E12: =IF(C12="",0,C12*D12) -> 0 | F12: =AVERAGE(E6:E12) -> 0 | G12: =AVERAGE(E2:E12) -> 0 | H12: =IFERROR(F12/G12, 0) -> 0
A13: 12 | E13: =IF(C13="",0,C13*D13) -> 0 | F13: =AVERAGE(E7:E13) -> 0 | G13: =AVERAGE(E2:E13) -> 0 | H13: =IFERROR(F13/G13, 0) -> 0
A14: 13 | E14: =IF(C14="",0,C14*D14) -> 0 | F14: =AVERAGE(E8:E14) -> 0 | G14: =AVERAGE(E2:E14) -> 0 | H14: =IFERROR(F14/G14, 0) -> 0
A15: 14 | E15: =IF(C15="",0,C15*D15) -> 0 | F15: =AVERAGE(E9:E15) -> 0 | G15: =AVERAGE(E2:E15) -> 0 | H15: =IFERROR(F15/G15, 0) -> 0
A16: 15 | E16: =IF(C16="",0,C16*D16) -> 0 | F16: =AVERAGE(E10:E16) -> 0 | G16: =AVERAGE(E2:E16) -> 0 | H16: =IFERROR(F16/G16, 0) -> 0
A17: 16 | E17: =IF(C17="",0,C17*D17) -> 0 | F17: =AVERAGE(E11:E17) -> 0 | G17: =AVERAGE(E2:E17) -> 0 | H17: =IFERROR(F17/G17, 0) -> 0
A18: 17 | E18: =IF(C18="",0,C18*D18) -> 0 | F18: =AVERAGE(E12:E18) -> 0 | G18: =AVERAGE(E2:E18) -> 0 | H18: =IFERROR(F18/G18, 0) -> 0
A19: 18 | E19: =IF(C19="",0,C19*D19) -> 0 | F19: =AVERAGE(E13:E19) -> 0 | G19: =AVERAGE(E2:E19) -> 0 | H19: =IFERROR(F19/G19, 0) -> 0
A20: 19 | E20: =IF(C20="",0,C20*D20) -> 0 | F20: =AVERAGE(E14:E20) -> 0 | G20: =AVERAGE(E2:E20) -> 0 | H20: =IFERROR(F20/G20, 0) -> 0
A21: 20 | E21: =IF(C21="",0,C21*D21) -> 0 | F21: =AVERAGE(E15:E21) -> 0 | G21: =AVERAGE(E2:E21) -> 0 | H21: =IFERROR(F21/G21, 0) -> 0
A22: 21 | E22: =IF(C22="",0,C22*D22) -> 0 | F22: =AVERAGE(E16:E22) -> 0 | G22: =AVERAGE(E2:E22) -> 0 | H22: =IFERROR(F22/G22, 0) -> 0
A23: 22 | E23: =IF(C23="",0,C23*D23) -> 0 | F23: =AVERAGE(E17:E23) -> 0 | G23: =AVERAGE(E2:E23) -> 0 | H23: =IFERROR(F23/G23, 0) -> 0
A24: 23 | E24: =IF(C24="",0,C24*D24) -> 0 | F24: =AVERAGE(E18:E24) -> 0 | G24: =AVERAGE(E2:E24) -> 0 | H24: =IFERROR(F24/G24, 0) -> 0
A25: 24 | E25: =IF(C25="",0,C25*D25) -> 0 | F25: =AVERAGE(E19:E25) -> 0 | G25: =AVERAGE(E2:E25) -> 0 | H25: =IFERROR(F25/G25, 0) -> 0
A26: 25 | E26: =IF(C26="",0,C26*D26) -> 0 | F26: =AVERAGE(E20:E26) -> 0 | G26: =AVERAGE(E2:E26) -> 0 | H26: =IFERROR(F26/G26, 0) -> 0
A27: 26 | E27: =IF(C27="",0,C27*D27) -> 0 | F27: =AVERAGE(E21:E27) -> 0 | G27: =AVERAGE(E2:E27) -> 0 | H27: =IFERROR(F27/G27, 0) -> 0
A28: 27 | E28: =IF(C28="",0,C28*D28) -> 0 | F28: =AVERAGE(E22:E28) -> 0 | G28: =AVERAGE(E2:E28) -> 0 | H28: =IFERROR(F28/G28, 0) -> 0
A29: 28 | E29: =IF(C29="",0,C29*D29) -> 0 | F29: =AVERAGE(E23:E29) -> 0 | G29: =AVERAGE(E2:E29) -> 0 | H29: =IFERROR(F29/G29, 0) -> 0
A30: 29 | E30: =IF(C30="",0,C30*D30) -> 0 | F30: =AVERAGE(E24:E30) -> 0 | G30: =AVERAGE(E3:E30) -> 0 | H30: =IFERROR(F30/G30, 0) -> 0
A31: 30 | E31: =IF(C31="",0,C31*D31) -> 0 | F31: =AVERAGE(E25:E31) -> 0 | G31: =AVERAGE(E4:E31) -> 0 | H31: =IFERROR(F31/G31, 0) -> 0
A32: 31 | E32: =IF(C32="",0,C32*D32) -> 0 | F32: =AVERAGE(E26:E32) -> 0 | G32: =AVERAGE(E5:E32) -> 0 | H32: =IFERROR(F32/G32, 0) -> 0
A33: 32 | E33: =IF(C33="",0,C33*D33) -> 0 | F33: =AVERAGE(E27:E33) -> 0 | G33: =AVERAGE(E6:E33) -> 0 | H33: =IFERROR(F33/G33, 0) -> 0
A34: 33 | E34: =IF(C34="",0,C34*D34) -> 0 | F34: =AVERAGE(E28:E34) -> 0 | G34: =AVERAGE(E7:E34) -> 0 | H34: =IFERROR(F34/G34, 0) -> 0
A35: 34 | E35: =IF(C35="",0,C35*D35) -> 0 | F35: =AVERAGE(E29:E35) -> 0 | G35: =AVERAGE(E8:E35) -> 0 | H35: =IFERROR(F35/G35, 0) -> 0
A36: 35 | E36: =IF(C36="",0,C36*D36) -> 0 | F36: =AVERAGE(E30:E36) -> 0 | G36: =AVERAGE(E9:E36) -> 0 | H36: =IFERROR(F36/G36, 0) -> 0
A37: 36 | E37: =IF(C37="",0,C37*D37) -> 0 | F37: =AVERAGE(E31:E37) -> 0 | G37: =AVERAGE(E10:E37) -> 0 | H37: =IFERROR(F37/G37, 0) -> 0
A38: 37 | E38: =IF(C38="",0,C38*D38) -> 0 | F38: =AVERAGE(E32:E38) -> 0 | G38: =AVERAGE(E11:E38) -> 0 | H38: =IFERROR(F38/G38, 0) -> 0
A39: 38 | E39: =IF(C39="",0,C39*D39) -> 0 | F39: =AVERAGE(E33:E39) -> 0 | G39: =AVERAGE(E12:E39) -> 0 | H39: =IFERROR(F39/G39, 0) -> 0
A40: 39 | E40: =IF(C40="",0,C40*D40) -> 0 | F40: =AVERAGE(E34:E40) -> 0 | G40: =AVERAGE(E13:E40) -> 0 | H40: =IFERROR(F40/G40, 0) -> 0
... A301: 300 | E301: =IF(C301="",0,C301*D301) -> 0 | F301: =AVERAGE(E295:E301) -> 0 | G301: =AVERAGE(E274:E301) -> 0 | H301: =IFERROR(F301/G301, 0) -> 0
H302: =LOOKUP(2,1/(C2:C301<>""),H2:H301) -> #N/A

Sheet Giocatore 17
A1: Giorno Progressivo | B1: Data (Opzionale) | C1: RPE (1-10) | D1: Durata (min) | E1: Session RPE (UA) | F1: Carico Acuto (Media 7g) | G1: Carico Cronico (Media 28g) | H1: ACWR
A2: 1 | E2: =IF(C2="",0,C2*D2) -> 0 | F2: =AVERAGE(E2:E2) -> 0 | G2: =AVERAGE(E2:E2) -> 0 | H2: =IFERROR(F2/G2, 0) -> 0
A3: 2 | E3: =IF(C3="",0,C3*D3) -> 0 | F3: =AVERAGE(E2:E3) -> 0 | G3: =AVERAGE(E2:E3) -> 0 | H3: =IFERROR(F3/G3, 0) -> 0
A4: 3 | E4: =IF(C4="",0,C4*D4) -> 0 | F4: =AVERAGE(E2:E4) -> 0 | G4: =AVERAGE(E2:E4) -> 0 | H4: =IFERROR(F4/G4, 0) -> 0
A5: 4 | E5: =IF(C5="",0,C5*D5) -> 0 | F5: =AVERAGE(E2:E5) -> 0 | G5: =AVERAGE(E2:E5) -> 0 | H5: =IFERROR(F5/G5, 0) -> 0
A6: 5 | E6: =IF(C6="",0,C6*D6) -> 0 | F6: =AVERAGE(E2:E6) -> 0 | G6: =AVERAGE(E2:E6) -> 0 | H6: =IFERROR(F6/G6, 0) -> 0
A7: 6 | E7: =IF(C7="",0,C7*D7) -> 0 | F7: =AVERAGE(E2:E7) -> 0 | G7: =AVERAGE(E2:E7) -> 0 | H7: =IFERROR(F7/G7, 0) -> 0
A8: 7 | E8: =IF(C8="",0,C8*D8) -> 0 | F8: =AVERAGE(E2:E8) -> 0 | G8: =AVERAGE(E2:E8) -> 0 | H8: =IFERROR(F8/G8, 0) -> 0
A9: 8 | E9: =IF(C9="",0,C9*D9) -> 0 | F9: =AVERAGE(E3:E9) -> 0 | G9: =AVERAGE(E2:E9) -> 0 | H9: =IFERROR(F9/G9, 0) -> 0
A10: 9 | E10: =IF(C10="",0,C10*D10) -> 0 | F10: =AVERAGE(E4:E10) -> 0 | G10: =AVERAGE(E2:E10) -> 0 | H10: =IFERROR(F10/G10, 0) -> 0
A11: 10 | E11: =IF(C11="",0,C11*D11) -> 0 | F11: =AVERAGE(E5:E11) -> 0 | G11: =AVERAGE(E2:E11) -> 0 | H11: =IFERROR(F11/G11, 0) -> 0
A12: 11 | E12: =IF(C12="",0,C12*D12) -> 0 | F12: =AVERAGE(E6:E12) -> 0 | G12: =AVERAGE(E2:E12) -> 0 | H12: =IFERROR(F12/G12, 0) -> 0
A13: 12 | E13: =IF(C13="",0,C13*D13) -> 0 | F13: =AVERAGE(E7:E13) -> 0 | G13: =AVERAGE(E2:E13) -> 0 | H13: =IFERROR(F13/G13, 0) -> 0
A14: 13 | E14: =IF(C14="",0,C14*D14) -> 0 | F14: =AVERAGE(E8:E14) -> 0 | G14: =AVERAGE(E2:E14) -> 0 | H14: =IFERROR(F14/G14, 0) -> 0
A15: 14 | E15: =IF(C15="",0,C15*D15) -> 0 | F15: =AVERAGE(E9:E15) -> 0 | G15: =AVERAGE(E2:E15) -> 0 | H15: =IFERROR(F15/G15, 0) -> 0
A16: 15 | E16: =IF(C16="",0,C16*D16) -> 0 | F16: =AVERAGE(E10:E16) -> 0 | G16: =AVERAGE(E2:E16) -> 0 | H16: =IFERROR(F16/G16, 0) -> 0
A17: 16 | E17: =IF(C17="",0,C17*D17) -> 0 | F17: =AVERAGE(E11:E17) -> 0 | G17: =AVERAGE(E2:E17) -> 0 | H17: =IFERROR(F17/G17, 0) -> 0
A18: 17 | E18: =IF(C18="",0,C18*D18) -> 0 | F18: =AVERAGE(E12:E18) -> 0 | G18: =AVERAGE(E2:E18) -> 0 | H18: =IFERROR(F18/G18, 0) -> 0
A19: 18 | E19: =IF(C19="",0,C19*D19) -> 0 | F19: =AVERAGE(E13:E19) -> 0 | G19: =AVERAGE(E2:E19) -> 0 | H19: =IFERROR(F19/G19, 0) -> 0
A20: 19 | E20: =IF(C20="",0,C20*D20) -> 0 | F20: =AVERAGE(E14:E20) -> 0 | G20: =AVERAGE(E2:E20) -> 0 | H20: =IFERROR(F20/G20, 0) -> 0
A21: 20 | E21: =IF(C21="",0,C21*D21) -> 0 | F21: =AVERAGE(E15:E21) -> 0 | G21: =AVERAGE(E2:E21) -> 0 | H21: =IFERROR(F21/G21, 0) -> 0
A22: 21 | E22: =IF(C22="",0,C22*D22) -> 0 | F22: =AVERAGE(E16:E22) -> 0 | G22: =AVERAGE(E2:E22) -> 0 | H22: =IFERROR(F22/G22, 0) -> 0
A23: 22 | E23: =IF(C23="",0,C23*D23) -> 0 | F23: =AVERAGE(E17:E23) -> 0 | G23: =AVERAGE(E2:E23) -> 0 | H23: =IFERROR(F23/G23, 0) -> 0
A24: 23 | E24: =IF(C24="",0,C24*D24) -> 0 | F24: =AVERAGE(E18:E24) -> 0 | G24: =AVERAGE(E2:E24) -> 0 | H24: =IFERROR(F24/G24, 0) -> 0
A25: 24 | E25: =IF(C25="",0,C25*D25) -> 0 | F25: =AVERAGE(E19:E25) -> 0 | G25: =AVERAGE(E2:E25) -> 0 | H25: =IFERROR(F25/G25, 0) -> 0
A26: 25 | E26: =IF(C26="",0,C26*D26) -> 0 | F26: =AVERAGE(E20:E26) -> 0 | G26: =AVERAGE(E2:E26) -> 0 | H26: =IFERROR(F26/G26, 0) -> 0
A27: 26 | E27: =IF(C27="",0,C27*D27) -> 0 | F27: =AVERAGE(E21:E27) -> 0 | G27: =AVERAGE(E2:E27) -> 0 | H27: =IFERROR(F27/G27, 0) -> 0
A28: 27 | E28: =IF(C28="",0,C28*D28) -> 0 | F28: =AVERAGE(E22:E28) -> 0 | G28: =AVERAGE(E2:E28) -> 0 | H28: =IFERROR(F28/G28, 0) -> 0
A29: 28 | E29: =IF(C29="",0,C29*D29) -> 0 | F29: =AVERAGE(E23:E29) -> 0 | G29: =AVERAGE(E2:E29) -> 0 | H29: =IFERROR(F29/G29, 0) -> 0
A30: 29 | E30: =IF(C30="",0,C30*D30) -> 0 | F30: =AVERAGE(E24:E30) -> 0 | G30: =AVERAGE(E3:E30) -> 0 | H30: =IFERROR(F30/G30, 0) -> 0
A31: 30 | E31: =IF(C31="",0,C31*D31) -> 0 | F31: =AVERAGE(E25:E31) -> 0 | G31: =AVERAGE(E4:E31) -> 0 | H31: =IFERROR(F31/G31, 0) -> 0
A32: 31 | E32: =IF(C32="",0,C32*D32) -> 0 | F32: =AVERAGE(E26:E32) -> 0 | G32: =AVERAGE(E5:E32) -> 0 | H32: =IFERROR(F32/G32, 0) -> 0
A33: 32 | E33: =IF(C33="",0,C33*D33) -> 0 | F33: =AVERAGE(E27:E33) -> 0 | G33: =AVERAGE(E6:E33) -> 0 | H33: =IFERROR(F33/G33, 0) -> 0
A34: 33 | E34: =IF(C34="",0,C34*D34) -> 0 | F34: =AVERAGE(E28:E34) -> 0 | G34: =AVERAGE(E7:E34) -> 0 | H34: =IFERROR(F34/G34, 0) -> 0
A35: 34 | E35: =IF(C35="",0,C35*D35) -> 0 | F35: =AVERAGE(E29:E35) -> 0 | G35: =AVERAGE(E8:E35) -> 0 | H35: =IFERROR(F35/G35, 0) -> 0
A36: 35 | E36: =IF(C36="",0,C36*D36) -> 0 | F36: =AVERAGE(E30:E36) -> 0 | G36: =AVERAGE(E9:E36) -> 0 | H36: =IFERROR(F36/G36, 0) -> 0
A37: 36 | E37: =IF(C37="",0,C37*D37) -> 0 | F37: =AVERAGE(E31:E37) -> 0 | G37: =AVERAGE(E10:E37) -> 0 | H37: =IFERROR(F37/G37, 0) -> 0
A38: 37 | E38: =IF(C38="",0,C38*D38) -> 0 | F38: =AVERAGE(E32:E38) -> 0 | G38: =AVERAGE(E11:E38) -> 0 | H38: =IFERROR(F38/G38, 0) -> 0
A39: 38 | E39: =IF(C39="",0,C39*D39) -> 0 | F39: =AVERAGE(E33:E39) -> 0 | G39: =AVERAGE(E12:E39) -> 0 | H39: =IFERROR(F39/G39, 0) -> 0
A40: 39 | E40: =IF(C40="",0,C40*D40) -> 0 | F40: =AVERAGE(E34:E40) -> 0 | G40: =AVERAGE(E13:E40) -> 0 | H40: =IFERROR(F40/G40, 0) -> 0
... A301: 300 | E301: =IF(C301="",0,C301*D301) -> 0 | F301: =AVERAGE(E295:E301) -> 0 | G301: =AVERAGE(E274:E301) -> 0 | H301: =IFERROR(F301/G301, 0) -> 0
H302: =LOOKUP(2,1/(C2:C301<>""),H2:H301) -> #N/A

Sheet Giocatore 18
A1: Giorno Progressivo | B1: Data (Opzionale) | C1: RPE (1-10) | D1: Durata (min) | E1: Session RPE (UA) | F1: Carico Acuto (Media 7g) | G1: Carico Cronico (Media 28g) | H1: ACWR
A2: 1 | E2: =IF(C2="",0,C2*D2) -> 0 | F2: =AVERAGE(E2:E2) -> 0 | G2: =AVERAGE(E2:E2) -> 0 | H2: =IFERROR(F2/G2, 0) -> 0
A3: 2 | E3: =IF(C3="",0,C3*D3) -> 0 | F3: =AVERAGE(E2:E3) -> 0 | G3: =AVERAGE(E2:E3) -> 0 | H3: =IFERROR(F3/G3, 0) -> 0
A4: 3 | E4: =IF(C4="",0,C4*D4) -> 0 | F4: =AVERAGE(E2:E4) -> 0 | G4: =AVERAGE(E2:E4) -> 0 | H4: =IFERROR(F4/G4, 0) -> 0
A5: 4 | E5: =IF(C5="",0,C5*D5) -> 0 | F5: =AVERAGE(E2:E5) -> 0 | G5: =AVERAGE(E2:E5) -> 0 | H5: =IFERROR(F5/G5, 0) -> 0
A6: 5 | E6: =IF(C6="",0,C6*D6) -> 0 | F6: =AVERAGE(E2:E6) -> 0 | G6: =AVERAGE(E2:E6) -> 0 | H6: =IFERROR(F6/G6, 0) -> 0
A7: 6 | E7: =IF(C7="",0,C7*D7) -> 0 | F7: =AVERAGE(E2:E7) -> 0 | G7: =AVERAGE(E2:E7) -> 0 | H7: =IFERROR(F7/G7, 0) -> 0
A8: 7 | E8: =IF(C8="",0,C8*D8) -> 0 | F8: =AVERAGE(E2:E8) -> 0 | G8: =AVERAGE(E2:E8) -> 0 | H8: =IFERROR(F8/G8, 0) -> 0
A9: 8 | E9: =IF(C9="",0,C9*D9) -> 0 | F9: =AVERAGE(E3:E9) -> 0 | G9: =AVERAGE(E2:E9) -> 0 | H9: =IFERROR(F9/G9, 0) -> 0
A10: 9 | E10: =IF(C10="",0,C10*D10) -> 0 | F10: =AVERAGE(E4:E10) -> 0 | G10: =AVERAGE(E2:E10) -> 0 | H10: =IFERROR(F10/G10, 0) -> 0
A11: 10 | E11: =IF(C11="",0,C11*D11) -> 0 | F11: =AVERAGE(E5:E11) -> 0 | G11: =AVERAGE(E2:E11) -> 0 | H11: =IFERROR(F11/G11, 0) -> 0
A12: 11 | E12: =IF(C12="",0,C12*D12) -> 0 | F12: =AVERAGE(E6:E12) -> 0 | G12: =AVERAGE(E2:E12) -> 0 | H12: =IFERROR(F12/G12, 0) -> 0
A13: 12 | E13: =IF(C13="",0,C13*D13) -> 0 | F13: =AVERAGE(E7:E13) -> 0 | G13: =AVERAGE(E2:E13) -> 0 | H13: =IFERROR(F13/G13, 0) -> 0
A14: 13 | E14: =IF(C14="",0,C14*D14) -> 0 | F14: =AVERAGE(E8:E14) -> 0 | G14: =AVERAGE(E2:E14) -> 0 | H14: =IFERROR(F14/G14, 0) -> 0
A15: 14 | E15: =IF(C15="",0,C15*D15) -> 0 | F15: =AVERAGE(E9:E15) -> 0 | G15: =AVERAGE(E2:E15) -> 0 | H15: =IFERROR(F15/G15, 0) -> 0
A16: 15 | E16: =IF(C16="",0,C16*D16) -> 0 | F16: =AVERAGE(E10:E16) -> 0 | G16: =AVERAGE(E2:E16) -> 0 | H16: =IFERROR(F16/G16, 0) -> 0
A17: 16 | E17: =IF(C17="",0,C17*D17) -> 0 | F17: =AVERAGE(E11:E17) -> 0 | G17: =AVERAGE(E2:E17) -> 0 | H17: =IFERROR(F17/G17, 0) -> 0
A18: 17 | E18: =IF(C18="",0,C18*D18) -> 0 | F18: =AVERAGE(E12:E18) -> 0 | G18: =AVERAGE(E2:E18) -> 0 | H18: =IFERROR(F18/G18, 0) -> 0
A19: 18 | E19: =IF(C19="",0,C19*D19) -> 0 | F19: =AVERAGE(E13:E19) -> 0 | G19: =AVERAGE(E2:E19) -> 0 | H19: =IFERROR(F19/G19, 0) -> 0
A20: 19 | E20: =IF(C20="",0,C20*D20) -> 0 | F20: =AVERAGE(E14:E20) -> 0 | G20: =AVERAGE(E2:E20) -> 0 | H20: =IFERROR(F20/G20, 0) -> 0
A21: 20 | E21: =IF(C21="",0,C21*D21) -> 0 | F21: =AVERAGE(E15:E21) -> 0 | G21: =AVERAGE(E2:E21) -> 0 | H21: =IFERROR(F21/G21, 0) -> 0
A22: 21 | E22: =IF(C22="",0,C22*D22) -> 0 | F22: =AVERAGE(E16:E22) -> 0 | G22: =AVERAGE(E2:E22) -> 0 | H22: =IFERROR(F22/G22, 0) -> 0
A23: 22 | E23: =IF(C23="",0,C23*D23) -> 0 | F23: =AVERAGE(E17:E23) -> 0 | G23: =AVERAGE(E2:E23) -> 0 | H23: =IFERROR(F23/G23, 0) -> 0
A24: 23 | E24: =IF(C24="",0,C24*D24) -> 0 | F24: =AVERAGE(E18:E24) -> 0 | G24: =AVERAGE(E2:E24) -> 0 | H24: =IFERROR(F24/G24, 0) -> 0
A25: 24 | E25: =IF(C25="",0,C25*D25) -> 0 | F25: =AVERAGE(E19:E25) -> 0 | G25: =AVERAGE(E2:E25) -> 0 | H25: =IFERROR(F25/G25, 0) -> 0
A26: 25 | E26: =IF(C26="",0,C26*D26) -> 0 | F26: =AVERAGE(E20:E26) -> 0 | G26: =AVERAGE(E2:E26) -> 0 | H26: =IFERROR(F26/G26, 0) -> 0
A27: 26 | E27: =IF(C27="",0,C27*D27) -> 0 | F27: =AVERAGE(E21:E27) -> 0 | G27: =AVERAGE(E2:E27) -> 0 | H27: =IFERROR(F27/G27, 0) -> 0
A28: 27 | E28: =IF(C28="",0,C28*D28) -> 0 | F28: =AVERAGE(E22:E28) -> 0 | G28: =AVERAGE(E2:E28) -> 0 | H28: =IFERROR(F28/G28, 0) -> 0
A29: 28 | E29: =IF(C29="",0,C29*D29) -> 0 | F29: =AVERAGE(E23:E29) -> 0 | G29: =AVERAGE(E2:E29) -> 0 | H29: =IFERROR(F29/G29, 0) -> 0
A30: 29 | E30: =IF(C30="",0,C30*D30) -> 0 | F30: =AVERAGE(E24:E30) -> 0 | G30: =AVERAGE(E3:E30) -> 0 | H30: =IFERROR(F30/G30, 0) -> 0
A31: 30 | E31: =IF(C31="",0,C31*D31) -> 0 | F31: =AVERAGE(E25:E31) -> 0 | G31: =AVERAGE(E4:E31) -> 0 | H31: =IFERROR(F31/G31, 0) -> 0
A32: 31 | E32: =IF(C32="",0,C32*D32) -> 0 | F32: =AVERAGE(E26:E32) -> 0 | G32: =AVERAGE(E5:E32) -> 0 | H32: =IFERROR(F32/G32, 0) -> 0
A33: 32 | E33: =IF(C33="",0,C33*D33) -> 0 | F33: =AVERAGE(E27:E33) -> 0 | G33: =AVERAGE(E6:E33) -> 0 | H33: =IFERROR(F33/G33, 0) -> 0
A34: 33 | E34: =IF(C34="",0,C34*D34) -> 0 | F34: =AVERAGE(E28:E34) -> 0 | G34: =AVERAGE(E7:E34) -> 0 | H34: =IFERROR(F34/G34, 0) -> 0
A35: 34 | E35: =IF(C35="",0,C35*D35) -> 0 | F35: =AVERAGE(E29:E35) -> 0 | G35: =AVERAGE(E8:E35) -> 0 | H35: =IFERROR(F35/G35, 0) -> 0
A36: 35 | E36: =IF(C36="",0,C36*D36) -> 0 | F36: =AVERAGE(E30:E36) -> 0 | G36: =AVERAGE(E9:E36) -> 0 | H36: =IFERROR(F36/G36, 0) -> 0
A37: 36 | E37: =IF(C37="",0,C37*D37) -> 0 | F37: =AVERAGE(E31:E37) -> 0 | G37: =AVERAGE(E10:E37) -> 0 | H37: =IFERROR(F37/G37, 0) -> 0
A38: 37 | E38: =IF(C38="",0,C38*D38) -> 0 | F38: =AVERAGE(E32:E38) -> 0 | G38: =AVERAGE(E11:E38) -> 0 | H38: =IFERROR(F38/G38, 0) -> 0
A39: 38 | E39: =IF(C39="",0,C39*D39) -> 0 | F39: =AVERAGE(E33:E39) -> 0 | G39: =AVERAGE(E12:E39) -> 0 | H39: =IFERROR(F39/G39, 0) -> 0
A40: 39 | E40: =IF(C40="",0,C40*D40) -> 0 | F40: =AVERAGE(E34:E40) -> 0 | G40: =AVERAGE(E13:E40) -> 0 | H40: =IFERROR(F40/G40, 0) -> 0
... A301: 300 | E301: =IF(C301="",0,C301*D301) -> 0 | F301: =AVERAGE(E295:E301) -> 0 | G301: =AVERAGE(E274:E301) -> 0 | H301: =IFERROR(F301/G301, 0) -> 0
H302: =LOOKUP(2,1/(C2:C301<>""),H2:H301) -> #N/A

Sheet Giocatore 19
A1: Giorno Progressivo | B1: Data (Opzionale) | C1: RPE (1-10) | D1: Durata (min) | E1: Session RPE (UA) | F1: Carico Acuto (Media 7g) | G1: Carico Cronico (Media 28g) | H1: ACWR
A2: 1 | E2: =IF(C2="",0,C2*D2) -> 0 | F2: =AVERAGE(E2:E2) -> 0 | G2: =AVERAGE(E2:E2) -> 0 | H2: =IFERROR(F2/G2, 0) -> 0
A3: 2 | E3: =IF(C3="",0,C3*D3) -> 0 | F3: =AVERAGE(E2:E3) -> 0 | G3: =AVERAGE(E2:E3) -> 0 | H3: =IFERROR(F3/G3, 0) -> 0
A4: 3 | E4: =IF(C4="",0,C4*D4) -> 0 | F4: =AVERAGE(E2:E4) -> 0 | G4: =AVERAGE(E2:E4) -> 0 | H4: =IFERROR(F4/G4, 0) -> 0
A5: 4 | E5: =IF(C5="",0,C5*D5) -> 0 | F5: =AVERAGE(E2:E5) -> 0 | G5: =AVERAGE(E2:E5) -> 0 | H5: =IFERROR(F5/G5, 0) -> 0
A6: 5 | E6: =IF(C6="",0,C6*D6) -> 0 | F6: =AVERAGE(E2:E6) -> 0 | G6: =AVERAGE(E2:E6) -> 0 | H6: =IFERROR(F6/G6, 0) -> 0
A7: 6 | E7: =IF(C7="",0,C7*D7) -> 0 | F7: =AVERAGE(E2:E7) -> 0 | G7: =AVERAGE(E2:E7) -> 0 | H7: =IFERROR(F7/G7, 0) -> 0
A8: 7 | E8: =IF(C8="",0,C8*D8) -> 0 | F8: =AVERAGE(E2:E8) -> 0 | G8: =AVERAGE(E2:E8) -> 0 | H8: =IFERROR(F8/G8, 0) -> 0
A9: 8 | E9: =IF(C9="",0,C9*D9) -> 0 | F9: =AVERAGE(E3:E9) -> 0 | G9: =AVERAGE(E2:E9) -> 0 | H9: =IFERROR(F9/G9, 0) -> 0
A10: 9 | E10: =IF(C10="",0,C10*D10) -> 0 | F10: =AVERAGE(E4:E10) -> 0 | G10: =AVERAGE(E2:E10) -> 0 | H10: =IFERROR(F10/G10, 0) -> 0
A11: 10 | E11: =IF(C11="",0,C11*D11) -> 0 | F11: =AVERAGE(E5:E11) -> 0 | G11: =AVERAGE(E2:E11) -> 0 | H11: =IFERROR(F11/G11, 0) -> 0
A12: 11 | E12: =IF(C12="",0,C12*D12) -> 0 | F12: =AVERAGE(E6:E12) -> 0 | G12: =AVERAGE(E2:E12) -> 0 | H12: =IFERROR(F12/G12, 0) -> 0
A13: 12 | E13: =IF(C13="",0,C13*D13) -> 0 | F13: =AVERAGE(E7:E13) -> 0 | G13: =AVERAGE(E2:E13) -> 0 | H13: =IFERROR(F13/G13, 0) -> 0
A14: 13 | E14: =IF(C14="",0,C14*D14) -> 0 | F14: =AVERAGE(E8:E14) -> 0 | G14: =AVERAGE(E2:E14) -> 0 | H14: =IFERROR(F14/G14, 0) -> 0
A15: 14 | E15: =IF(C15="",0,C15*D15) -> 0 | F15: =AVERAGE(E9:E15) -> 0 | G15: =AVERAGE(E2:E15) -> 0 | H15: =IFERROR(F15/G15, 0) -> 0
A16: 15 | E16: =IF(C16="",0,C16*D16) -> 0 | F16: =AVERAGE(E10:E16) -> 0 | G16: =AVERAGE(E2:E16) -> 0 | H16: =IFERROR(F16/G16, 0) -> 0
A17: 16 | E17: =IF(C17="",0,C17*D17) -> 0 | F17: =AVERAGE(E11:E17) -> 0 | G17: =AVERAGE(E2:E17) -> 0 | H17: =IFERROR(F17/G17, 0) -> 0
A18: 17 | E18: =IF(C18="",0,C18*D18) -> 0 | F18: =AVERAGE(E12:E18) -> 0 | G18: =AVERAGE(E2:E18) -> 0 | H18: =IFERROR(F18/G18, 0) -> 0
A19: 18 | E19: =IF(C19="",0,C19*D19) -> 0 | F19: =AVERAGE(E13:E19) -> 0 | G19: =AVERAGE(E2:E19) -> 0 | H19: =IFERROR(F19/G19, 0) -> 0
A20: 19 | E20: =IF(C20="",0,C20*D20) -> 0 | F20: =AVERAGE(E14:E20) -> 0 | G20: =AVERAGE(E2:E20) -> 0 | H20: =IFERROR(F20/G20, 0) -> 0
A21: 20 | E21: =IF(C21="",0,C21*D21) -> 0 | F21: =AVERAGE(E15:E21) -> 0 | G21: =AVERAGE(E2:E21) -> 0 | H21: =IFERROR(F21/G21, 0) -> 0
A22: 21 | E22: =IF(C22="",0,C22*D22) -> 0 | F22: =AVERAGE(E16:E22) -> 0 | G22: =AVERAGE(E2:E22) -> 0 | H22: =IFERROR(F22/G22, 0) -> 0
A23: 22 | E23: =IF(C23="",0,C23*D23) -> 0 | F23: =AVERAGE(E17:E23) -> 0 | G23: =AVERAGE(E2:E23) -> 0 | H23: =IFERROR(F23/G23, 0) -> 0
A24: 23 | E24: =IF(C24="",0,C24*D24) -> 0 | F24: =AVERAGE(E18:E24) -> 0 | G24: =AVERAGE(E2:E24) -> 0 | H24: =IFERROR(F24/G24, 0) -> 0
A25: 24 | E25: =IF(C25="",0,C25*D25) -> 0 | F25: =AVERAGE(E19:E25) -> 0 | G25: =AVERAGE(E2:E25) -> 0 | H25: =IFERROR(F25/G25, 0) -> 0
A26: 25 | E26: =IF(C26="",0,C26*D26) -> 0 | F26: =AVERAGE(E20:E26) -> 0 | G26: =AVERAGE(E2:E26) -> 0 | H26: =IFERROR(F26/G26, 0) -> 0
A27: 26 | E27: =IF(C27="",0,C27*D27) -> 0 | F27: =AVERAGE(E21:E27) -> 0 | G27: =AVERAGE(E2:E27) -> 0 | H27: =IFERROR(F27/G27, 0) -> 0
A28: 27 | E28: =IF(C28="",0,C28*D28) -> 0 | F28: =AVERAGE(E22:E28) -> 0 | G28: =AVERAGE(E2:E28) -> 0 | H28: =IFERROR(F28/G28, 0) -> 0
A29: 28 | E29: =IF(C29="",0,C29*D29) -> 0 | F29: =AVERAGE(E23:E29) -> 0 | G29: =AVERAGE(E2:E29) -> 0 | H29: =IFERROR(F29/G29, 0) -> 0
A30: 29 | E30: =IF(C30="",0,C30*D30) -> 0 | F30: =AVERAGE(E24:E30) -> 0 | G30: =AVERAGE(E3:E30) -> 0 | H30: =IFERROR(F30/G30, 0) -> 0
A31: 30 | E31: =IF(C31="",0,C31*D31) -> 0 | F31: =AVERAGE(E25:E31) -> 0 | G31: =AVERAGE(E4:E31) -> 0 | H31: =IFERROR(F31/G31, 0) -> 0
A32: 31 | E32: =IF(C32="",0,C32*D32) -> 0 | F32: =AVERAGE(E26:E32) -> 0 | G32: =AVERAGE(E5:E32) -> 0 | H32: =IFERROR(F32/G32, 0) -> 0
A33: 32 | E33: =IF(C33="",0,C33*D33) -> 0 | F33: =AVERAGE(E27:E33) -> 0 | G33: =AVERAGE(E6:E33) -> 0 | H33: =IFERROR(F33/G33, 0) -> 0
A34: 33 | E34: =IF(C34="",0,C34*D34) -> 0 | F34: =AVERAGE(E28:E34) -> 0 | G34: =AVERAGE(E7:E34) -> 0 | H34: =IFERROR(F34/G34, 0) -> 0
A35: 34 | E35: =IF(C35="",0,C35*D35) -> 0 | F35: =AVERAGE(E29:E35) -> 0 | G35: =AVERAGE(E8:E35) -> 0 | H35: =IFERROR(F35/G35, 0) -> 0
A36: 35 | E36: =IF(C36="",0,C36*D36) -> 0 | F36: =AVERAGE(E30:E36) -> 0 | G36: =AVERAGE(E9:E36) -> 0 | H36: =IFERROR(F36/G36, 0) -> 0
A37: 36 | E37: =IF(C37="",0,C37*D37) -> 0 | F37: =AVERAGE(E31:E37) -> 0 | G37: =AVERAGE(E10:E37) -> 0 | H37: =IFERROR(F37/G37, 0) -> 0
A38: 37 | E38: =IF(C38="",0,C38*D38) -> 0 | F38: =AVERAGE(E32:E38) -> 0 | G38: =AVERAGE(E11:E38) -> 0 | H38: =IFERROR(F38/G38, 0) -> 0
A39: 38 | E39: =IF(C39="",0,C39*D39) -> 0 | F39: =AVERAGE(E33:E39) -> 0 | G39: =AVERAGE(E12:E39) -> 0 | H39: =IFERROR(F39/G39, 0) -> 0
A40: 39 | E40: =IF(C40="",0,C40*D40) -> 0 | F40: =AVERAGE(E34:E40) -> 0 | G40: =AVERAGE(E13:E40) -> 0 | H40: =IFERROR(F40/G40, 0) -> 0
... A301: 300 | E301: =IF(C301="",0,C301*D301) -> 0 | F301: =AVERAGE(E295:E301) -> 0 | G301: =AVERAGE(E274:E301) -> 0 | H301: =IFERROR(F301/G301, 0) -> 0
H302: =LOOKUP(2,1/(C2:C301<>""),H2:H301) -> #N/A

Sheet Giocatore 20
A1: Giorno Progressivo | B1: Data (Opzionale) | C1: RPE (1-10) | D1: Durata (min) | E1: Session RPE (UA) | F1: Carico Acuto (Media 7g) | G1: Carico Cronico (Media 28g) | H1: ACWR
A2: 1 | E2: =IF(C2="",0,C2*D2) -> 0 | F2: =AVERAGE(E2:E2) -> 0 | G2: =AVERAGE(E2:E2) -> 0 | H2: =IFERROR(F2/G2, 0) -> 0
A3: 2 | E3: =IF(C3="",0,C3*D3) -> 0 | F3: =AVERAGE(E2:E3) -> 0 | G3: =AVERAGE(E2:E3) -> 0 | H3: =IFERROR(F3/G3, 0) -> 0
A4: 3 | E4: =IF(C4="",0,C4*D4) -> 0 | F4: =AVERAGE(E2:E4) -> 0 | G4: =AVERAGE(E2:E4) -> 0 | H4: =IFERROR(F4/G4, 0) -> 0
A5: 4 | E5: =IF(C5="",0,C5*D5) -> 0 | F5: =AVERAGE(E2:E5) -> 0 | G5: =AVERAGE(E2:E5) -> 0 | H5: =IFERROR(F5/G5, 0) -> 0
A6: 5 | E6: =IF(C6="",0,C6*D6) -> 0 | F6: =AVERAGE(E2:E6) -> 0 | G6: =AVERAGE(E2:E6) -> 0 | H6: =IFERROR(F6/G6, 0) -> 0
A7: 6 | E7: =IF(C7="",0,C7*D7) -> 0 | F7: =AVERAGE(E2:E7) -> 0 | G7: =AVERAGE(E2:E7) -> 0 | H7: =IFERROR(F7/G7, 0) -> 0
A8: 7 | E8: =IF(C8="",0,C8*D8) -> 0 | F8: =AVERAGE(E2:E8) -> 0 | G8: =AVERAGE(E2:E8) -> 0 | H8: =IFERROR(F8/G8, 0) -> 0
A9: 8 | E9: =IF(C9="",0,C9*D9) -> 0 | F9: =AVERAGE(E3:E9) -> 0 | G9: =AVERAGE(E2:E9) -> 0 | H9: =IFERROR(F9/G9, 0) -> 0
A10: 9 | E10: =IF(C10="",0,C10*D10) -> 0 | F10: =AVERAGE(E4:E10) -> 0 | G10: =AVERAGE(E2:E10) -> 0 | H10: =IFERROR(F10/G10, 0) -> 0
A11: 10 | E11: =IF(C11="",0,C11*D11) -> 0 | F11: =AVERAGE(E5:E11) -> 0 | G11: =AVERAGE(E2:E11) -> 0 | H11: =IFERROR(F11/G11, 0) -> 0
A12: 11 | E12: =IF(C12="",0,C12*D12) -> 0 | F12: =AVERAGE(E6:E12) -> 0 | G12: =AVERAGE(E2:E12) -> 0 | H12: =IFERROR(F12/G12, 0) -> 0
A13: 12 | E13: =IF(C13="",0,C13*D13) -> 0 | F13: =AVERAGE(E7:E13) -> 0 | G13: =AVERAGE(E2:E13) -> 0 | H13: =IFERROR(F13/G13, 0) -> 0
A14: 13 | E14: =IF(C14="",0,C14*D14) -> 0 | F14: =AVERAGE(E8:E14) -> 0 | G14: =AVERAGE(E2:E14) -> 0 | H14: =IFERROR(F14/G14, 0) -> 0
A15: 14 | E15: =IF(C15="",0,C15*D15) -> 0 | F15: =AVERAGE(E9:E15) -> 0 | G15: =AVERAGE(E2:E15) -> 0 | H15: =IFERROR(F15/G15, 0) -> 0
A16: 15 | E16: =IF(C16="",0,C16*D16) -> 0 | F16: =AVERAGE(E10:E16) -> 0 | G16: =AVERAGE(E2:E16) -> 0 | H16: =IFERROR(F16/G16, 0) -> 0
A17: 16 | E17: =IF(C17="",0,C17*D17) -> 0 | F17: =AVERAGE(E11:E17) -> 0 | G17: =AVERAGE(E2:E17) -> 0 | H17: =IFERROR(F17/G17, 0) -> 0
A18: 17 | E18: =IF(C18="",0,C18*D18) -> 0 | F18: =AVERAGE(E12:E18) -> 0 | G18: =AVERAGE(E2:E18) -> 0 | H18: =IFERROR(F18/G18, 0) -> 0
A19: 18 | E19: =IF(C19="",0,C19*D19) -> 0 | F19: =AVERAGE(E13:E19) -> 0 | G19: =AVERAGE(E2:E19) -> 0 | H19: =IFERROR(F19/G19, 0) -> 0
A20: 19 | E20: =IF(C20="",0,C20*D20) -> 0 | F20: =AVERAGE(E14:E20) -> 0 | G20: =AVERAGE(E2:E20) -> 0 | H20: =IFERROR(F20/G20, 0) -> 0
A21: 20 | E21: =IF(C21="",0,C21*D21) -> 0 | F21: =AVERAGE(E15:E21) -> 0 | G21: =AVERAGE(E2:E21) -> 0 | H21: =IFERROR(F21/G21, 0) -> 0
A22: 21 | E22: =IF(C22="",0,C22*D22) -> 0 | F22: =AVERAGE(E16:E22) -> 0 | G22: =AVERAGE(E2:E22) -> 0 | H22: =IFERROR(F22/G22, 0) -> 0
A23: 22 | E23: =IF(C23="",0,C23*D23) -> 0 | F23: =AVERAGE(E17:E23) -> 0 | G23: =AVERAGE(E2:E23) -> 0 | H23: =IFERROR(F23/G23, 0) -> 0
A24: 23 | E24: =IF(C24="",0,C24*D24) -> 0 | F24: =AVERAGE(E18:E24) -> 0 | G24: =AVERAGE(E2:E24) -> 0 | H24: =IFERROR(F24/G24, 0) -> 0
A25: 24 | E25: =IF(C25="",0,C25*D25) -> 0 | F25: =AVERAGE(E19:E25) -> 0 | G25: =AVERAGE(E2:E25) -> 0 | H25: =IFERROR(F25/G25, 0) -> 0
A26: 25 | E26: =IF(C26="",0,C26*D26) -> 0 | F26: =AVERAGE(E20:E26) -> 0 | G26: =AVERAGE(E2:E26) -> 0 | H26: =IFERROR(F26/G26, 0) -> 0
A27: 26 | E27: =IF(C27="",0,C27*D27) -> 0 | F27: =AVERAGE(E21:E27) -> 0 | G27: =AVERAGE(E2:E27) -> 0 | H27: =IFERROR(F27/G27, 0) -> 0
A28: 27 | E28: =IF(C28="",0,C28*D28) -> 0 | F28: =AVERAGE(E22:E28) -> 0 | G28: =AVERAGE(E2:E28) -> 0 | H28: =IFERROR(F28/G28, 0) -> 0
A29: 28 | E29: =IF(C29="",0,C29*D29) -> 0 | F29: =AVERAGE(E23:E29) -> 0 | G29: =AVERAGE(E2:E29) -> 0 | H29: =IFERROR(F29/G29, 0) -> 0
A30: 29 | E30: =IF(C30="",0,C30*D30) -> 0 | F30: =AVERAGE(E24:E30) -> 0 | G30: =AVERAGE(E3:E30) -> 0 | H30: =IFERROR(F30/G30, 0) -> 0
A31: 30 | E31: =IF(C31="",0,C31*D31) -> 0 | F31: =AVERAGE(E25:E31) -> 0 | G31: =AVERAGE(E4:E31) -> 0 | H31: =IFERROR(F31/G31, 0) -> 0
A32: 31 | E32: =IF(C32="",0,C32*D32) -> 0 | F32: =AVERAGE(E26:E32) -> 0 | G32: =AVERAGE(E5:E32) -> 0 | H32: =IFERROR(F32/G32, 0) -> 0
A33: 32 | E33: =IF(C33="",0,C33*D33) -> 0 | F33: =AVERAGE(E27:E33) -> 0 | G33: =AVERAGE(E6:E33) -> 0 | H33: =IFERROR(F33/G33, 0) -> 0
A34: 33 | E34: =IF(C34="",0,C34*D34) -> 0 | F34: =AVERAGE(E28:E34) -> 0 | G34: =AVERAGE(E7:E34) -> 0 | H34: =IFERROR(F34/G34, 0) -> 0
A35: 34 | E35: =IF(C35="",0,C35*D35) -> 0 | F35: =AVERAGE(E29:E35) -> 0 | G35: =AVERAGE(E8:E35) -> 0 | H35: =IFERROR(F35/G35, 0) -> 0
A36: 35 | E36: =IF(C36="",0,C36*D36) -> 0 | F36: =AVERAGE(E30:E36) -> 0 | G36: =AVERAGE(E9:E36) -> 0 | H36: =IFERROR(F36/G36, 0) -> 0
A37: 36 | E37: =IF(C37="",0,C37*D37) -> 0 | F37: =AVERAGE(E31:E37) -> 0 | G37: =AVERAGE(E10:E37) -> 0 | H37: =IFERROR(F37/G37, 0) -> 0
A38: 37 | E38: =IF(C38="",0,C38*D38) -> 0 | F38: =AVERAGE(E32:E38) -> 0 | G38: =AVERAGE(E11:E38) -> 0 | H38: =IFERROR(F38/G38, 0) -> 0
A39: 38 | E39: =IF(C39="",0,C39*D39) -> 0 | F39: =AVERAGE(E33:E39) -> 0 | G39: =AVERAGE(E12:E39) -> 0 | H39: =IFERROR(F39/G39, 0) -> 0
A40: 39 | E40: =IF(C40="",0,C40*D40) -> 0 | F40: =AVERAGE(E34:E40) -> 0 | G40: =AVERAGE(E13:E40) -> 0 | H40: =IFERROR(F40/G40, 0) -> 0
... A301: 300 | E301: =IF(C301="",0,C301*D301) -> 0 | F301: =AVERAGE(E295:E301) -> 0 | G301: =AVERAGE(E274:E301) -> 0 | H301: =IFERROR(F301/G301, 0) -> 0
H302: =LOOKUP(2,1/(C2:C301<>""),H2:H301) -> #N/A

Sheet Giocatore 21
A1: Giorno Progressivo | B1: Data (Opzionale) | C1: RPE (1-10) | D1: Durata (min) | E1: Session RPE (UA) | F1: Carico Acuto (Media 7g) | G1: Carico Cronico (Media 28g) | H1: ACWR
A2: 1 | E2: =IF(C2="",0,C2*D2) -> 0 | F2: =AVERAGE(E2:E2) -> 0 | G2: =AVERAGE(E2:E2) -> 0 | H2: =IFERROR(F2/G2, 0) -> 0
A3: 2 | E3: =IF(C3="",0,C3*D3) -> 0 | F3: =AVERAGE(E2:E3) -> 0 | G3: =AVERAGE(E2:E3) -> 0 | H3: =IFERROR(F3/G3, 0) -> 0
A4: 3 | E4: =IF(C4="",0,C4*D4) -> 0 | F4: =AVERAGE(E2:E4) -> 0 | G4: =AVERAGE(E2:E4) -> 0 | H4: =IFERROR(F4/G4, 0) -> 0
A5: 4 | E5: =IF(C5="",0,C5*D5) -> 0 | F5: =AVERAGE(E2:E5) -> 0 | G5: =AVERAGE(E2:E5) -> 0 | H5: =IFERROR(F5/G5, 0) -> 0
A6: 5 | E6: =IF(C6="",0,C6*D6) -> 0 | F6: =AVERAGE(E2:E6) -> 0 | G6: =AVERAGE(E2:E6) -> 0 | H6: =IFERROR(F6/G6, 0) -> 0
A7: 6 | E7: =IF(C7="",0,C7*D7) -> 0 | F7: =AVERAGE(E2:E7) -> 0 | G7: =AVERAGE(E2:E7) -> 0 | H7: =IFERROR(F7/G7, 0) -> 0
A8: 7 | E8: =IF(C8="",0,C8*D8) -> 0 | F8: =AVERAGE(E2:E8) -> 0 | G8: =AVERAGE(E2:E8) -> 0 | H8: =IFERROR(F8/G8, 0) -> 0
A9: 8 | E9: =IF(C9="",0,C9*D9) -> 0 | F9: =AVERAGE(E3:E9) -> 0 | G9: =AVERAGE(E2:E9) -> 0 | H9: =IFERROR(F9/G9, 0) -> 0
A10: 9 | E10: =IF(C10="",0,C10*D10) -> 0 | F10: =AVERAGE(E4:E10) -> 0 | G10: =AVERAGE(E2:E10) -> 0 | H10: =IFERROR(F10/G10, 0) -> 0
A11: 10 | E11: =IF(C11="",0,C11*D11) -> 0 | F11: =AVERAGE(E5:E11) -> 0 | G11: =AVERAGE(E2:E11) -> 0 | H11: =IFERROR(F11/G11, 0) -> 0
A12: 11 | E12: =IF(C12="",0,C12*D12) -> 0 | F12: =AVERAGE(E6:E12) -> 0 | G12: =AVERAGE(E2:E12) -> 0 | H12: =IFERROR(F12/G12, 0) -> 0
A13: 12 | E13: =IF(C13="",0,C13*D13) -> 0 | F13: =AVERAGE(E7:E13) -> 0 | G13: =AVERAGE(E2:E13) -> 0 | H13: =IFERROR(F13/G13, 0) -> 0
A14: 13 | E14: =IF(C14="",0,C14*D14) -> 0 | F14: =AVERAGE(E8:E14) -> 0 | G14: =AVERAGE(E2:E14) -> 0 | H14: =IFERROR(F14/G14, 0) -> 0
A15: 14 | E15: =IF(C15="",0,C15*D15) -> 0 | F15: =AVERAGE(E9:E15) -> 0 | G15: =AVERAGE(E2:E15) -> 0 | H15: =IFERROR(F15/G15, 0) -> 0
A16: 15 | E16: =IF(C16="",0,C16*D16) -> 0 | F16: =AVERAGE(E10:E16) -> 0 | G16: =AVERAGE(E2:E16) -> 0 | H16: =IFERROR(F16/G16, 0) -> 0
A17: 16 | E17: =IF(C17="",0,C17*D17) -> 0 | F17: =AVERAGE(E11:E17) -> 0 | G17: =AVERAGE(E2:E17) -> 0 | H17: =IFERROR(F17/G17, 0) -> 0
A18: 17 | E18: =IF(C18="",0,C18*D18) -> 0 | F18: =AVERAGE(E12:E18) -> 0 | G18: =AVERAGE(E2:E18) -> 0 | H18: =IFERROR(F18/G18, 0) -> 0
A19: 18 | E19: =IF(C19="",0,C19*D19) -> 0 | F19: =AVERAGE(E13:E19) -> 0 | G19: =AVERAGE(E2:E19) -> 0 | H19: =IFERROR(F19/G19, 0) -> 0
A20: 19 | E20: =IF(C20="",0,C20*D20) -> 0 | F20: =AVERAGE(E14:E20) -> 0 | G20: =AVERAGE(E2:E20) -> 0 | H20: =IFERROR(F20/G20, 0) -> 0
A21: 20 | E21: =IF(C21="",0,C21*D21) -> 0 | F21: =AVERAGE(E15:E21) -> 0 | G21: =AVERAGE(E2:E21) -> 0 | H21: =IFERROR(F21/G21, 0) -> 0
A22: 21 | E22: =IF(C22="",0,C22*D22) -> 0 | F22: =AVERAGE(E16:E22) -> 0 | G22: =AVERAGE(E2:E22) -> 0 | H22: =IFERROR(F22/G22, 0) -> 0
A23: 22 | E23: =IF(C23="",0,C23*D23) -> 0 | F23: =AVERAGE(E17:E23) -> 0 | G23: =AVERAGE(E2:E23) -> 0 | H23: =IFERROR(F23/G23, 0) -> 0
A24: 23 | E24: =IF(C24="",0,C24*D24) -> 0 | F24: =AVERAGE(E18:E24) -> 0 | G24: =AVERAGE(E2:E24) -> 0 | H24: =IFERROR(F24/G24, 0) -> 0
A25: 24 | E25: =IF(C25="",0,C25*D25) -> 0 | F25: =AVERAGE(E19:E25) -> 0 | G25: =AVERAGE(E2:E25) -> 0 | H25: =IFERROR(F25/G25, 0) -> 0
A26: 25 | E26: =IF(C26="",0,C26*D26) -> 0 | F26: =AVERAGE(E20:E26) -> 0 | G26: =AVERAGE(E2:E26) -> 0 | H26: =IFERROR(F26/G26, 0) -> 0
A27: 26 | E27: =IF(C27="",0,C27*D27) -> 0 | F27: =AVERAGE(E21:E27) -> 0 | G27: =AVERAGE(E2:E27) -> 0 | H27: =IFERROR(F27/G27, 0) -> 0
A28: 27 | E28: =IF(C28="",0,C28*D28) -> 0 | F28: =AVERAGE(E22:E28) -> 0 | G28: =AVERAGE(E2:E28) -> 0 | H28: =IFERROR(F28/G28, 0) -> 0
A29: 28 | E29: =IF(C29="",0,C29*D29) -> 0 | F29: =AVERAGE(E23:E29) -> 0 | G29: =AVERAGE(E2:E29) -> 0 | H29: =IFERROR(F29/G29, 0) -> 0
A30: 29 | E30: =IF(C30="",0,C30*D30) -> 0 | F30: =AVERAGE(E24:E30) -> 0 | G30: =AVERAGE(E3:E30) -> 0 | H30: =IFERROR(F30/G30, 0) -> 0
A31: 30 | E31: =IF(C31="",0,C31*D31) -> 0 | F31: =AVERAGE(E25:E31) -> 0 | G31: =AVERAGE(E4:E31) -> 0 | H31: =IFERROR(F31/G31, 0) -> 0
A32: 31 | E32: =IF(C32="",0,C32*D32) -> 0 | F32: =AVERAGE(E26:E32) -> 0 | G32: =AVERAGE(E5:E32) -> 0 | H32: =IFERROR(F32/G32, 0) -> 0
A33: 32 | E33: =IF(C33="",0,C33*D33) -> 0 | F33: =AVERAGE(E27:E33) -> 0 | G33: =AVERAGE(E6:E33) -> 0 | H33: =IFERROR(F33/G33, 0) -> 0
A34: 33 | E34: =IF(C34="",0,C34*D34) -> 0 | F34: =AVERAGE(E28:E34) -> 0 | G34: =AVERAGE(E7:E34) -> 0 | H34: =IFERROR(F34/G34, 0) -> 0
A35: 34 | E35: =IF(C35="",0,C35*D35) -> 0 | F35: =AVERAGE(E29:E35) -> 0 | G35: =AVERAGE(E8:E35) -> 0 | H35: =IFERROR(F35/G35, 0) -> 0
A36: 35 | E36: =IF(C36="",0,C36*D36) -> 0 | F36: =AVERAGE(E30:E36) -> 0 | G36: =AVERAGE(E9:E36) -> 0 | H36: =IFERROR(F36/G36, 0) -> 0
A37: 36 | E37: =IF(C37="",0,C37*D37) -> 0 | F37: =AVERAGE(E31:E37) -> 0 | G37: =AVERAGE(E10:E37) -> 0 | H37: =IFERROR(F37/G37, 0) -> 0
A38: 37 | E38: =IF(C38="",0,C38*D38) -> 0 | F38: =AVERAGE(E32:E38) -> 0 | G38: =AVERAGE(E11:E38) -> 0 | H38: =IFERROR(F38/G38, 0) -> 0
A39: 38 | E39: =IF(C39="",0,C39*D39) -> 0 | F39: =AVERAGE(E33:E39) -> 0 | G39: =AVERAGE(E12:E39) -> 0 | H39: =IFERROR(F39/G39, 0) -> 0
A40: 39 | E40: =IF(C40="",0,C40*D40) -> 0 | F40: =AVERAGE(E34:E40) -> 0 | G40: =AVERAGE(E13:E40) -> 0 | H40: =IFERROR(F40/G40, 0) -> 0
... A301: 300 | E301: =IF(C301="",0,C301*D301) -> 0 | F301: =AVERAGE(E295:E301) -> 0 | G301: =AVERAGE(E274:E301) -> 0 | H301: =IFERROR(F301/G301, 0) -> 0
H302: =LOOKUP(2,1/(C2:C301<>""),H2:H301) -> #N/A

Sheet Giocatore 22
A1: Giorno Progressivo | B1: Data (Opzionale) | C1: RPE (1-10) | D1: Durata (min) | E1: Session RPE (UA) | F1: Carico Acuto (Media 7g) | G1: Carico Cronico (Media 28g) | H1: ACWR
A2: 1 | E2: =IF(C2="",0,C2*D2) -> 0 | F2: =AVERAGE(E2:E2) -> 0 | G2: =AVERAGE(E2:E2) -> 0 | H2: =IFERROR(F2/G2, 0) -> 0
A3: 2 | E3: =IF(C3="",0,C3*D3) -> 0 | F3: =AVERAGE(E2:E3) -> 0 | G3: =AVERAGE(E2:E3) -> 0 | H3: =IFERROR(F3/G3, 0) -> 0
A4: 3 | E4: =IF(C4="",0,C4*D4) -> 0 | F4: =AVERAGE(E2:E4) -> 0 | G4: =AVERAGE(E2:E4) -> 0 | H4: =IFERROR(F4/G4, 0) -> 0
A5: 4 | E5: =IF(C5="",0,C5*D5) -> 0 | F5: =AVERAGE(E2:E5) -> 0 | G5: =AVERAGE(E2:E5) -> 0 | H5: =IFERROR(F5/G5, 0) -> 0
A6: 5 | E6: =IF(C6="",0,C6*D6) -> 0 | F6: =AVERAGE(E2:E6) -> 0 | G6: =AVERAGE(E2:E6) -> 0 | H6: =IFERROR(F6/G6, 0) -> 0
A7: 6 | E7: =IF(C7="",0,C7*D7) -> 0 | F7: =AVERAGE(E2:E7) -> 0 | G7: =AVERAGE(E2:E7) -> 0 | H7: =IFERROR(F7/G7, 0) -> 0
A8: 7 | E8: =IF(C8="",0,C8*D8) -> 0 | F8: =AVERAGE(E2:E8) -> 0 | G8: =AVERAGE(E2:E8) -> 0 | H8: =IFERROR(F8/G8, 0) -> 0
A9: 8 | E9: =IF(C9="",0,C9*D9) -> 0 | F9: =AVERAGE(E3:E9) -> 0 | G9: =AVERAGE(E2:E9) -> 0 | H9: =IFERROR(F9/G9, 0) -> 0
A10: 9 | E10: =IF(C10="",0,C10*D10) -> 0 | F10: =AVERAGE(E4:E10) -> 0 | G10: =AVERAGE(E2:E10) -> 0 | H10: =IFERROR(F10/G10, 0) -> 0
A11: 10 | E11: =IF(C11="",0,C11*D11) -> 0 | F11: =AVERAGE(E5:E11) -> 0 | G11: =AVERAGE(E2:E11) -> 0 | H11: =IFERROR(F11/G11, 0) -> 0
A12: 11 | E12: =IF(C12="",0,C12*D12) -> 0 | F12: =AVERAGE(E6:E12) -> 0 | G12: =AVERAGE(E2:E12) -> 0 | H12: =IFERROR(F12/G12, 0) -> 0
A13: 12 | E13: =IF(C13="",0,C13*D13) -> 0 | F13: =AVERAGE(E7:E13) -> 0 | G13: =AVERAGE(E2:E13) -> 0 | H13: =IFERROR(F13/G13, 0) -> 0
A14: 13 | E14: =IF(C14="",0,C14*D14) -> 0 | F14: =AVERAGE(E8:E14) -> 0 | G14: =AVERAGE(E2:E14) -> 0 | H14: =IFERROR(F14/G14, 0) -> 0
A15: 14 | E15: =IF(C15="",0,C15*D15) -> 0 | F15: =AVERAGE(E9:E15) -> 0 | G15: =AVERAGE(E2:E15) -> 0 | H15: =IFERROR(F15/G15, 0) -> 0
A16: 15 | E16: =IF(C16="",0,C16*D16) -> 0 | F16: =AVERAGE(E10:E16) -> 0 | G16: =AVERAGE(E2:E16) -> 0 | H16: =IFERROR(F16/G16, 0) -> 0
A17: 16 | E17: =IF(C17="",0,C17*D17) -> 0 | F17: =AVERAGE(E11:E17) -> 0 | G17: =AVERAGE(E2:E17) -> 0 | H17: =IFERROR(F17/G17, 0) -> 0
A18: 17 | E18: =IF(C18="",0,C18*D18) -> 0 | F18: =AVERAGE(E12:E18) -> 0 | G18: =AVERAGE(E2:E18) -> 0 | H18: =IFERROR(F18/G18, 0) -> 0
A19: 18 | E19: =IF(C19="",0,C19*D19) -> 0 | F19: =AVERAGE(E13:E19) -> 0 | G19: =AVERAGE(E2:E19) -> 0 | H19: =IFERROR(F19/G19, 0) -> 0
A20: 19 | E20: =IF(C20="",0,C20*D20) -> 0 | F20: =AVERAGE(E14:E20) -> 0 | G20: =AVERAGE(E2:E20) -> 0 | H20: =IFERROR(F20/G20, 0) -> 0
A21: 20 | E21: =IF(C21="",0,C21*D21) -> 0 | F21: =AVERAGE(E15:E21) -> 0 | G21: =AVERAGE(E2:E21) -> 0 | H21: =IFERROR(F21/G21, 0) -> 0
A22: 21 | E22: =IF(C22="",0,C22*D22) -> 0 | F22: =AVERAGE(E16:E22) -> 0 | G22: =AVERAGE(E2:E22) -> 0 | H22: =IFERROR(F22/G22, 0) -> 0
A23: 22 | E23: =IF(C23="",0,C23*D23) -> 0 | F23: =AVERAGE(E17:E23) -> 0 | G23: =AVERAGE(E2:E23) -> 0 | H23: =IFERROR(F23/G23, 0) -> 0
A24: 23 | E24: =IF(C24="",0,C24*D24) -> 0 | F24: =AVERAGE(E18:E24) -> 0 | G24: =AVERAGE(E2:E24) -> 0 | H24: =IFERROR(F24/G24, 0) -> 0
A25: 24 | E25: =IF(C25="",0,C25*D25) -> 0 | F25: =AVERAGE(E19:E25) -> 0 | G25: =AVERAGE(E2:E25) -> 0 | H25: =IFERROR(F25/G25, 0) -> 0
A26: 25 | E26: =IF(C26="",0,C26*D26) -> 0 | F26: =AVERAGE(E20:E26) -> 0 | G26: =AVERAGE(E2:E26) -> 0 | H26: =IFERROR(F26/G26, 0) -> 0
A27: 26 | E27: =IF(C27="",0,C27*D27) -> 0 | F27: =AVERAGE(E21:E27) -> 0 | G27: =AVERAGE(E2:E27) -> 0 | H27: =IFERROR(F27/G27, 0) -> 0
A28: 27 | E28: =IF(C28="",0,C28*D28) -> 0 | F28: =AVERAGE(E22:E28) -> 0 | G28: =AVERAGE(E2:E28) -> 0 | H28: =IFERROR(F28/G28, 0) -> 0
A29: 28 | E29: =IF(C29="",0,C29*D29) -> 0 | F29: =AVERAGE(E23:E29) -> 0 | G29: =AVERAGE(E2:E29) -> 0 | H29: =IFERROR(F29/G29, 0) -> 0
A30: 29 | E30: =IF(C30="",0,C30*D30) -> 0 | F30: =AVERAGE(E24:E30) -> 0 | G30: =AVERAGE(E3:E30) -> 0 | H30: =IFERROR(F30/G30, 0) -> 0
A31: 30 | E31: =IF(C31="",0,C31*D31) -> 0 | F31: =AVERAGE(E25:E31) -> 0 | G31: =AVERAGE(E4:E31) -> 0 | H31: =IFERROR(F31/G31, 0) -> 0
A32: 31 | E32: =IF(C32="",0,C32*D32) -> 0 | F32: =AVERAGE(E26:E32) -> 0 | G32: =AVERAGE(E5:E32) -> 0 | H32: =IFERROR(F32/G32, 0) -> 0
A33: 32 | E33: =IF(C33="",0,C33*D33) -> 0 | F33: =AVERAGE(E27:E33) -> 0 | G33: =AVERAGE(E6:E33) -> 0 | H33: =IFERROR(F33/G33, 0) -> 0
A34: 33 | E34: =IF(C34="",0,C34*D34) -> 0 | F34: =AVERAGE(E28:E34) -> 0 | G34: =AVERAGE(E7:E34) -> 0 | H34: =IFERROR(F34/G34, 0) -> 0
A35: 34 | E35: =IF(C35="",0,C35*D35) -> 0 | F35: =AVERAGE(E29:E35) -> 0 | G35: =AVERAGE(E8:E35) -> 0 | H35: =IFERROR(F35/G35, 0) -> 0
A36: 35 | E36: =IF(C36="",0,C36*D36) -> 0 | F36: =AVERAGE(E30:E36) -> 0 | G36: =AVERAGE(E9:E36) -> 0 | H36: =IFERROR(F36/G36, 0) -> 0
A37: 36 | E37: =IF(C37="",0,C37*D37) -> 0 | F37: =AVERAGE(E31:E37) -> 0 | G37: =AVERAGE(E10:E37) -> 0 | H37: =IFERROR(F37/G37, 0) -> 0
A38: 37 | E38: =IF(C38="",0,C38*D38) -> 0 | F38: =AVERAGE(E32:E38) -> 0 | G38: =AVERAGE(E11:E38) -> 0 | H38: =IFERROR(F38/G38, 0) -> 0
A39: 38 | E39: =IF(C39="",0,C39*D39) -> 0 | F39: =AVERAGE(E33:E39) -> 0 | G39: =AVERAGE(E12:E39) -> 0 | H39: =IFERROR(F39/G39, 0) -> 0
A40: 39 | E40: =IF(C40="",0,C40*D40) -> 0 | F40: =AVERAGE(E34:E40) -> 0 | G40: =AVERAGE(E13:E40) -> 0 | H40: =IFERROR(F40/G40, 0) -> 0
... A301: 300 | E301: =IF(C301="",0,C301*D301) -> 0 | F301: =AVERAGE(E295:E301) -> 0 | G301: =AVERAGE(E274:E301) -> 0 | H301: =IFERROR(F301/G301, 0) -> 0
H302: =LOOKUP(2,1/(C2:C301<>""),H2:H301) -> #N/A

Sheet Giocatore 23
A1: Giorno Progressivo | B1: Data (Opzionale) | C1: RPE (1-10) | D1: Durata (min) | E1: Session RPE (UA) | F1: Carico Acuto (Media 7g) | G1: Carico Cronico (Media 28g) | H1: ACWR
A2: 1 | E2: =IF(C2="",0,C2*D2) -> 0 | F2: =AVERAGE(E2:E2) -> 0 | G2: =AVERAGE(E2:E2) -> 0 | H2: =IFERROR(F2/G2, 0) -> 0
A3: 2 | E3: =IF(C3="",0,C3*D3) -> 0 | F3: =AVERAGE(E2:E3) -> 0 | G3: =AVERAGE(E2:E3) -> 0 | H3: =IFERROR(F3/G3, 0) -> 0
A4: 3 | E4: =IF(C4="",0,C4*D4) -> 0 | F4: =AVERAGE(E2:E4) -> 0 | G4: =AVERAGE(E2:E4) -> 0 | H4: =IFERROR(F4/G4, 0) -> 0
A5: 4 | E5: =IF(C5="",0,C5*D5) -> 0 | F5: =AVERAGE(E2:E5) -> 0 | G5: =AVERAGE(E2:E5) -> 0 | H5: =IFERROR(F5/G5, 0) -> 0
A6: 5 | E6: =IF(C6="",0,C6*D6) -> 0 | F6: =AVERAGE(E2:E6) -> 0 | G6: =AVERAGE(E2:E6) -> 0 | H6: =IFERROR(F6/G6, 0) -> 0
A7: 6 | E7: =IF(C7="",0,C7*D7) -> 0 | F7: =AVERAGE(E2:E7) -> 0 | G7: =AVERAGE(E2:E7) -> 0 | H7: =IFERROR(F7/G7, 0) -> 0
A8: 7 | E8: =IF(C8="",0,C8*D8) -> 0 | F8: =AVERAGE(E2:E8) -> 0 | G8: =AVERAGE(E2:E8) -> 0 | H8: =IFERROR(F8/G8, 0) -> 0
A9: 8 | E9: =IF(C9="",0,C9*D9) -> 0 | F9: =AVERAGE(E3:E9) -> 0 | G9: =AVERAGE(E2:E9) -> 0 | H9: =IFERROR(F9/G9, 0) -> 0
A10: 9 | E10: =IF(C10="",0,C10*D10) -> 0 | F10: =AVERAGE(E4:E10) -> 0 | G10: =AVERAGE(E2:E10) -> 0 | H10: =IFERROR(F10/G10, 0) -> 0
A11: 10 | E11: =IF(C11="",0,C11*D11) -> 0 | F11: =AVERAGE(E5:E11) -> 0 | G11: =AVERAGE(E2:E11) -> 0 | H11: =IFERROR(F11/G11, 0) -> 0
A12: 11 | E12: =IF(C12="",0,C12*D12) -> 0 | F12: =AVERAGE(E6:E12) -> 0 | G12: =AVERAGE(E2:E12) -> 0 | H12: =IFERROR(F12/G12, 0) -> 0
A13: 12 | E13: =IF(C13="",0,C13*D13) -> 0 | F13: =AVERAGE(E7:E13) -> 0 | G13: =AVERAGE(E2:E13) -> 0 | H13: =IFERROR(F13/G13, 0) -> 0
A14: 13 | E14: =IF(C14="",0,C14*D14) -> 0 | F14: =AVERAGE(E8:E14) -> 0 | G14: =AVERAGE(E2:E14) -> 0 | H14: =IFERROR(F14/G14, 0) -> 0
A15: 14 | E15: =IF(C15="",0,C15*D15) -> 0 | F15: =AVERAGE(E9:E15) -> 0 | G15: =AVERAGE(E2:E15) -> 0 | H15: =IFERROR(F15/G15, 0) -> 0
A16: 15 | E16: =IF(C16="",0,C16*D16) -> 0 | F16: =AVERAGE(E10:E16) -> 0 | G16: =AVERAGE(E2:E16) -> 0 | H16: =IFERROR(F16/G16, 0) -> 0
A17: 16 | E17: =IF(C17="",0,C17*D17) -> 0 | F17: =AVERAGE(E11:E17) -> 0 | G17: =AVERAGE(E2:E17) -> 0 | H17: =IFERROR(F17/G17, 0) -> 0
A18: 17 | E18: =IF(C18="",0,C18*D18) -> 0 | F18: =AVERAGE(E12:E18) -> 0 | G18: =AVERAGE(E2:E18) -> 0 | H18: =IFERROR(F18/G18, 0) -> 0
A19: 18 | E19: =IF(C19="",0,C19*D19) -> 0 | F19: =AVERAGE(E13:E19) -> 0 | G19: =AVERAGE(E2:E19) -> 0 | H19: =IFERROR(F19/G19, 0) -> 0
A20: 19 | E20: =IF(C20="",0,C20*D20) -> 0 | F20: =AVERAGE(E14:E20) -> 0 | G20: =AVERAGE(E2:E20) -> 0 | H20: =IFERROR(F20/G20, 0) -> 0
A21: 20 | E21: =IF(C21="",0,C21*D21) -> 0 | F21: =AVERAGE(E15:E21) -> 0 | G21: =AVERAGE(E2:E21) -> 0 | H21: =IFERROR(F21/G21, 0) -> 0
A22: 21 | E22: =IF(C22="",0,C22*D22) -> 0 | F22: =AVERAGE(E16:E22) -> 0 | G22: =AVERAGE(E2:E22) -> 0 | H22: =IFERROR(F22/G22, 0) -> 0
A23: 22 | E23: =IF(C23="",0,C23*D23) -> 0 | F23: =AVERAGE(E17:E23) -> 0 | G23: =AVERAGE(E2:E23) -> 0 | H23: =IFERROR(F23/G23, 0) -> 0
A24: 23 | E24: =IF(C24="",0,C24*D24) -> 0 | F24: =AVERAGE(E18:E24) -> 0 | G24: =AVERAGE(E2:E24) -> 0 | H24: =IFERROR(F24/G24, 0) -> 0
A25: 24 | E25: =IF(C25="",0,C25*D25) -> 0 | F25: =AVERAGE(E19:E25) -> 0 | G25: =AVERAGE(E2:E25) -> 0 | H25: =IFERROR(F25/G25, 0) -> 0
A26: 25 | E26: =IF(C26="",0,C26*D26) -> 0 | F26: =AVERAGE(E20:E26) -> 0 | G26: =AVERAGE(E2:E26) -> 0 | H26: =IFERROR(F26/G26, 0) -> 0
A27: 26 | E27: =IF(C27="",0,C27*D27) -> 0 | F27: =AVERAGE(E21:E27) -> 0 | G27: =AVERAGE(E2:E27) -> 0 | H27: =IFERROR(F27/G27, 0) -> 0
A28: 27 | E28: =IF(C28="",0,C28*D28) -> 0 | F28: =AVERAGE(E22:E28) -> 0 | G28: =AVERAGE(E2:E28) -> 0 | H28: =IFERROR(F28/G28, 0) -> 0
A29: 28 | E29: =IF(C29="",0,C29*D29) -> 0 | F29: =AVERAGE(E23:E29) -> 0 | G29: =AVERAGE(E2:E29) -> 0 | H29: =IFERROR(F29/G29, 0) -> 0
A30: 29 | E30: =IF(C30="",0,C30*D30) -> 0 | F30: =AVERAGE(E24:E30) -> 0 | G30: =AVERAGE(E3:E30) -> 0 | H30: =IFERROR(F30/G30, 0) -> 0
A31: 30 | E31: =IF(C31="",0,C31*D31) -> 0 | F31: =AVERAGE(E25:E31) -> 0 | G31: =AVERAGE(E4:E31) -> 0 | H31: =IFERROR(F31/G31, 0) -> 0
A32: 31 | E32: =IF(C32="",0,C32*D32) -> 0 | F32: =AVERAGE(E26:E32) -> 0 | G32: =AVERAGE(E5:E32) -> 0 | H32: =IFERROR(F32/G32, 0) -> 0
A33: 32 | E33: =IF(C33="",0,C33*D33) -> 0 | F33: =AVERAGE(E27:E33) -> 0 | G33: =AVERAGE(E6:E33) -> 0 | H33: =IFERROR(F33/G33, 0) -> 0
A34: 33 | E34: =IF(C34="",0,C34*D34) -> 0 | F34: =AVERAGE(E28:E34) -> 0 | G34: =AVERAGE(E7:E34) -> 0 | H34: =IFERROR(F34/G34, 0) -> 0
A35: 34 | E35: =IF(C35="",0,C35*D35) -> 0 | F35: =AVERAGE(E29:E35) -> 0 | G35: =AVERAGE(E8:E35) -> 0 | H35: =IFERROR(F35/G35, 0) -> 0
A36: 35 | E36: =IF(C36="",0,C36*D36) -> 0 | F36: =AVERAGE(E30:E36) -> 0 | G36: =AVERAGE(E9:E36) -> 0 | H36: =IFERROR(F36/G36, 0) -> 0
A37: 36 | E37: =IF(C37="",0,C37*D37) -> 0 | F37: =AVERAGE(E31:E37) -> 0 | G37: =AVERAGE(E10:E37) -> 0 | H37: =IFERROR(F37/G37, 0) -> 0
A38: 37 | E38: =IF(C38="",0,C38*D38) -> 0 | F38: =AVERAGE(E32:E38) -> 0 | G38: =AVERAGE(E11:E38) -> 0 | H38: =IFERROR(F38/G38, 0) -> 0
A39: 38 | E39: =IF(C39="",0,C39*D39) -> 0 | F39: =AVERAGE(E33:E39) -> 0 | G39: =AVERAGE(E12:E39) -> 0 | H39: =IFERROR(F39/G39, 0) -> 0
A40: 39 | E40: =IF(C40="",0,C40*D40) -> 0 | F40: =AVERAGE(E34:E40) -> 0 | G40: =AVERAGE(E13:E40) -> 0 | H40: =IFERROR(F40/G40, 0) -> 0
... A301: 300 | E301: =IF(C301="",0,C301*D301) -> 0 | F301: =AVERAGE(E295:E301) -> 0 | G301: =AVERAGE(E274:E301) -> 0 | H301: =IFERROR(F301/G301, 0) -> 0
H302: =LOOKUP(2,1/(C2:C301<>""),H2:H301) -> #N/A

Sheet Giocatore 24
A1: Giorno Progressivo | B1: Data (Opzionale) | C1: RPE (1-10) | D1: Durata (min) | E1: Session RPE (UA) | F1: Carico Acuto (Media 7g) | G1: Carico Cronico (Media 28g) | H1: ACWR
A2: 1 | E2: =IF(C2="",0,C2*D2) -> 0 | F2: =AVERAGE(E2:E2) -> 0 | G2: =AVERAGE(E2:E2) -> 0 | H2: =IFERROR(F2/G2, 0) -> 0
A3: 2 | E3: =IF(C3="",0,C3*D3) -> 0 | F3: =AVERAGE(E2:E3) -> 0 | G3: =AVERAGE(E2:E3) -> 0 | H3: =IFERROR(F3/G3, 0) -> 0
A4: 3 | E4: =IF(C4="",0,C4*D4) -> 0 | F4: =AVERAGE(E2:E4) -> 0 | G4: =AVERAGE(E2:E4) -> 0 | H4: =IFERROR(F4/G4, 0) -> 0
A5: 4 | E5: =IF(C5="",0,C5*D5) -> 0 | F5: =AVERAGE(E2:E5) -> 0 | G5: =AVERAGE(E2:E5) -> 0 | H5: =IFERROR(F5/G5, 0) -> 0
A6: 5 | E6: =IF(C6="",0,C6*D6) -> 0 | F6: =AVERAGE(E2:E6) -> 0 | G6: =AVERAGE(E2:E6) -> 0 | H6: =IFERROR(F6/G6, 0) -> 0
A7: 6 | E7: =IF(C7="",0,C7*D7) -> 0 | F7: =AVERAGE(E2:E7) -> 0 | G7: =AVERAGE(E2:E7) -> 0 | H7: =IFERROR(F7/G7, 0) -> 0
A8: 7 | E8: =IF(C8="",0,C8*D8) -> 0 | F8: =AVERAGE(E2:E8) -> 0 | G8: =AVERAGE(E2:E8) -> 0 | H8: =IFERROR(F8/G8, 0) -> 0
A9: 8 | E9: =IF(C9="",0,C9*D9) -> 0 | F9: =AVERAGE(E3:E9) -> 0 | G9: =AVERAGE(E2:E9) -> 0 | H9: =IFERROR(F9/G9, 0) -> 0
A10: 9 | E10: =IF(C10="",0,C10*D10) -> 0 | F10: =AVERAGE(E4:E10) -> 0 | G10: =AVERAGE(E2:E10) -> 0 | H10: =IFERROR(F10/G10, 0) -> 0
A11: 10 | E11: =IF(C11="",0,C11*D11) -> 0 | F11: =AVERAGE(E5:E11) -> 0 | G11: =AVERAGE(E2:E11) -> 0 | H11: =IFERROR(F11/G11, 0) -> 0
A12: 11 | E12: =IF(C12="",0,C12*D12) -> 0 | F12: =AVERAGE(E6:E12) -> 0 | G12: =AVERAGE(E2:E12) -> 0 | H12: =IFERROR(F12/G12, 0) -> 0
A13: 12 | E13: =IF(C13="",0,C13*D13) -> 0 | F13: =AVERAGE(E7:E13) -> 0 | G13: =AVERAGE(E2:E13) -> 0 | H13: =IFERROR(F13/G13, 0) -> 0
A14: 13 | E14: =IF(C14="",0,C14*D14) -> 0 | F14: =AVERAGE(E8:E14) -> 0 | G14: =AVERAGE(E2:E14) -> 0 | H14: =IFERROR(F14/G14, 0) -> 0
A15: 14 | E15: =IF(C15="",0,C15*D15) -> 0 | F15: =AVERAGE(E9:E15) -> 0 | G15: =AVERAGE(E2:E15) -> 0 | H15: =IFERROR(F15/G15, 0) -> 0
A16: 15 | E16: =IF(C16="",0,C16*D16) -> 0 | F16: =AVERAGE(E10:E16) -> 0 | G16: =AVERAGE(E2:E16) -> 0 | H16: =IFERROR(F16/G16, 0) -> 0
A17: 16 | E17: =IF(C17="",0,C17*D17) -> 0 | F17: =AVERAGE(E11:E17) -> 0 | G17: =AVERAGE(E2:E17) -> 0 | H17: =IFERROR(F17/G17, 0) -> 0
A18: 17 | E18: =IF(C18="",0,C18*D18) -> 0 | F18: =AVERAGE(E12:E18) -> 0 | G18: =AVERAGE(E2:E18) -> 0 | H18: =IFERROR(F18/G18, 0) -> 0
A19: 18 | E19: =IF(C19="",0,C19*D19) -> 0 | F19: =AVERAGE(E13:E19) -> 0 | G19: =AVERAGE(E2:E19) -> 0 | H19: =IFERROR(F19/G19, 0) -> 0
A20: 19 | E20: =IF(C20="",0,C20*D20) -> 0 | F20: =AVERAGE(E14:E20) -> 0 | G20: =AVERAGE(E2:E20) -> 0 | H20: =IFERROR(F20/G20, 0) -> 0
A21: 20 | E21: =IF(C21="",0,C21*D21) -> 0 | F21: =AVERAGE(E15:E21) -> 0 | G21: =AVERAGE(E2:E21) -> 0 | H21: =IFERROR(F21/G21, 0) -> 0
A22: 21 | E22: =IF(C22="",0,C22*D22) -> 0 | F22: =AVERAGE(E16:E22) -> 0 | G22: =AVERAGE(E2:E22) -> 0 | H22: =IFERROR(F22/G22, 0) -> 0
A23: 22 | E23: =IF(C23="",0,C23*D23) -> 0 | F23: =AVERAGE(E17:E23) -> 0 | G23: =AVERAGE(E2:E23) -> 0 | H23: =IFERROR(F23/G23, 0) -> 0
A24: 23 | E24: =IF(C24="",0,C24*D24) -> 0 | F24: =AVERAGE(E18:E24) -> 0 | G24: =AVERAGE(E2:E24) -> 0 | H24: =IFERROR(F24/G24, 0) -> 0
A25: 24 | E25: =IF(C25="",0,C25*D25) -> 0 | F25: =AVERAGE(E19:E25) -> 0 | G25: =AVERAGE(E2:E25) -> 0 | H25: =IFERROR(F25/G25, 0) -> 0
A26: 25 | E26: =IF(C26="",0,C26*D26) -> 0 | F26: =AVERAGE(E20:E26) -> 0 | G26: =AVERAGE(E2:E26) -> 0 | H26: =IFERROR(F26/G26, 0) -> 0
A27: 26 | E27: =IF(C27="",0,C27*D27) -> 0 | F27: =AVERAGE(E21:E27) -> 0 | G27: =AVERAGE(E2:E27) -> 0 | H27: =IFERROR(F27/G27, 0) -> 0
A28: 27 | E28: =IF(C28="",0,C28*D28) -> 0 | F28: =AVERAGE(E22:E28) -> 0 | G28: =AVERAGE(E2:E28) -> 0 | H28: =IFERROR(F28/G28, 0) -> 0
A29: 28 | E29: =IF(C29="",0,C29*D29) -> 0 | F29: =AVERAGE(E23:E29) -> 0 | G29: =AVERAGE(E2:E29) -> 0 | H29: =IFERROR(F29/G29, 0) -> 0
A30: 29 | E30: =IF(C30="",0,C30*D30) -> 0 | F30: =AVERAGE(E24:E30) -> 0 | G30: =AVERAGE(E3:E30) -> 0 | H30: =IFERROR(F30/G30, 0) -> 0
A31: 30 | E31: =IF(C31="",0,C31*D31) -> 0 | F31: =AVERAGE(E25:E31) -> 0 | G31: =AVERAGE(E4:E31) -> 0 | H31: =IFERROR(F31/G31, 0) -> 0
A32: 31 | E32: =IF(C32="",0,C32*D32) -> 0 | F32: =AVERAGE(E26:E32) -> 0 | G32: =AVERAGE(E5:E32) -> 0 | H32: =IFERROR(F32/G32, 0) -> 0
A33: 32 | E33: =IF(C33="",0,C33*D33) -> 0 | F33: =AVERAGE(E27:E33) -> 0 | G33: =AVERAGE(E6:E33) -> 0 | H33: =IFERROR(F33/G33, 0) -> 0
A34: 33 | E34: =IF(C34="",0,C34*D34) -> 0 | F34: =AVERAGE(E28:E34) -> 0 | G34: =AVERAGE(E7:E34) -> 0 | H34: =IFERROR(F34/G34, 0) -> 0
A35: 34 | E35: =IF(C35="",0,C35*D35) -> 0 | F35: =AVERAGE(E29:E35) -> 0 | G35: =AVERAGE(E8:E35) -> 0 | H35: =IFERROR(F35/G35, 0) -> 0
A36: 35 | E36: =IF(C36="",0,C36*D36) -> 0 | F36: =AVERAGE(E30:E36) -> 0 | G36: =AVERAGE(E9:E36) -> 0 | H36: =IFERROR(F36/G36, 0) -> 0
A37: 36 | E37: =IF(C37="",0,C37*D37) -> 0 | F37: =AVERAGE(E31:E37) -> 0 | G37: =AVERAGE(E10:E37) -> 0 | H37: =IFERROR(F37/G37, 0) -> 0
A38: 37 | E38: =IF(C38="",0,C38*D38) -> 0 | F38: =AVERAGE(E32:E38) -> 0 | G38: =AVERAGE(E11:E38) -> 0 | H38: =IFERROR(F38/G38, 0) -> 0
A39: 38 | E39: =IF(C39="",0,C39*D39) -> 0 | F39: =AVERAGE(E33:E39) -> 0 | G39: =AVERAGE(E12:E39) -> 0 | H39: =IFERROR(F39/G39, 0) -> 0
A40: 39 | E40: =IF(C40="",0,C40*D40) -> 0 | F40: =AVERAGE(E34:E40) -> 0 | G40: =AVERAGE(E13:E40) -> 0 | H40: =IFERROR(F40/G40, 0) -> 0
... A301: 300 | E301: =IF(C301="",0,C301*D301) -> 0 | F301: =AVERAGE(E295:E301) -> 0 | G301: =AVERAGE(E274:E301) -> 0 | H301: =IFERROR(F301/G301, 0) -> 0
H302: =LOOKUP(2,1/(C2:C301<>""),H2:H301) -> #N/A
